BEGIN:VCALENDAR
VERSION:2.0
PRODID:-//EZFacility.com, Inc.//EZL 2.5.5.28621
BEGIN:VEVENT
UID:16960753@ezleagues.ezfacility.com
DTSTAMP:20260424T043302Z
CREATED:20260424T043302Z
DTSTART:20260108T020000Z
DTEND:20260108T030000Z
LOCATION:Field 3 BLD
CONTACT:
SUMMARY:Dptvo Mari FC VS. Los Guerreros
DESCRIPTION:League Name: MIERCOLES *2 DIVISION* 1/07\nGame Type: Regular\nG
 ame Status: Complete\nHome Team: Dptvo Mari FC\nAway Team: Los Guerreros\n
 Home Score: 18\nAway Score: 8
END:VEVENT
BEGIN:VEVENT
UID:16970053@ezleagues.ezfacility.com
DTSTAMP:20260424T043302Z
CREATED:20260424T043302Z
DTSTART:20260115T020000Z
DTEND:20260115T030000Z
LOCATION:Field 4 BLD
CONTACT:
SUMMARY:Al-Nassr FC VS. Dptvo Mari FC
DESCRIPTION:League Name: MIERCOLES *2 DIVISION* 1/07\nGame Type: Regular\nG
 ame Status: Complete\nHome Team: Al-Nassr FC\nAway Team: Dptvo Mari FC\nHo
 me Score: 6\nAway Score: 21
END:VEVENT
BEGIN:VEVENT
UID:16984631@ezleagues.ezfacility.com
DTSTAMP:20260424T043302Z
CREATED:20260424T043302Z
DTSTART:20260122T010000Z
DTEND:20260122T020000Z
LOCATION:Field 5 BLD
CONTACT:
SUMMARY:Dptvo Mari FC VS. Queretaro
DESCRIPTION:League Name: MIERCOLES *2 DIVISION* 1/07\nGame Type: Regular\nG
 ame Status: Complete\nHome Team: Dptvo Mari FC\nAway Team: Queretaro\nHome
  Score: 14\nAway Score: 4
END:VEVENT
BEGIN:VEVENT
UID:17004712@ezleagues.ezfacility.com
DTSTAMP:20260424T043302Z
CREATED:20260424T043302Z
DTSTART:20260205T010000Z
DTEND:20260205T020000Z
LOCATION:Field 5 BLD
CONTACT:
SUMMARY:Inter Mexico VS. Dptvo Mari FC
DESCRIPTION:League Name: MIERCOLES *2 DIVISION* 1/07\nGame Type: Regular\nG
 ame Status: Complete\nHome Team: Inter Mexico\nAway Team: Dptvo Mari FC\nH
 ome Score: 9\nAway Score: 16
END:VEVENT
BEGIN:VEVENT
UID:17022195@ezleagues.ezfacility.com
DTSTAMP:20260424T043302Z
CREATED:20260424T043302Z
DTSTART:20260212T010000Z
DTEND:20260212T020000Z
LOCATION:Field 5 BLD
CONTACT:
SUMMARY:JCruz VS. Dptvo Mari FC
DESCRIPTION:League Name: MIERCOLES *2 DIVISION* 1/07\nGame Type: Regular\nG
 ame Status: Complete\nHome Team: JCruz\nAway Team: Dptvo Mari FC\nHome Sco
 re: 6\nAway Score: 22
END:VEVENT
BEGIN:VEVENT
UID:17038544@ezleagues.ezfacility.com
DTSTAMP:20260424T043302Z
CREATED:20260424T043302Z
DTSTART:20260219T010000Z
DTEND:20260219T020000Z
LOCATION:Field 1 BLD
CONTACT:
SUMMARY:Dptvo Mari FC VS. All American Security
DESCRIPTION:League Name: MIERCOLES *2 DIVISION* 1/07\nGame Type: Regular\nG
 ame Status: Complete\nHome Team: Dptvo Mari FC\nAway Team: All American Se
 curity\nHome Score: 19\nAway Score: 15
END:VEVENT
BEGIN:VEVENT
UID:17038548@ezleagues.ezfacility.com
DTSTAMP:20260424T043302Z
CREATED:20260424T043302Z
DTSTART:20260226T010000Z
DTEND:20260226T020000Z
LOCATION:Field 5 BLD
CONTACT:
SUMMARY:Tierra Caliente VS. Dptvo Mari FC
DESCRIPTION:League Name: MIERCOLES *2 DIVISION* 1/07\nGame Type: Regular\nG
 ame Status: Complete\nHome Team: Tierra Caliente\nAway Team: Dptvo Mari FC
 \nHome Score: 5\nAway Score: 10
END:VEVENT
BEGIN:VEVENT
UID:17050207@ezleagues.ezfacility.com
DTSTAMP:20260424T043302Z
CREATED:20260424T043302Z
DTSTART:20260304T180000Z
DTEND:20260304T190000Z
LOCATION:Field 1 BLD
CONTACT:
SUMMARY:Dptvo Mari FC VS. Limeño FC
DESCRIPTION:League Name: MIERCOLES *2 DIVISION* 1/07\nGame Type: Regular\nG
 ame Status: Complete\nHome Team: Dptvo Mari FC\nAway Team: Limeño FC\nHom
 e Score: 10\nAway Score: 6
END:VEVENT
BEGIN:VEVENT
UID:17053166@ezleagues.ezfacility.com
DTSTAMP:20260424T043302Z
CREATED:20260424T043302Z
DTSTART:20260311T180000Z
DTEND:20260311T190000Z
LOCATION:Field 2 BLD
CONTACT:
SUMMARY:Dptvo Mari FC VS. Pacific FC
DESCRIPTION:League Name: MIERCOLES *2 DIVISION* 1/07\nGame Type: Regular\nG
 ame Status: Complete\nHome Team: Dptvo Mari FC\nAway Team: Pacific FC\nHom
 e Score: 13\nAway Score: 9
END:VEVENT
BEGIN:VEVENT
UID:17064917@ezleagues.ezfacility.com
DTSTAMP:20260424T043302Z
CREATED:20260424T043302Z
DTSTART:20260318T180000Z
DTEND:20260318T190000Z
LOCATION:Field 2 BLD
CONTACT:
SUMMARY:Dptvo Mari FC VS. Pumas
DESCRIPTION:League Name: MIERCOLES *2 DIVISION* 1/07\nGame Type: Regular\nG
 ame Status: Complete\nHome Team: Dptvo Mari FC\nAway Team: Pumas\nHome Sco
 re: 19\nAway Score: 15
END:VEVENT
BEGIN:VEVENT
UID:17074165@ezleagues.ezfacility.com
DTSTAMP:20260424T043302Z
CREATED:20260424T043302Z
DTSTART:20260325T180000Z
DTEND:20260325T190000Z
LOCATION:Field 2 BLD
CONTACT:
SUMMARY:Dptvo Mari FC VS. South Winston FC
DESCRIPTION:League Name: MIERCOLES *2 DIVISION* 1/07\nGame Type: Regular\nG
 ame Status: Complete\nHome Team: Dptvo Mari FC\nAway Team: South Winston F
 C\nHome Score: 14\nAway Score: 6
END:VEVENT
BEGIN:VEVENT
UID:17090504@ezleagues.ezfacility.com
DTSTAMP:20260424T043302Z
CREATED:20260424T043302Z
DTSTART:20260401T180000Z
DTEND:20260401T190000Z
LOCATION:Field 2 BLD
CONTACT:
SUMMARY:Dptvo Mari FC VS. Lex's 11
DESCRIPTION:League Name: MIERCOLES *2 DIVISION* 1/07\nGame Type: Regular\nG
 ame Status: Complete\nHome Team: Dptvo Mari FC\nAway Team: Lex's 11\nHome 
 Score: 15\nAway Score: 13
END:VEVENT
BEGIN:VEVENT
UID:17095058@ezleagues.ezfacility.com
DTSTAMP:20260424T043302Z
CREATED:20260424T043302Z
DTSTART:20260408T170000Z
DTEND:20260408T180000Z
LOCATION:11vs11 Field 1 BET/H
CONTACT:
SUMMARY:Dptvo Mari FC VS. Real Villa
DESCRIPTION:League Name: MIERCOLES *2 DIVISION* 1/07\nGame Type: Regular\nG
 ame Status: Complete\nHome Team: Dptvo Mari FC\nAway Team: Real Villa\nHom
 e Score: 17\nAway Score: 14
END:VEVENT
END:VCALENDAR
