BEGIN:VCALENDAR
VERSION:2.0
PRODID:-//EZFacility.com, Inc.//EZL 2.5.5.28621
BEGIN:VEVENT
UID:16962286@ezleagues.ezfacility.com
DTSTAMP:20260419T162953Z
CREATED:20260419T162953Z
DTSTART:20260116T230000Z
DTEND:20260117T000000Z
LOCATION:Terwilliger C
CONTACT:
SUMMARY:Team 08 VS. Team 09
DESCRIPTION:League Name: Girls Winter 10U Tourn. \nGame Type: Regular\nGame
  Status: Pending\nHome Team: Team 08\nAway Team: Team 09\n
END:VEVENT
END:VCALENDAR
