BEGIN:VCALENDAR
VERSION:2.0
PRODID:-//EZFacility.com, Inc.//EZL 2.5.5.28621
BEGIN:VEVENT
UID:16992676@ezleagues.ezfacility.com
DTSTAMP:20260426T033436Z
CREATED:20260426T033436Z
DTSTART:20260202T190000Z
DTEND:20260202T200000Z
LOCATION:Table Tennis Table #1
CONTACT:
SUMMARY:Diana Gonzalez VS. ChubHub (Deepka Jangra)
DESCRIPTION:League Name: SAT - Table Tennis Group #1\nGame Type: Regular\nG
 ame Status: Complete\nHome Team: Diana Gonzalez\nAway Team: ChubHub (Deepk
 a Jangra)\nHome Score: 0\nAway Score: 0
END:VEVENT
BEGIN:VEVENT
UID:16992683@ezleagues.ezfacility.com
DTSTAMP:20260426T033436Z
CREATED:20260426T033436Z
DTSTART:20260209T190000Z
DTEND:20260209T200000Z
LOCATION:Table Tennis Table #1
CONTACT:
SUMMARY:Diana Gonzalez VS. Mind Flay-ers (Nikhil Battini)
DESCRIPTION:League Name: SAT - Table Tennis Group #1\nGame Type: Regular\nG
 ame Status: Complete\nHome Team: Diana Gonzalez\nAway Team: Mind Flay-ers 
 (Nikhil Battini)\nHome Score: 0\nAway Score: 0
END:VEVENT
BEGIN:VEVENT
UID:16992690@ezleagues.ezfacility.com
DTSTAMP:20260426T033436Z
CREATED:20260426T033436Z
DTSTART:20260216T190000Z
DTEND:20260216T200000Z
LOCATION:Table Tennis Table #1
CONTACT:
SUMMARY:Diana Gonzalez VS. chris_androne
DESCRIPTION:League Name: SAT - Table Tennis Group #1\nGame Type: Regular\nG
 ame Status: Complete\nHome Team: Diana Gonzalez\nAway Team: chris_androne\
 nHome Score: 0\nAway Score: 0
END:VEVENT
BEGIN:VEVENT
UID:16992697@ezleagues.ezfacility.com
DTSTAMP:20260426T033436Z
CREATED:20260426T033436Z
DTSTART:20260223T190000Z
DTEND:20260223T200000Z
LOCATION:Table Tennis Table #1
CONTACT:
SUMMARY:Diana Gonzalez VS. Ken Walter
DESCRIPTION:League Name: SAT - Table Tennis Group #1\nGame Type: Regular\nG
 ame Status: Complete\nHome Team: Diana Gonzalez\nAway Team: Ken Walter\nHo
 me Score: 0\nAway Score: 0
END:VEVENT
BEGIN:VEVENT
UID:16992704@ezleagues.ezfacility.com
DTSTAMP:20260426T033436Z
CREATED:20260426T033436Z
DTSTART:20260302T190000Z
DTEND:20260302T200000Z
LOCATION:Table Tennis Table #1
CONTACT:
SUMMARY:Diana Gonzalez VS. Mean Machine (Pablo Varela Rojas)
DESCRIPTION:League Name: SAT - Table Tennis Group #1\nGame Type: Regular\nG
 ame Status: Complete\nHome Team: Diana Gonzalez\nAway Team: Mean Machine (
 Pablo Varela Rojas)\nHome Score: 0\nAway Score: 0
END:VEVENT
BEGIN:VEVENT
UID:16992710@ezleagues.ezfacility.com
DTSTAMP:20260426T033436Z
CREATED:20260426T033436Z
DTSTART:20260309T180000Z
DTEND:20260309T190000Z
LOCATION:Table Tennis Table #1
CONTACT:
SUMMARY:GabrielK (Gabriel Kily) VS. Diana Gonzalez
DESCRIPTION:League Name: SAT - Table Tennis Group #1\nGame Type: Regular\nG
 ame Status: Complete\nHome Team: GabrielK (Gabriel Kily)\nAway Team: Diana
  Gonzalez\nHome Score: 0\nAway Score: 0
END:VEVENT
BEGIN:VEVENT
UID:16992715@ezleagues.ezfacility.com
DTSTAMP:20260426T033436Z
CREATED:20260426T033436Z
DTSTART:20260316T180000Z
DTEND:20260316T190000Z
LOCATION:Table Tennis Table #1
CONTACT:
SUMMARY:Fabian Wallen 1st Place VS. Diana Gonzalez
DESCRIPTION:League Name: SAT - Table Tennis Group #1\nGame Type: Regular\nG
 ame Status: Complete\nHome Team: Fabian Wallen 1st Place\nAway Team: Diana
  Gonzalez\nHome Score: 3\nAway Score: 0
END:VEVENT
BEGIN:VEVENT
UID:16992720@ezleagues.ezfacility.com
DTSTAMP:20260426T033436Z
CREATED:20260426T033436Z
DTSTART:20260323T180000Z
DTEND:20260323T190000Z
LOCATION:Table Tennis Table #1
CONTACT:
SUMMARY:Garza Supreme (Cesar Garza) VS. Diana Gonzalez
DESCRIPTION:League Name: SAT - Table Tennis Group #1\nGame Type: Regular\nG
 ame Status: Complete\nHome Team: Garza Supreme (Cesar Garza)\nAway Team: D
 iana Gonzalez\nHome Score: 0\nAway Score: 0
END:VEVENT
BEGIN:VEVENT
UID:16992725@ezleagues.ezfacility.com
DTSTAMP:20260426T033436Z
CREATED:20260426T033436Z
DTSTART:20260330T180000Z
DTEND:20260330T190000Z
LOCATION:Table Tennis Table #1
CONTACT:
SUMMARY:Lord of the Pings! (Amit Paul) 2nd Place VS. Diana Gonzalez
DESCRIPTION:League Name: SAT - Table Tennis Group #1\nGame Type: Regular\nG
 ame Status: Complete\nHome Team: Lord of the Pings! (Amit Paul) 2nd Place\
 nAway Team: Diana Gonzalez\nHome Score: 3\nAway Score: 0
END:VEVENT
BEGIN:VEVENT
UID:16992730@ezleagues.ezfacility.com
DTSTAMP:20260426T033436Z
CREATED:20260426T033436Z
DTSTART:20260406T180000Z
DTEND:20260406T190000Z
LOCATION:Table Tennis Table #1
CONTACT:
SUMMARY:HOS (Steven Hawkins) 4th Place VS. Diana Gonzalez
DESCRIPTION:League Name: SAT - Table Tennis Group #1\nGame Type: Regular\nG
 ame Status: Complete\nHome Team: HOS (Steven Hawkins) 4th Place\nAway Team
 : Diana Gonzalez\nHome Score: 0\nAway Score: 0
END:VEVENT
BEGIN:VEVENT
UID:16992735@ezleagues.ezfacility.com
DTSTAMP:20260426T033436Z
CREATED:20260426T033436Z
DTSTART:20260413T180000Z
DTEND:20260413T190000Z
LOCATION:Table Tennis Table #1
CONTACT:
SUMMARY:Cheesy Poofs (Leo Valdez) 3rd Place VS. Diana Gonzalez
DESCRIPTION:League Name: SAT - Table Tennis Group #1\nGame Type: Regular\nG
 ame Status: Complete\nHome Team: Cheesy Poofs (Leo Valdez) 3rd Place\nAway
  Team: Diana Gonzalez\nHome Score: 0\nAway Score: 0
END:VEVENT
END:VCALENDAR
