BEGIN:VCALENDAR
VERSION:2.0
PRODID:-//EZFacility.com, Inc.//EZL 2.5.5.28621
BEGIN:VEVENT
UID:16963127@ezleagues.ezfacility.com
DTSTAMP:20260422T001239Z
CREATED:20260422T001239Z
DTSTART:20260122T030000Z
DTEND:20260122T035500Z
LOCATION:Indoor Arena A
CONTACT:
SUMMARY:LKW FC VS. Two Touch FC
DESCRIPTION:League Name: 2026 Adult Indoor Soccer League\nGame Type: Regula
 r\nGame Status: Complete\nHome Team: LKW FC\nAway Team: Two Touch FC\nHome
  Score: 11\nAway Score: 1
END:VEVENT
BEGIN:VEVENT
UID:16963138@ezleagues.ezfacility.com
DTSTAMP:20260422T001239Z
CREATED:20260422T001239Z
DTSTART:20260124T030000Z
DTEND:20260124T035500Z
LOCATION:Indoor Arena A
CONTACT:
SUMMARY:Goal-Oriented VS. Two Touch FC
DESCRIPTION:League Name: 2026 Adult Indoor Soccer League\nGame Type: Regula
 r\nGame Status: Complete\nHome Team: Goal-Oriented\nAway Team: Two Touch F
 C\nHome Score: 5\nAway Score: 11
END:VEVENT
BEGIN:VEVENT
UID:16963142@ezleagues.ezfacility.com
DTSTAMP:20260422T001239Z
CREATED:20260422T001239Z
DTSTART:20260127T043000Z
DTEND:20260127T052500Z
LOCATION:Indoor Arena A
CONTACT:
SUMMARY:Kiss my pass VS. Two Touch FC
DESCRIPTION:League Name: 2026 Adult Indoor Soccer League\nGame Type: Regula
 r\nGame Status: Complete\nHome Team: Kiss my pass\nAway Team: Two Touch FC
 \nHome Score: 12\nAway Score: 2
END:VEVENT
BEGIN:VEVENT
UID:16963162@ezleagues.ezfacility.com
DTSTAMP:20260422T001239Z
CREATED:20260422T001239Z
DTSTART:20260129T040000Z
DTEND:20260129T045500Z
LOCATION:Indoor Arena A
CONTACT:
SUMMARY:Troncos FC VS. Two Touch FC
DESCRIPTION:League Name: 2026 Adult Indoor Soccer League\nGame Type: Regula
 r\nGame Status: Complete\nHome Team: Troncos FC\nAway Team: Two Touch FC\n
 Home Score: 9\nAway Score: 4
END:VEVENT
BEGIN:VEVENT
UID:16963164@ezleagues.ezfacility.com
DTSTAMP:20260422T001239Z
CREATED:20260422T001239Z
DTSTART:20260203T043000Z
DTEND:20260203T052500Z
LOCATION:Indoor Arena A
CONTACT:
SUMMARY:ManChestHair United VS. Two Touch FC
DESCRIPTION:League Name: 2026 Adult Indoor Soccer League\nGame Type: Regula
 r\nGame Status: Complete\nHome Team: ManChestHair United\nAway Team: Two T
 ouch FC\nHome Score: 10\nAway Score: 4
END:VEVENT
BEGIN:VEVENT
UID:16963167@ezleagues.ezfacility.com
DTSTAMP:20260422T001239Z
CREATED:20260422T001239Z
DTSTART:20260205T040000Z
DTEND:20260205T045500Z
LOCATION:Indoor Arena A
CONTACT:
SUMMARY:Two Touch FC VS. Just for fun FC
DESCRIPTION:League Name: 2026 Adult Indoor Soccer League\nGame Type: Regula
 r\nGame Status: Complete\nHome Team: Two Touch FC\nAway Team: Just for fun
  FC\nHome Score: 2\nAway Score: 7
END:VEVENT
BEGIN:VEVENT
UID:16963186@ezleagues.ezfacility.com
DTSTAMP:20260422T001239Z
CREATED:20260422T001239Z
DTSTART:20260214T030000Z
DTEND:20260214T035500Z
LOCATION:Indoor Arena A
CONTACT:
SUMMARY:ManChestHair United VS. Two Touch FC
DESCRIPTION:League Name: 2026 Adult Indoor Soccer League\nGame Type: Regula
 r\nGame Status: Complete\nHome Team: ManChestHair United\nAway Team: Two T
 ouch FC\nHome Score: 9\nAway Score: 8
END:VEVENT
BEGIN:VEVENT
UID:16963200@ezleagues.ezfacility.com
DTSTAMP:20260422T001239Z
CREATED:20260422T001239Z
DTSTART:20260219T030000Z
DTEND:20260219T035500Z
LOCATION:Indoor Arena A
CONTACT:
SUMMARY:Two Touch FC VS. Just for fun FC
DESCRIPTION:League Name: 2026 Adult Indoor Soccer League\nGame Type: Regula
 r\nGame Status: Complete\nHome Team: Two Touch FC\nAway Team: Just for fun
  FC\nHome Score: 4\nAway Score: 10
END:VEVENT
BEGIN:VEVENT
UID:16963203@ezleagues.ezfacility.com
DTSTAMP:20260422T001239Z
CREATED:20260422T001239Z
DTSTART:20260221T030000Z
DTEND:20260221T035500Z
LOCATION:Indoor Arena A
CONTACT:
SUMMARY:Kiss my pass VS. Two Touch FC
DESCRIPTION:League Name: 2026 Adult Indoor Soccer League\nGame Type: Regula
 r\nGame Status: Complete\nHome Team: Kiss my pass\nAway Team: Two Touch FC
 \nHome Score: 6\nAway Score: 7
END:VEVENT
BEGIN:VEVENT
UID:16963208@ezleagues.ezfacility.com
DTSTAMP:20260422T001239Z
CREATED:20260422T001239Z
DTSTART:20260226T030000Z
DTEND:20260226T035500Z
LOCATION:Indoor Arena A
CONTACT:
SUMMARY:Goal-Oriented VS. Two Touch FC
DESCRIPTION:League Name: 2026 Adult Indoor Soccer League\nGame Type: Regula
 r\nGame Status: Complete\nHome Team: Goal-Oriented\nAway Team: Two Touch F
 C\nHome Score: 4\nAway Score: 14
END:VEVENT
BEGIN:VEVENT
UID:16963212@ezleagues.ezfacility.com
DTSTAMP:20260422T001239Z
CREATED:20260422T001239Z
DTSTART:20260228T030000Z
DTEND:20260228T035500Z
LOCATION:Indoor Arena A
CONTACT:
SUMMARY:LKW FC VS. Two Touch FC
DESCRIPTION:League Name: 2026 Adult Indoor Soccer League\nGame Type: Regula
 r\nGame Status: Complete\nHome Team: LKW FC\nAway Team: Two Touch FC\nHome
  Score: 11\nAway Score: 7
END:VEVENT
BEGIN:VEVENT
UID:16963241@ezleagues.ezfacility.com
DTSTAMP:20260422T001239Z
CREATED:20260422T001239Z
DTSTART:20260305T030000Z
DTEND:20260305T035500Z
LOCATION:Indoor Arena A
CONTACT:
SUMMARY:Troncos FC VS. Two Touch FC
DESCRIPTION:League Name: 2026 Adult Indoor Soccer League\nGame Type: Regula
 r\nGame Status: Complete\nHome Team: Troncos FC\nAway Team: Two Touch FC\n
 Home Score: 12\nAway Score: 5
END:VEVENT
BEGIN:VEVENT
UID:16963244@ezleagues.ezfacility.com
DTSTAMP:20260422T001239Z
CREATED:20260422T001239Z
DTSTART:20260307T030000Z
DTEND:20260307T035500Z
LOCATION:Indoor Arena A
CONTACT:
SUMMARY:CEFM FC VS. Two Touch FC
DESCRIPTION:League Name: 2026 Adult Indoor Soccer League\nGame Type: Regula
 r\nGame Status: Complete\nHome Team: CEFM FC\nAway Team: Two Touch FC\nHom
 e Score: 6\nAway Score: 12
END:VEVENT
BEGIN:VEVENT
UID:16963178@ezleagues.ezfacility.com
DTSTAMP:20260422T001239Z
CREATED:20260422T001239Z
DTSTART:20260312T020000Z
DTEND:20260312T025500Z
LOCATION:Indoor Arena A
CONTACT:
SUMMARY:CEFM FC VS. Two Touch FC
DESCRIPTION:League Name: 2026 Adult Indoor Soccer League\nGame Type: Regula
 r\nGame Status: Complete\nHome Team: CEFM FC\nAway Team: Two Touch FC\nHom
 e Score: 4\nAway Score: 8
END:VEVENT
BEGIN:VEVENT
UID:16963336@ezleagues.ezfacility.com
DTSTAMP:20260422T001239Z
CREATED:20260422T001239Z
DTSTART:20260314T030000Z
DTEND:20260314T035500Z
LOCATION:Indoor Arena A
CONTACT:
SUMMARY:Troncos FC VS. Two Touch FC
DESCRIPTION:League Name: 2026 Adult Indoor Soccer League\nGame Type: Postse
 ason\nGame Status: Complete\nHome Team: Troncos FC\nAway Team: Two Touch F
 C\nHome Score: 16\nAway Score: 6
END:VEVENT
END:VCALENDAR
