BEGIN:VCALENDAR
VERSION:2.0
PRODID:-//EZFacility.com, Inc.//EZL 2.5.5.28621
BEGIN:VEVENT
UID:16962658@ezleagues.ezfacility.com
DTSTAMP:20260426T033358Z
CREATED:20260426T033358Z
DTSTART:20260118T190000Z
DTEND:20260118T200000Z
LOCATION:Futsal Court 1
CONTACT:
SUMMARY:Goshen FC VS. IXI North 2009 G
DESCRIPTION:League Name: Winter Futsal League Session 2 Girls Sunday\nGame 
 Type: Regular\nGame Status: Complete\nHome Team: Goshen FC\nAway Team: IXI
  North 2009 G\nHome Score: 3\nAway Score: 7
END:VEVENT
BEGIN:VEVENT
UID:16977370@ezleagues.ezfacility.com
DTSTAMP:20260426T033358Z
CREATED:20260426T033358Z
DTSTART:20260125T210000Z
DTEND:20260125T220000Z
LOCATION:Futsal Court 1
CONTACT:
SUMMARY:IXI 2012 G II VS. Goshen FC
DESCRIPTION:League Name: Winter Futsal League Session 2 Girls Sunday\nGame 
 Type: Regular\nGame Status: Complete\nHome Team: IXI 2012 G II\nAway Team:
  Goshen FC\nHome Score: 1\nAway Score: 4
END:VEVENT
BEGIN:VEVENT
UID:16990638@ezleagues.ezfacility.com
DTSTAMP:20260426T033358Z
CREATED:20260426T033358Z
DTSTART:20260201T200000Z
DTEND:20260201T210000Z
LOCATION:Futsal Court 2
CONTACT:
SUMMARY:Goshen FC VS. ECA
DESCRIPTION:League Name: Winter Futsal League Session 2 Girls Sunday\nGame 
 Type: Regular\nGame Status: Complete\nHome Team: Goshen FC\nAway Team: ECA
 \nHome Score: 4\nAway Score: 3
END:VEVENT
BEGIN:VEVENT
UID:17000586@ezleagues.ezfacility.com
DTSTAMP:20260426T033358Z
CREATED:20260426T033358Z
DTSTART:20260208T210000Z
DTEND:20260208T220000Z
LOCATION:Futsal Court 2
CONTACT:
SUMMARY:NW SC Pumas U16G VS. Goshen FC
DESCRIPTION:League Name: Winter Futsal League Session 2 Girls Sunday\nGame 
 Type: Regular\nGame Status: Complete\nHome Team: NW SC Pumas U16G\nAway Te
 am: Goshen FC\nHome Score: 0\nAway Score: 4
END:VEVENT
BEGIN:VEVENT
UID:17000593@ezleagues.ezfacility.com
DTSTAMP:20260426T033358Z
CREATED:20260426T033358Z
DTSTART:20260222T200000Z
DTEND:20260222T210000Z
LOCATION:Futsal Court 1
CONTACT:
SUMMARY:En Fuego VS. Goshen FC
DESCRIPTION:League Name: Winter Futsal League Session 2 Girls Sunday\nGame 
 Type: Regular\nGame Status: Complete\nHome Team: En Fuego\nAway Team: Gosh
 en FC\nHome Score: 1\nAway Score: 3
END:VEVENT
BEGIN:VEVENT
UID:17000599@ezleagues.ezfacility.com
DTSTAMP:20260426T033358Z
CREATED:20260426T033358Z
DTSTART:20260301T210000Z
DTEND:20260301T220000Z
LOCATION:Futsal Court 2
CONTACT:
SUMMARY:Goshen FC VS. GSSC 2012 Girls Red
DESCRIPTION:League Name: Winter Futsal League Session 2 Girls Sunday\nGame 
 Type: Regular\nGame Status: Complete\nHome Team: Goshen FC\nAway Team: GSS
 C 2012 Girls Red\nHome Score: 6\nAway Score: 1
END:VEVENT
BEGIN:VEVENT
UID:17000604@ezleagues.ezfacility.com
DTSTAMP:20260426T033358Z
CREATED:20260426T033358Z
DTSTART:20260308T200000Z
DTEND:20260308T210000Z
LOCATION:Futsal Court 2
CONTACT:
SUMMARY:Goshen FC VS. Flamingos 2010
DESCRIPTION:League Name: Winter Futsal League Session 2 Girls Sunday\nGame 
 Type: Regular\nGame Status: Pending\nHome Team: Goshen FC\nAway Team: Flam
 ingos 2010\n
END:VEVENT
BEGIN:VEVENT
UID:17042590@ezleagues.ezfacility.com
DTSTAMP:20260426T033358Z
CREATED:20260426T033358Z
DTSTART:20260315T193000Z
DTEND:20260315T200000Z
LOCATION:Futsal Court 2
CONTACT:
SUMMARY:Goshen FC VS. IXI North 2009 G
DESCRIPTION:League Name: Winter Futsal League Session 2 Girls Sunday\nGame 
 Type: Regular\nGame Status: Pending\nHome Team: Goshen FC\nAway Team: IXI 
 North 2009 G\n
END:VEVENT
BEGIN:VEVENT
UID:17042592@ezleagues.ezfacility.com
DTSTAMP:20260426T033358Z
CREATED:20260426T033358Z
DTSTART:20260315T200000Z
DTEND:20260315T203000Z
LOCATION:Futsal Court 2
CONTACT:
SUMMARY:Goshen FC VS. GSSC 2012 Girls Red
DESCRIPTION:League Name: Winter Futsal League Session 2 Girls Sunday\nGame 
 Type: Regular\nGame Status: Pending\nHome Team: Goshen FC\nAway Team: GSSC
  2012 Girls Red\n
END:VEVENT
END:VCALENDAR
