BEGIN:VCALENDAR
VERSION:2.0
PRODID:-//EZFacility.com, Inc.//EZL 2.5.5.28621
BEGIN:VEVENT
UID:16992676@ezleagues.ezfacility.com
DTSTAMP:20260426T033433Z
CREATED:20260426T033433Z
DTSTART:20260202T190000Z
DTEND:20260202T200000Z
LOCATION:Table Tennis Table #1
CONTACT:
SUMMARY:Diana Gonzalez VS. ChubHub (Deepka Jangra)
DESCRIPTION:League Name: SAT - Table Tennis Group #1\nGame Type: Regular\nG
 ame Status: Complete\nHome Team: Diana Gonzalez\nAway Team: ChubHub (Deepk
 a Jangra)\nHome Score: 0\nAway Score: 0
END:VEVENT
BEGIN:VEVENT
UID:16992681@ezleagues.ezfacility.com
DTSTAMP:20260426T033433Z
CREATED:20260426T033433Z
DTSTART:20260209T190000Z
DTEND:20260209T200000Z
LOCATION:Table Tennis Table #1
CONTACT:
SUMMARY:Cheesy Poofs (Leo Valdez) 3rd Place VS. ChubHub (Deepka Jangra)
DESCRIPTION:League Name: SAT - Table Tennis Group #1\nGame Type: Regular\nG
 ame Status: Complete\nHome Team: Cheesy Poofs (Leo Valdez) 3rd Place\nAway
  Team: ChubHub (Deepka Jangra)\nHome Score: 3\nAway Score: 0
END:VEVENT
BEGIN:VEVENT
UID:16992688@ezleagues.ezfacility.com
DTSTAMP:20260426T033433Z
CREATED:20260426T033433Z
DTSTART:20260216T190000Z
DTEND:20260216T200000Z
LOCATION:Table Tennis Table #1
CONTACT:
SUMMARY:ChubHub (Deepka Jangra) VS. Mind Flay-ers (Nikhil Battini)
DESCRIPTION:League Name: SAT - Table Tennis Group #1\nGame Type: Regular\nG
 ame Status: Complete\nHome Team: ChubHub (Deepka Jangra)\nAway Team: Mind 
 Flay-ers (Nikhil Battini)\nHome Score: 0\nAway Score: 0
END:VEVENT
BEGIN:VEVENT
UID:16992695@ezleagues.ezfacility.com
DTSTAMP:20260426T033433Z
CREATED:20260426T033433Z
DTSTART:20260223T190000Z
DTEND:20260223T200000Z
LOCATION:Table Tennis Table #1
CONTACT:
SUMMARY:ChubHub (Deepka Jangra) VS. chris_androne
DESCRIPTION:League Name: SAT - Table Tennis Group #1\nGame Type: Regular\nG
 ame Status: Complete\nHome Team: ChubHub (Deepka Jangra)\nAway Team: chris
 _androne\nHome Score: 0\nAway Score: 0
END:VEVENT
BEGIN:VEVENT
UID:16992702@ezleagues.ezfacility.com
DTSTAMP:20260426T033433Z
CREATED:20260426T033433Z
DTSTART:20260302T190000Z
DTEND:20260302T200000Z
LOCATION:Table Tennis Table #1
CONTACT:
SUMMARY:ChubHub (Deepka Jangra) VS. Ken Walter
DESCRIPTION:League Name: SAT - Table Tennis Group #1\nGame Type: Regular\nG
 ame Status: Complete\nHome Team: ChubHub (Deepka Jangra)\nAway Team: Ken W
 alter\nHome Score: 0\nAway Score: 0
END:VEVENT
BEGIN:VEVENT
UID:16992709@ezleagues.ezfacility.com
DTSTAMP:20260426T033433Z
CREATED:20260426T033433Z
DTSTART:20260309T180000Z
DTEND:20260309T190000Z
LOCATION:Table Tennis Table #1
CONTACT:
SUMMARY:ChubHub (Deepka Jangra) VS. Mean Machine (Pablo Varela Rojas)
DESCRIPTION:League Name: SAT - Table Tennis Group #1\nGame Type: Regular\nG
 ame Status: Complete\nHome Team: ChubHub (Deepka Jangra)\nAway Team: Mean 
 Machine (Pablo Varela Rojas)\nHome Score: 0\nAway Score: 0
END:VEVENT
BEGIN:VEVENT
UID:16992716@ezleagues.ezfacility.com
DTSTAMP:20260426T033433Z
CREATED:20260426T033433Z
DTSTART:20260316T180000Z
DTEND:20260316T190000Z
LOCATION:Table Tennis Table #1
CONTACT:
SUMMARY:ChubHub (Deepka Jangra) VS. GabrielK (Gabriel Kily)
DESCRIPTION:League Name: SAT - Table Tennis Group #1\nGame Type: Regular\nG
 ame Status: Complete\nHome Team: ChubHub (Deepka Jangra)\nAway Team: Gabri
 elK (Gabriel Kily)\nHome Score: 0\nAway Score: 0
END:VEVENT
BEGIN:VEVENT
UID:16992722@ezleagues.ezfacility.com
DTSTAMP:20260426T033433Z
CREATED:20260426T033433Z
DTSTART:20260323T180000Z
DTEND:20260323T190000Z
LOCATION:Table Tennis Table #1
CONTACT:
SUMMARY:Fabian Wallen 1st Place VS. ChubHub (Deepka Jangra)
DESCRIPTION:League Name: SAT - Table Tennis Group #1\nGame Type: Regular\nG
 ame Status: Complete\nHome Team: Fabian Wallen 1st Place\nAway Team: ChubH
 ub (Deepka Jangra)\nHome Score: 3\nAway Score: 0
END:VEVENT
BEGIN:VEVENT
UID:16992727@ezleagues.ezfacility.com
DTSTAMP:20260426T033433Z
CREATED:20260426T033433Z
DTSTART:20260330T180000Z
DTEND:20260330T190000Z
LOCATION:Table Tennis Table #1
CONTACT:
SUMMARY:Garza Supreme (Cesar Garza) VS. ChubHub (Deepka Jangra)
DESCRIPTION:League Name: SAT - Table Tennis Group #1\nGame Type: Regular\nG
 ame Status: Complete\nHome Team: Garza Supreme (Cesar Garza)\nAway Team: C
 hubHub (Deepka Jangra)\nHome Score: 0\nAway Score: 0
END:VEVENT
BEGIN:VEVENT
UID:16992732@ezleagues.ezfacility.com
DTSTAMP:20260426T033433Z
CREATED:20260426T033433Z
DTSTART:20260406T180000Z
DTEND:20260406T190000Z
LOCATION:Table Tennis Table #1
CONTACT:
SUMMARY:Lord of the Pings! (Amit Paul) 2nd Place VS. ChubHub (Deepka Jangra
 )
DESCRIPTION:League Name: SAT - Table Tennis Group #1\nGame Type: Regular\nG
 ame Status: Complete\nHome Team: Lord of the Pings! (Amit Paul) 2nd Place\
 nAway Team: ChubHub (Deepka Jangra)\nHome Score: 0\nAway Score: 0
END:VEVENT
BEGIN:VEVENT
UID:16992737@ezleagues.ezfacility.com
DTSTAMP:20260426T033433Z
CREATED:20260426T033433Z
DTSTART:20260413T180000Z
DTEND:20260413T190000Z
LOCATION:Table Tennis Table #1
CONTACT:
SUMMARY:HOS (Steven Hawkins) 4th Place VS. ChubHub (Deepka Jangra)
DESCRIPTION:League Name: SAT - Table Tennis Group #1\nGame Type: Regular\nG
 ame Status: Complete\nHome Team: HOS (Steven Hawkins) 4th Place\nAway Team
 : ChubHub (Deepka Jangra)\nHome Score: 0\nAway Score: 0
END:VEVENT
END:VCALENDAR
