BEGIN:VCALENDAR
VERSION:2.0
PRODID:-//EZFacility.com, Inc.//EZL 2.5.5.28621
BEGIN:VEVENT
UID:16992677@ezleagues.ezfacility.com
DTSTAMP:20260426T033401Z
CREATED:20260426T033401Z
DTSTART:20260202T190000Z
DTEND:20260202T200000Z
LOCATION:Table Tennis Table #1
CONTACT:
SUMMARY:Mean Machine (Pablo Varela Rojas) VS. Fabian Wallen 1st Place
DESCRIPTION:League Name: SAT - Table Tennis Group #1\nGame Type: Regular\nG
 ame Status: Complete\nHome Team: Mean Machine (Pablo Varela Rojas)\nAway T
 eam: Fabian Wallen 1st Place\nHome Score: 0\nAway Score: 3
END:VEVENT
BEGIN:VEVENT
UID:16992682@ezleagues.ezfacility.com
DTSTAMP:20260426T033401Z
CREATED:20260426T033401Z
DTSTART:20260209T190000Z
DTEND:20260209T200000Z
LOCATION:Table Tennis Table #1
CONTACT:
SUMMARY:GabrielK (Gabriel Kily) VS. Fabian Wallen 1st Place
DESCRIPTION:League Name: SAT - Table Tennis Group #1\nGame Type: Regular\nG
 ame Status: Complete\nHome Team: GabrielK (Gabriel Kily)\nAway Team: Fabia
 n Wallen 1st Place\nHome Score: 0\nAway Score: 3
END:VEVENT
BEGIN:VEVENT
UID:16992687@ezleagues.ezfacility.com
DTSTAMP:20260426T033401Z
CREATED:20260426T033401Z
DTSTART:20260216T190000Z
DTEND:20260216T200000Z
LOCATION:Table Tennis Table #1
CONTACT:
SUMMARY:Fabian Wallen 1st Place VS. Cheesy Poofs (Leo Valdez) 3rd Place
DESCRIPTION:League Name: SAT - Table Tennis Group #1\nGame Type: Regular\nG
 ame Status: Complete\nHome Team: Fabian Wallen 1st Place\nAway Team: Chees
 y Poofs (Leo Valdez) 3rd Place\nHome Score: 3\nAway Score: 0
END:VEVENT
BEGIN:VEVENT
UID:16992694@ezleagues.ezfacility.com
DTSTAMP:20260426T033401Z
CREATED:20260426T033401Z
DTSTART:20260223T190000Z
DTEND:20260223T200000Z
LOCATION:Table Tennis Table #1
CONTACT:
SUMMARY:Fabian Wallen 1st Place VS. Garza Supreme (Cesar Garza)
DESCRIPTION:League Name: SAT - Table Tennis Group #1\nGame Type: Regular\nG
 ame Status: Complete\nHome Team: Fabian Wallen 1st Place\nAway Team: Garza
  Supreme (Cesar Garza)\nHome Score: 3\nAway Score: 1
END:VEVENT
BEGIN:VEVENT
UID:16992701@ezleagues.ezfacility.com
DTSTAMP:20260426T033401Z
CREATED:20260426T033401Z
DTSTART:20260302T190000Z
DTEND:20260302T200000Z
LOCATION:Table Tennis Table #1
CONTACT:
SUMMARY:Fabian Wallen 1st Place VS. Lord of the Pings! (Amit Paul) 2nd Plac
 e
DESCRIPTION:League Name: SAT - Table Tennis Group #1\nGame Type: Regular\nG
 ame Status: Complete\nHome Team: Fabian Wallen 1st Place\nAway Team: Lord 
 of the Pings! (Amit Paul) 2nd Place\nHome Score: 3\nAway Score: 1
END:VEVENT
BEGIN:VEVENT
UID:16992708@ezleagues.ezfacility.com
DTSTAMP:20260426T033401Z
CREATED:20260426T033401Z
DTSTART:20260309T180000Z
DTEND:20260309T190000Z
LOCATION:Table Tennis Table #1
CONTACT:
SUMMARY:Fabian Wallen 1st Place VS. HOS (Steven Hawkins) 4th Place
DESCRIPTION:League Name: SAT - Table Tennis Group #1\nGame Type: Regular\nG
 ame Status: Complete\nHome Team: Fabian Wallen 1st Place\nAway Team: HOS (
 Steven Hawkins) 4th Place\nHome Score: 3\nAway Score: 2
END:VEVENT
BEGIN:VEVENT
UID:16992715@ezleagues.ezfacility.com
DTSTAMP:20260426T033401Z
CREATED:20260426T033401Z
DTSTART:20260316T180000Z
DTEND:20260316T190000Z
LOCATION:Table Tennis Table #1
CONTACT:
SUMMARY:Fabian Wallen 1st Place VS. Diana Gonzalez
DESCRIPTION:League Name: SAT - Table Tennis Group #1\nGame Type: Regular\nG
 ame Status: Complete\nHome Team: Fabian Wallen 1st Place\nAway Team: Diana
  Gonzalez\nHome Score: 3\nAway Score: 0
END:VEVENT
BEGIN:VEVENT
UID:16992722@ezleagues.ezfacility.com
DTSTAMP:20260426T033401Z
CREATED:20260426T033401Z
DTSTART:20260323T180000Z
DTEND:20260323T190000Z
LOCATION:Table Tennis Table #1
CONTACT:
SUMMARY:Fabian Wallen 1st Place VS. ChubHub (Deepka Jangra)
DESCRIPTION:League Name: SAT - Table Tennis Group #1\nGame Type: Regular\nG
 ame Status: Complete\nHome Team: Fabian Wallen 1st Place\nAway Team: ChubH
 ub (Deepka Jangra)\nHome Score: 3\nAway Score: 0
END:VEVENT
BEGIN:VEVENT
UID:16992728@ezleagues.ezfacility.com
DTSTAMP:20260426T033401Z
CREATED:20260426T033401Z
DTSTART:20260330T180000Z
DTEND:20260330T190000Z
LOCATION:Table Tennis Table #1
CONTACT:
SUMMARY:Mind Flay-ers (Nikhil Battini) VS. Fabian Wallen 1st Place
DESCRIPTION:League Name: SAT - Table Tennis Group #1\nGame Type: Regular\nG
 ame Status: Complete\nHome Team: Mind Flay-ers (Nikhil Battini)\nAway Team
 : Fabian Wallen 1st Place\nHome Score: 0\nAway Score: 3
END:VEVENT
BEGIN:VEVENT
UID:16992733@ezleagues.ezfacility.com
DTSTAMP:20260426T033401Z
CREATED:20260426T033401Z
DTSTART:20260406T180000Z
DTEND:20260406T190000Z
LOCATION:Table Tennis Table #1
CONTACT:
SUMMARY:chris_androne VS. Fabian Wallen 1st Place
DESCRIPTION:League Name: SAT - Table Tennis Group #1\nGame Type: Regular\nG
 ame Status: Complete\nHome Team: chris_androne\nAway Team: Fabian Wallen 1
 st Place\nHome Score: 0\nAway Score: 0
END:VEVENT
BEGIN:VEVENT
UID:16992738@ezleagues.ezfacility.com
DTSTAMP:20260426T033401Z
CREATED:20260426T033401Z
DTSTART:20260413T180000Z
DTEND:20260413T190000Z
LOCATION:Table Tennis Table #1
CONTACT:
SUMMARY:Ken Walter VS. Fabian Wallen 1st Place
DESCRIPTION:League Name: SAT - Table Tennis Group #1\nGame Type: Regular\nG
 ame Status: Complete\nHome Team: Ken Walter\nAway Team: Fabian Wallen 1st 
 Place\nHome Score: 0\nAway Score: 3
END:VEVENT
BEGIN:VEVENT
UID:16992826@ezleagues.ezfacility.com
DTSTAMP:20260426T033401Z
CREATED:20260426T033401Z
DTSTART:20260420T180000Z
DTEND:20260420T190000Z
LOCATION:Table Tennis Table #1
CONTACT:
SUMMARY:Fabian Wallen 1st Place VS. HOS (Steven Hawkins) 4th Place
DESCRIPTION:League Name: SAT - Table Tennis Group #1\nGame Type: Postseason
 \nGame Status: Pending\nHome Team: Fabian Wallen 1st Place\nAway Team: HOS
  (Steven Hawkins) 4th Place\n
END:VEVENT
END:VCALENDAR
