BEGIN:VCALENDAR
VERSION:2.0
PRODID:-//EZFacility.com, Inc.//EZL 2.5.5.28621
BEGIN:VEVENT
UID:16965075@ezleagues.ezfacility.com
DTSTAMP:20260426T033417Z
CREATED:20260426T033417Z
DTSTART:20260117T165500Z
DTEND:20260117T173000Z
LOCATION:FIELD
CONTACT:Hugghins
SUMMARY:NET NINJAS-2018 VS. SONICS
DESCRIPTION:League Name: 2017/2018-2026 WINTER 2\nGame Type: Regular\nGame 
 Status: Complete\nHome Team: NET NINJAS-2018\nAway Team: SONICS\nHome Scor
 e: 1\nAway Score: 3
END:VEVENT
BEGIN:VEVENT
UID:16965087@ezleagues.ezfacility.com
DTSTAMP:20260426T033417Z
CREATED:20260426T033417Z
DTSTART:20260131T162000Z
DTEND:20260131T165500Z
LOCATION:FIELD
CONTACT:Hugghins
SUMMARY:SONICS VS. VILLENS
DESCRIPTION:League Name: 2017/2018-2026 WINTER 2\nGame Type: Regular\nGame 
 Status: Complete\nHome Team: SONICS\nAway Team: VILLENS\nHome Score: 11\nA
 way Score: 2
END:VEVENT
BEGIN:VEVENT
UID:16965108@ezleagues.ezfacility.com
DTSTAMP:20260426T033417Z
CREATED:20260426T033417Z
DTSTART:20260214T165500Z
DTEND:20260214T173000Z
LOCATION:FIELD
CONTACT:Hugghins
SUMMARY:SONICS VS. REDBULLS
DESCRIPTION:League Name: 2017/2018-2026 WINTER 2\nGame Type: Regular\nGame 
 Status: Complete\nHome Team: SONICS\nAway Team: REDBULLS\nHome Score: 15\n
 Away Score: 1
END:VEVENT
BEGIN:VEVENT
UID:16965094@ezleagues.ezfacility.com
DTSTAMP:20260426T033417Z
CREATED:20260426T033417Z
DTSTART:20260214T195000Z
DTEND:20260214T202500Z
LOCATION:FIELD
CONTACT:Galvez
SUMMARY:GATORS VS. SONICS
DESCRIPTION:League Name: 2017/2018-2026 WINTER 2\nGame Type: Regular\nGame 
 Status: Complete\nHome Team: GATORS\nAway Team: SONICS\nHome Score: 2\nAwa
 y Score: 9
END:VEVENT
BEGIN:VEVENT
UID:16965080@ezleagues.ezfacility.com
DTSTAMP:20260426T033417Z
CREATED:20260426T033417Z
DTSTART:20260221T165500Z
DTEND:20260221T173000Z
LOCATION:FIELD
CONTACT:Hugghins
SUMMARY:ATLETICO JR VS. SONICS
DESCRIPTION:League Name: 2017/2018-2026 WINTER 2\nGame Type: Regular\nGame 
 Status: Complete\nHome Team: ATLETICO JR\nAway Team: SONICS\nHome Score: 2
 \nAway Score: 4
END:VEVENT
BEGIN:VEVENT
UID:16965101@ezleagues.ezfacility.com
DTSTAMP:20260426T033417Z
CREATED:20260426T033417Z
DTSTART:20260228T184000Z
DTEND:20260228T191500Z
LOCATION:FIELD
CONTACT:Jorge
SUMMARY:SONICS VS. TYLER PRIME
DESCRIPTION:League Name: 2017/2018-2026 WINTER 2\nGame Type: Regular\nGame 
 Status: Complete\nHome Team: SONICS\nAway Team: TYLER PRIME\nHome Score: 6
 \nAway Score: 0
END:VEVENT
BEGIN:VEVENT
UID:17037557@ezleagues.ezfacility.com
DTSTAMP:20260426T033417Z
CREATED:20260426T033417Z
DTSTART:20260307T165500Z
DTEND:20260307T173000Z
LOCATION:FIELD
CONTACT:Trujillo
SUMMARY:SONICS VS. 9:45 winner
DESCRIPTION:League Name: 2017/2018-2026 WINTER 2\nGame Type: Regular\nGame 
 Status: Complete\nHome Team: SONICS\nAway Team: 9:45 winner\nHome Score: 1
 0\nAway Score: 3
END:VEVENT
END:VCALENDAR
