BEGIN:VCALENDAR
VERSION:2.0
PRODID:-//EZFacility.com, Inc.//EZL 2.5.5.28621
BEGIN:VEVENT
UID:16965078@ezleagues.ezfacility.com
DTSTAMP:20260426T033434Z
CREATED:20260426T033434Z
DTSTART:20260117T184000Z
DTEND:20260117T191500Z
LOCATION:FIELD
CONTACT:Molina
SUMMARY:TYLER PRIME VS. YOUNG JEDI
DESCRIPTION:League Name: 2017/2018-2026 WINTER 2\nGame Type: Regular\nGame 
 Status: Complete\nHome Team: TYLER PRIME\nAway Team: YOUNG JEDI\nHome Scor
 e: 9\nAway Score: 0
END:VEVENT
BEGIN:VEVENT
UID:16965091@ezleagues.ezfacility.com
DTSTAMP:20260426T033434Z
CREATED:20260426T033434Z
DTSTART:20260131T165500Z
DTEND:20260131T173000Z
LOCATION:FIELD
CONTACT:Hugghins
SUMMARY:THE PACK VS. TYLER PRIME
DESCRIPTION:League Name: 2017/2018-2026 WINTER 2\nGame Type: Regular\nGame 
 Status: Complete\nHome Team: THE PACK\nAway Team: TYLER PRIME\nHome Score:
  1\nAway Score: 10
END:VEVENT
BEGIN:VEVENT
UID:16965096@ezleagues.ezfacility.com
DTSTAMP:20260426T033434Z
CREATED:20260426T033434Z
DTSTART:20260207T165500Z
DTEND:20260207T173000Z
LOCATION:FIELD
CONTACT:Molina
SUMMARY:TYLER PRIME VS. NET NINJAS-2018
DESCRIPTION:League Name: 2017/2018-2026 WINTER 2\nGame Type: Regular\nGame 
 Status: Complete\nHome Team: TYLER PRIME\nAway Team: NET NINJAS-2018\nHome
  Score: 3\nAway Score: 5
END:VEVENT
BEGIN:VEVENT
UID:16965085@ezleagues.ezfacility.com
DTSTAMP:20260426T033434Z
CREATED:20260426T033434Z
DTSTART:20260214T162000Z
DTEND:20260214T165500Z
LOCATION:FIELD
CONTACT:MEDINA
SUMMARY:TYLER PRIME VS. VIPERS
DESCRIPTION:League Name: 2017/2018-2026 WINTER 2\nGame Type: Regular\nGame 
 Status: Complete\nHome Team: TYLER PRIME\nAway Team: VIPERS\nHome Score: 4
 \nAway Score: 2
END:VEVENT
BEGIN:VEVENT
UID:16965106@ezleagues.ezfacility.com
DTSTAMP:20260426T033434Z
CREATED:20260426T033434Z
DTSTART:20260221T162000Z
DTEND:20260221T165500Z
LOCATION:HOME
CONTACT:Hugghins
SUMMARY:VILLENS VS. TYLER PRIME
DESCRIPTION:League Name: 2017/2018-2026 WINTER 2\nGame Type: Regular\nGame 
 Status: Complete\nHome Team: VILLENS\nAway Team: TYLER PRIME\nHome Score: 
 10\nAway Score: 2
END:VEVENT
BEGIN:VEVENT
UID:16965101@ezleagues.ezfacility.com
DTSTAMP:20260426T033434Z
CREATED:20260426T033434Z
DTSTART:20260228T184000Z
DTEND:20260228T191500Z
LOCATION:FIELD
CONTACT:Jorge
SUMMARY:SONICS VS. TYLER PRIME
DESCRIPTION:League Name: 2017/2018-2026 WINTER 2\nGame Type: Regular\nGame 
 Status: Complete\nHome Team: SONICS\nAway Team: TYLER PRIME\nHome Score: 6
 \nAway Score: 0
END:VEVENT
BEGIN:VEVENT
UID:17037556@ezleagues.ezfacility.com
DTSTAMP:20260426T033434Z
CREATED:20260426T033434Z
DTSTART:20260307T162000Z
DTEND:20260307T165500Z
LOCATION:FIELD
CONTACT:Trujillo
SUMMARY:Tyler FC 2017 (1/24) VS. TYLER PRIME
DESCRIPTION:League Name: 2017/2018-2026 WINTER 2\nGame Type: Regular\nGame 
 Status: Complete\nHome Team: Tyler FC 2017 (1/24)\nAway Team: TYLER PRIME\
 nHome Score: 5\nAway Score: 4
END:VEVENT
END:VCALENDAR
