BEGIN:VCALENDAR
VERSION:2.0
PRODID:-//EZFacility.com, Inc.//EZL 2.5.5.28621
BEGIN:VEVENT
UID:16966185@ezleagues.ezfacility.com
DTSTAMP:20260426T033538Z
CREATED:20260426T033538Z
DTSTART:20260105T180000Z
DTEND:20260105T190000Z
LOCATION:1
CONTACT:
SUMMARY:the buffoons VS. ZIPPY RACERS
DESCRIPTION:League Name: Mens Open "MONDAY" Indoor session 2 2026\nGame Typ
 e: Regular\nGame Status: Complete\nHome Team: the buffoons\nAway Team: ZIP
 PY RACERS\nHome Score: 9\nAway Score: 4
END:VEVENT
BEGIN:VEVENT
UID:16966191@ezleagues.ezfacility.com
DTSTAMP:20260426T033538Z
CREATED:20260426T033538Z
DTSTART:20260112T180000Z
DTEND:20260112T190000Z
LOCATION:1
CONTACT:
SUMMARY:ZIPPY RACERS VS. 330 FC
DESCRIPTION:League Name: Mens Open "MONDAY" Indoor session 2 2026\nGame Typ
 e: Regular\nGame Status: Complete\nHome Team: ZIPPY RACERS\nAway Team: 330
  FC\nHome Score: 3\nAway Score: 9
END:VEVENT
BEGIN:VEVENT
UID:16966421@ezleagues.ezfacility.com
DTSTAMP:20260426T033538Z
CREATED:20260426T033538Z
DTSTART:20260120T020000Z
DTEND:20260120T030000Z
LOCATION:Field 3
CONTACT:Valahovic
SUMMARY:THE DUDE ABIDES VS. ZIPPY RACERS
DESCRIPTION:League Name: Mens Open "MONDAY" Indoor session 2 2026\nGame Typ
 e: Regular\nGame Status: Complete\nHome Team: THE DUDE ABIDES\nAway Team: 
 ZIPPY RACERS\nHome Score: 11\nAway Score: 3
END:VEVENT
BEGIN:VEVENT
UID:16966671@ezleagues.ezfacility.com
DTSTAMP:20260426T033538Z
CREATED:20260426T033538Z
DTSTART:20260127T020000Z
DTEND:20260127T030000Z
LOCATION:Field 4
CONTACT:Zemanski
SUMMARY:330 FC VS. ZIPPY RACERS
DESCRIPTION:League Name: Mens Open "MONDAY" Indoor session 2 2026\nGame Typ
 e: Regular\nGame Status: Complete\nHome Team: 330 FC\nAway Team: ZIPPY RAC
 ERS\nHome Score: 8\nAway Score: 1
END:VEVENT
BEGIN:VEVENT
UID:16966753@ezleagues.ezfacility.com
DTSTAMP:20260426T033538Z
CREATED:20260426T033538Z
DTSTART:20260203T020000Z
DTEND:20260203T030000Z
LOCATION:Field 2
CONTACT:Wilson
SUMMARY:ZIPPY RACERS VS. BFB FC
DESCRIPTION:League Name: Mens Open "MONDAY" Indoor session 2 2026\nGame Typ
 e: Regular\nGame Status: Complete\nHome Team: ZIPPY RACERS\nAway Team: BFB
  FC\nHome Score: 3\nAway Score: 3
END:VEVENT
BEGIN:VEVENT
UID:16966779@ezleagues.ezfacility.com
DTSTAMP:20260426T033538Z
CREATED:20260426T033538Z
DTSTART:20260210T030000Z
DTEND:20260210T040000Z
LOCATION:Field 2
CONTACT:Valahovic
SUMMARY:ZIPPY RACERS VS. THUNDERCATS DELUXE EDITION
DESCRIPTION:League Name: Mens Open "MONDAY" Indoor session 2 2026\nGame Typ
 e: Regular\nGame Status: Complete\nHome Team: ZIPPY RACERS\nAway Team: THU
 NDERCATS DELUXE EDITION\nHome Score: 5\nAway Score: 8
END:VEVENT
BEGIN:VEVENT
UID:16966632@ezleagues.ezfacility.com
DTSTAMP:20260426T033538Z
CREATED:20260426T033538Z
DTSTART:20260217T030000Z
DTEND:20260217T040000Z
LOCATION:Field 3
CONTACT:Juby
SUMMARY:ZIPPY RACERS VS. DOS CORONAS FC
DESCRIPTION:League Name: Mens Open "MONDAY" Indoor session 2 2026\nGame Typ
 e: Regular\nGame Status: Complete\nHome Team: ZIPPY RACERS\nAway Team: DOS
  CORONAS FC\nHome Score: 7\nAway Score: 4
END:VEVENT
BEGIN:VEVENT
UID:16966782@ezleagues.ezfacility.com
DTSTAMP:20260426T033538Z
CREATED:20260426T033538Z
DTSTART:20260224T020000Z
DTEND:20260224T030000Z
LOCATION:Field 4
CONTACT:Chinenyanga
SUMMARY:ZIPPY RACERS VS. LOS PRIMOS FC
DESCRIPTION:League Name: Mens Open "MONDAY" Indoor session 2 2026\nGame Typ
 e: Regular\nGame Status: Complete\nHome Team: ZIPPY RACERS\nAway Team: LOS
  PRIMOS FC\nHome Score: 4\nAway Score: 3
END:VEVENT
END:VCALENDAR
