BEGIN:VCALENDAR
VERSION:2.0
PRODID:-//EZFacility.com, Inc.//EZL 2.5.5.28621
BEGIN:VEVENT
UID:16966200@ezleagues.ezfacility.com
DTSTAMP:20260424T043912Z
CREATED:20260424T043912Z
DTSTART:20260105T180000Z
DTEND:20260105T190000Z
LOCATION:1
CONTACT:
SUMMARY:REFUGEES VS. Key West FC
DESCRIPTION:League Name: Mens Open "MONDAY" Indoor session 2 2026\nGame Typ
 e: Regular\nGame Status: Complete\nHome Team: REFUGEES\nAway Team: Key Wes
 t FC\nHome Score: 6\nAway Score: 15
END:VEVENT
BEGIN:VEVENT
UID:16966201@ezleagues.ezfacility.com
DTSTAMP:20260424T043912Z
CREATED:20260424T043912Z
DTSTART:20260105T180000Z
DTEND:20260105T190000Z
LOCATION:1
CONTACT:
SUMMARY:SPARTANS FC VS. REFUGEES
DESCRIPTION:League Name: Mens Open "MONDAY" Indoor session 2 2026\nGame Typ
 e: Regular\nGame Status: Complete\nHome Team: SPARTANS FC\nAway Team: REFU
 GEES\nHome Score: 3\nAway Score: 3
END:VEVENT
BEGIN:VEVENT
UID:16966372@ezleagues.ezfacility.com
DTSTAMP:20260424T043912Z
CREATED:20260424T043912Z
DTSTART:20260120T030000Z
DTEND:20260120T040000Z
LOCATION:Field 2
CONTACT:Chinenyanga
SUMMARY:REFUGEES VS. DOS CORONAS FC
DESCRIPTION:League Name: Mens Open "MONDAY" Indoor session 2 2026\nGame Typ
 e: Regular\nGame Status: Complete\nHome Team: REFUGEES\nAway Team: DOS COR
 ONAS FC\nHome Score: 5\nAway Score: 9
END:VEVENT
BEGIN:VEVENT
UID:16966774@ezleagues.ezfacility.com
DTSTAMP:20260424T043912Z
CREATED:20260424T043912Z
DTSTART:20260127T020000Z
DTEND:20260127T030000Z
LOCATION:Field 3
CONTACT:Juby
SUMMARY:REFUGEES VS. BFB FC
DESCRIPTION:League Name: Mens Open "MONDAY" Indoor session 2 2026\nGame Typ
 e: Regular\nGame Status: Complete\nHome Team: REFUGEES\nAway Team: BFB FC\
 nHome Score: 2\nAway Score: 3
END:VEVENT
BEGIN:VEVENT
UID:16966777@ezleagues.ezfacility.com
DTSTAMP:20260424T043912Z
CREATED:20260424T043912Z
DTSTART:20260203T030000Z
DTEND:20260203T040000Z
LOCATION:Field 3
CONTACT:Valahovic
SUMMARY:THUNDERCATS VS. REFUGEES
DESCRIPTION:League Name: Mens Open "MONDAY" Indoor session 2 2026\nGame Typ
 e: Regular\nGame Status: Complete\nHome Team: THUNDERCATS\nAway Team: REFU
 GEES\nHome Score: 13\nAway Score: 4
END:VEVENT
BEGIN:VEVENT
UID:16966755@ezleagues.ezfacility.com
DTSTAMP:20260424T043912Z
CREATED:20260424T043912Z
DTSTART:20260210T020000Z
DTEND:20260210T030000Z
LOCATION:Field 2
CONTACT:Valahovic
SUMMARY:REFUGEES VS. THUNDERCATS
DESCRIPTION:League Name: Mens Open "MONDAY" Indoor session 2 2026\nGame Typ
 e: Regular\nGame Status: Complete\nHome Team: REFUGEES\nAway Team: THUNDER
 CATS\nHome Score: 3\nAway Score: 2
END:VEVENT
BEGIN:VEVENT
UID:16966781@ezleagues.ezfacility.com
DTSTAMP:20260424T043912Z
CREATED:20260424T043912Z
DTSTART:20260217T020000Z
DTEND:20260217T030000Z
LOCATION:Field 4
CONTACT:Mammana
SUMMARY:REFUGEES VS. THUNDERCATS DELUXE EDITION
DESCRIPTION:League Name: Mens Open "MONDAY" Indoor session 2 2026\nGame Typ
 e: Regular\nGame Status: Complete\nHome Team: REFUGEES\nAway Team: THUNDER
 CATS DELUXE EDITION\nHome Score: 2\nAway Score: 6
END:VEVENT
BEGIN:VEVENT
UID:16966678@ezleagues.ezfacility.com
DTSTAMP:20260424T043912Z
CREATED:20260424T043912Z
DTSTART:20260224T020000Z
DTEND:20260224T030000Z
LOCATION:Field 3
CONTACT:Valahovic
SUMMARY:330 FC VS. REFUGEES
DESCRIPTION:League Name: Mens Open "MONDAY" Indoor session 2 2026\nGame Typ
 e: Regular\nGame Status: Complete\nHome Team: 330 FC\nAway Team: REFUGEES\
 nHome Score: 8\nAway Score: 6
END:VEVENT
END:VCALENDAR
