BEGIN:VCALENDAR
VERSION:2.0
PRODID:-//EZFacility.com, Inc.//EZL 2.5.5.28621
BEGIN:VEVENT
UID:16966257@ezleagues.ezfacility.com
DTSTAMP:20260423T122209Z
CREATED:20260423T122209Z
DTSTART:20260117T140000Z
DTEND:20260117T142000Z
LOCATION:Field 2
CONTACT:
SUMMARY:Wappingers United VS. Warriors Teal
DESCRIPTION:League Name: CSX 2026 Winter 4v4 Festival Series - U8\nGame Typ
 e: Regular\nGame Status: Complete\nHome Team: Wappingers United\nAway Team
 : Warriors Teal\nHome Score: 1\nAway Score: 8
END:VEVENT
BEGIN:VEVENT
UID:16966258@ezleagues.ezfacility.com
DTSTAMP:20260423T122209Z
CREATED:20260423T122209Z
DTSTART:20260117T150000Z
DTEND:20260117T152000Z
LOCATION:Field 1
CONTACT:
SUMMARY:Florida Flyers VS. Wappingers United
DESCRIPTION:League Name: CSX 2026 Winter 4v4 Festival Series - U8\nGame Typ
 e: Regular\nGame Status: Complete\nHome Team: Florida Flyers\nAway Team: W
 appingers United\nHome Score: 2\nAway Score: 4
END:VEVENT
BEGIN:VEVENT
UID:16966261@ezleagues.ezfacility.com
DTSTAMP:20260423T122209Z
CREATED:20260423T122209Z
DTSTART:20260117T160000Z
DTEND:20260117T162000Z
LOCATION:Field 2
CONTACT:
SUMMARY:Warriors Coral VS. Wappingers United
DESCRIPTION:League Name: CSX 2026 Winter 4v4 Festival Series - U8\nGame Typ
 e: Regular\nGame Status: Complete\nHome Team: Warriors Coral\nAway Team: W
 appingers United\nHome Score: 11\nAway Score: 0
END:VEVENT
END:VCALENDAR
