BEGIN:VCALENDAR
VERSION:2.0
PRODID:-//EZFacility.com, Inc.//EZL 2.5.5.28621
BEGIN:VEVENT
UID:16966317@ezleagues.ezfacility.com
DTSTAMP:20260419T195846Z
CREATED:20260419T195846Z
DTSTART:20260119T003000Z
DTEND:20260119T012500Z
LOCATION:Indoor 3AB
CONTACT:
SUMMARY:AMICI FC VS. FOOT FAIRIES
DESCRIPTION:League Name: CSX Winter II Co-Ed I 2026\nGame Type: Regular\nGa
 me Status: Complete\nHome Team: AMICI FC\nAway Team: FOOT FAIRIES\nHome Sc
 ore: 5\nAway Score: 11
END:VEVENT
BEGIN:VEVENT
UID:16966323@ezleagues.ezfacility.com
DTSTAMP:20260419T195846Z
CREATED:20260419T195846Z
DTSTART:20260202T003000Z
DTEND:20260202T012500Z
LOCATION:Indoor 1AB
CONTACT:
SUMMARY:SACKS AND RACKS VS. AMICI FC
DESCRIPTION:League Name: CSX Winter II Co-Ed I 2026\nGame Type: Regular\nGa
 me Status: Complete\nHome Team: SACKS AND RACKS\nAway Team: AMICI FC\nHome
  Score: 7\nAway Score: 9
END:VEVENT
BEGIN:VEVENT
UID:16966330@ezleagues.ezfacility.com
DTSTAMP:20260419T195846Z
CREATED:20260419T195846Z
DTSTART:20260216T023000Z
DTEND:20260216T032500Z
LOCATION:Indoor 1AB
CONTACT:
SUMMARY:3DORITOSDESPUES VS. AMICI FC
DESCRIPTION:League Name: CSX Winter II Co-Ed I 2026\nGame Type: Regular\nGa
 me Status: Complete\nHome Team: 3DORITOSDESPUES\nAway Team: AMICI FC\nHome
  Score: 9\nAway Score: 9
END:VEVENT
BEGIN:VEVENT
UID:16966334@ezleagues.ezfacility.com
DTSTAMP:20260419T195846Z
CREATED:20260419T195846Z
DTSTART:20260302T023000Z
DTEND:20260302T032500Z
LOCATION:Indoor 2AB
CONTACT:
SUMMARY:AMICI FC VS. DIAMOND DOGS
DESCRIPTION:League Name: CSX Winter II Co-Ed I 2026\nGame Type: Regular\nGa
 me Status: Complete\nHome Team: AMICI FC\nAway Team: DIAMOND DOGS\nHome Sc
 ore: 0\nAway Score: 12
END:VEVENT
BEGIN:VEVENT
UID:16966338@ezleagues.ezfacility.com
DTSTAMP:20260419T195846Z
CREATED:20260419T195846Z
DTSTART:20260308T233000Z
DTEND:20260309T002500Z
LOCATION:Indoor 2AB
CONTACT:
SUMMARY:AMICI FC VS. SACKS AND RACKS
DESCRIPTION:League Name: CSX Winter II Co-Ed I 2026\nGame Type: Regular\nGa
 me Status: Complete\nHome Team: AMICI FC\nAway Team: SACKS AND RACKS\nHome
  Score: 6\nAway Score: 9
END:VEVENT
BEGIN:VEVENT
UID:16966327@ezleagues.ezfacility.com
DTSTAMP:20260419T195846Z
CREATED:20260419T195846Z
DTSTART:20260316T013000Z
DTEND:20260316T022500Z
LOCATION:Indoor 2AB
CONTACT:
SUMMARY:AMICI FC VS. CHILL TOWN
DESCRIPTION:League Name: CSX Winter II Co-Ed I 2026\nGame Type: Regular\nGa
 me Status: Complete\nHome Team: AMICI FC\nAway Team: CHILL TOWN\nHome Scor
 e: 6\nAway Score: 8
END:VEVENT
BEGIN:VEVENT
UID:16966319@ezleagues.ezfacility.com
DTSTAMP:20260419T195846Z
CREATED:20260419T195846Z
DTSTART:20260322T223000Z
DTEND:20260322T232500Z
LOCATION:Indoor 1AB
CONTACT:
SUMMARY:DIAMOND DOGS VS. AMICI FC
DESCRIPTION:League Name: CSX Winter II Co-Ed I 2026\nGame Type: Regular\nGa
 me Status: Complete\nHome Team: DIAMOND DOGS\nAway Team: AMICI FC\nHome Sc
 ore: 6\nAway Score: 4
END:VEVENT
BEGIN:VEVENT
UID:16966332@ezleagues.ezfacility.com
DTSTAMP:20260419T195846Z
CREATED:20260419T195846Z
DTSTART:20260329T233000Z
DTEND:20260330T002500Z
LOCATION:Indoor 2AB
CONTACT:
SUMMARY:FOOT FAIRIES VS. AMICI FC
DESCRIPTION:League Name: CSX Winter II Co-Ed I 2026\nGame Type: Regular\nGa
 me Status: Complete\nHome Team: FOOT FAIRIES\nAway Team: AMICI FC\nHome Sc
 ore: 8\nAway Score: 4
END:VEVENT
END:VCALENDAR
