BEGIN:VCALENDAR
VERSION:2.0
PRODID:-//EZFacility.com, Inc.//EZL 2.5.5.28621
BEGIN:VEVENT
UID:16967110@ezleagues.ezfacility.com
DTSTAMP:20260426T033430Z
CREATED:20260426T033430Z
DTSTART:20260118T020000Z
DTEND:20260118T030000Z
LOCATION:RINK 1
CONTACT:
SUMMARY:Cedar Cliff HS VS. Keystone FC South
DESCRIPTION:League Name: HS Futsal Winter 2026\nGame Type: Regular\nGame St
 atus: Complete\nHome Team: Cedar Cliff HS\nAway Team: Keystone FC South\nH
 ome Score: 3\nAway Score: 1
END:VEVENT
BEGIN:VEVENT
UID:16967113@ezleagues.ezfacility.com
DTSTAMP:20260426T033430Z
CREATED:20260426T033430Z
DTSTART:20260125T000000Z
DTEND:20260125T010000Z
LOCATION:RINK 1
CONTACT:
SUMMARY:Keystone FC South VS. CH Goal Diggers
DESCRIPTION:League Name: HS Futsal Winter 2026\nGame Type: Regular\nGame St
 atus: Complete\nHome Team: Keystone FC South\nAway Team: CH Goal Diggers\n
 Home Score: 2\nAway Score: 3
END:VEVENT
BEGIN:VEVENT
UID:16967115@ezleagues.ezfacility.com
DTSTAMP:20260426T033430Z
CREATED:20260426T033430Z
DTSTART:20260131T230000Z
DTEND:20260201T000000Z
LOCATION:RINK 1
CONTACT:
SUMMARY:Keystone FC South VS. CH Goal Diggers
DESCRIPTION:League Name: HS Futsal Winter 2026\nGame Type: Regular\nGame St
 atus: Complete\nHome Team: Keystone FC South\nAway Team: CH Goal Diggers\n
 Home Score: 0\nAway Score: 6
END:VEVENT
BEGIN:VEVENT
UID:16967117@ezleagues.ezfacility.com
DTSTAMP:20260426T033430Z
CREATED:20260426T033430Z
DTSTART:20260208T010000Z
DTEND:20260208T020000Z
LOCATION:RINK 1
CONTACT:
SUMMARY:Mink Pekka United VS. Keystone FC South
DESCRIPTION:League Name: HS Futsal Winter 2026\nGame Type: Regular\nGame St
 atus: Complete\nHome Team: Mink Pekka United\nAway Team: Keystone FC South
 \nHome Score: 8\nAway Score: 0
END:VEVENT
BEGIN:VEVENT
UID:16967121@ezleagues.ezfacility.com
DTSTAMP:20260426T033430Z
CREATED:20260426T033430Z
DTSTART:20260215T010000Z
DTEND:20260215T020000Z
LOCATION:RINK 1
CONTACT:
SUMMARY:Keystone FC South VS. Spring Grove Rockets
DESCRIPTION:League Name: HS Futsal Winter 2026\nGame Type: Regular\nGame St
 atus: Complete\nHome Team: Keystone FC South\nAway Team: Spring Grove Rock
 ets\nHome Score: 0\nAway Score: 1
END:VEVENT
BEGIN:VEVENT
UID:16967128@ezleagues.ezfacility.com
DTSTAMP:20260426T033430Z
CREATED:20260426T033430Z
DTSTART:20260301T000000Z
DTEND:20260301T010000Z
LOCATION:RINK 1
CONTACT:
SUMMARY:Mix USA VS. Keystone FC South
DESCRIPTION:League Name: HS Futsal Winter 2026\nGame Type: Regular\nGame St
 atus: Complete\nHome Team: Mix USA\nAway Team: Keystone FC South\nHome Sco
 re: 3\nAway Score: 1
END:VEVENT
BEGIN:VEVENT
UID:16967130@ezleagues.ezfacility.com
DTSTAMP:20260426T033430Z
CREATED:20260426T033430Z
DTSTART:20260308T000000Z
DTEND:20260308T010000Z
LOCATION:RINK 1
CONTACT:
SUMMARY:Mink Pekka United VS. Keystone FC South
DESCRIPTION:League Name: HS Futsal Winter 2026\nGame Type: Regular\nGame St
 atus: Complete\nHome Team: Mink Pekka United\nAway Team: Keystone FC South
 \nHome Score: 4\nAway Score: 5
END:VEVENT
BEGIN:VEVENT
UID:16967125@ezleagues.ezfacility.com
DTSTAMP:20260426T033430Z
CREATED:20260426T033430Z
DTSTART:20260314T230000Z
DTEND:20260315T000000Z
LOCATION:RINK 1
CONTACT:
SUMMARY:Keystone FC South VS. Cedar Cliff HS
DESCRIPTION:League Name: HS Futsal Winter 2026\nGame Type: Regular\nGame St
 atus: Complete\nHome Team: Keystone FC South\nAway Team: Cedar Cliff HS\nH
 ome Score: 0\nAway Score: 1
END:VEVENT
END:VCALENDAR
