BEGIN:VCALENDAR
VERSION:2.0
PRODID:-//EZFacility.com, Inc.//EZL 2.5.5.28621
BEGIN:VEVENT
UID:16967731@ezleagues.ezfacility.com
DTSTAMP:20260421T154749Z
CREATED:20260421T154749Z
DTSTART:20260119T210000Z
DTEND:20260119T213000Z
LOCATION:Indoor #6 - 1/3 Field
CONTACT:
SUMMARY:B3. Cheetahs VS. B4. NEU 2017 Blue Ice
DESCRIPTION:League Name: MLK 2025 - U10 Girls\nGame Type: Regular\nGame Sta
 tus: Complete\nHome Team: B3. Cheetahs\nAway Team: B4. NEU 2017 Blue Ice\n
 Home Score: 1\nAway Score: 4
END:VEVENT
BEGIN:VEVENT
UID:16967734@ezleagues.ezfacility.com
DTSTAMP:20260421T154749Z
CREATED:20260421T154749Z
DTSTART:20260119T220000Z
DTEND:20260119T223000Z
LOCATION:Indoor #6 - 1/3 Field
CONTACT:
SUMMARY:B1. Wilson Bulldogs VS. B3. Cheetahs
DESCRIPTION:League Name: MLK 2025 - U10 Girls\nGame Type: Regular\nGame Sta
 tus: Complete\nHome Team: B1. Wilson Bulldogs\nAway Team: B3. Cheetahs\nHo
 me Score: 4\nAway Score: 0
END:VEVENT
BEGIN:VEVENT
UID:16967739@ezleagues.ezfacility.com
DTSTAMP:20260421T154749Z
CREATED:20260421T154749Z
DTSTART:20260119T233000Z
DTEND:20260120T000000Z
LOCATION:Indoor #5 - 1/3 Field
CONTACT:
SUMMARY:B1. PG Red Lightning VS. B3. Cheetahs
DESCRIPTION:League Name: MLK 2025 - U10 Girls\nGame Type: Regular\nGame Sta
 tus: Complete\nHome Team: B1. PG Red Lightning\nAway Team: B3. Cheetahs\nH
 ome Score: 8\nAway Score: 0
END:VEVENT
END:VCALENDAR
