BEGIN:VCALENDAR
VERSION:2.0
PRODID:-//EZFacility.com, Inc.//EZL 2.5.5.28621
BEGIN:VEVENT
UID:16967819@ezleagues.ezfacility.com
DTSTAMP:20260424T044218Z
CREATED:20260424T044218Z
DTSTART:20260119T010000Z
DTEND:20260119T020000Z
LOCATION:Large Field 2
CONTACT:
SUMMARY:HIGHNOTES VS. Most Humble
DESCRIPTION:League Name: Elevate Indoor Winter Soccer Session Adult CoEd\nG
 ame Type: Regular\nGame Status: Complete\nHome Team: HIGHNOTES\nAway Team:
  Most Humble\nHome Score: 1\nAway Score: 14
END:VEVENT
BEGIN:VEVENT
UID:16967823@ezleagues.ezfacility.com
DTSTAMP:20260424T044218Z
CREATED:20260424T044218Z
DTSTART:20260126T010000Z
DTEND:20260126T020000Z
LOCATION:Large Field 1
CONTACT:
SUMMARY:Wolf Pack FC VS. Most Humble
DESCRIPTION:League Name: Elevate Indoor Winter Soccer Session Adult CoEd\nG
 ame Type: Regular\nGame Status: Rescheduled\nHome Team: Wolf Pack FC\nAway
  Team: Most Humble\n
END:VEVENT
BEGIN:VEVENT
UID:16967827@ezleagues.ezfacility.com
DTSTAMP:20260424T044218Z
CREATED:20260424T044218Z
DTSTART:20260202T010000Z
DTEND:20260202T020000Z
LOCATION:Large Field 2
CONTACT:
SUMMARY:Inter USA VS. Most Humble
DESCRIPTION:League Name: Elevate Indoor Winter Soccer Session Adult CoEd\nG
 ame Type: Regular\nGame Status: Complete\nHome Team: Inter USA\nAway Team:
  Most Humble\nHome Score: 3\nAway Score: 7
END:VEVENT
BEGIN:VEVENT
UID:16967830@ezleagues.ezfacility.com
DTSTAMP:20260424T044218Z
CREATED:20260424T044218Z
DTSTART:20260209T010000Z
DTEND:20260209T020000Z
LOCATION:Large Field 2
CONTACT:
SUMMARY:Most Humble VS. Dynamo Kiev
DESCRIPTION:League Name: Elevate Indoor Winter Soccer Session Adult CoEd\nG
 ame Type: Regular\nGame Status: Complete\nHome Team: Most Humble\nAway Tea
 m: Dynamo Kiev\nHome Score: 7\nAway Score: 8
END:VEVENT
BEGIN:VEVENT
UID:16967832@ezleagues.ezfacility.com
DTSTAMP:20260424T044218Z
CREATED:20260424T044218Z
DTSTART:20260216T020000Z
DTEND:20260216T030000Z
LOCATION:Large Field 2
CONTACT:
SUMMARY:Most Humble VS. Pauly’s Barbershop
DESCRIPTION:League Name: Elevate Indoor Winter Soccer Session Adult CoEd\nG
 ame Type: Regular\nGame Status: Complete\nHome Team: Most Humble\nAway Tea
 m: Pauly’s Barbershop\nHome Score: 8\nAway Score: 3
END:VEVENT
BEGIN:VEVENT
UID:16967834@ezleagues.ezfacility.com
DTSTAMP:20260424T044218Z
CREATED:20260424T044218Z
DTSTART:20260223T020000Z
DTEND:20260223T030000Z
LOCATION:Large Field 2
CONTACT:
SUMMARY:Most Humble VS. HIGHNOTES
DESCRIPTION:League Name: Elevate Indoor Winter Soccer Session Adult CoEd\nG
 ame Type: Regular\nGame Status: Complete\nHome Team: Most Humble\nAway Tea
 m: HIGHNOTES\nHome Score: 10\nAway Score: 4
END:VEVENT
BEGIN:VEVENT
UID:16967838@ezleagues.ezfacility.com
DTSTAMP:20260424T044218Z
CREATED:20260424T044218Z
DTSTART:20260302T010000Z
DTEND:20260302T020000Z
LOCATION:Large Field 1
CONTACT:
SUMMARY:Most Humble VS. Wolf Pack FC
DESCRIPTION:League Name: Elevate Indoor Winter Soccer Session Adult CoEd\nG
 ame Type: Regular\nGame Status: Complete\nHome Team: Most Humble\nAway Tea
 m: Wolf Pack FC\nHome Score: 8\nAway Score: 4
END:VEVENT
BEGIN:VEVENT
UID:16967842@ezleagues.ezfacility.com
DTSTAMP:20260424T044218Z
CREATED:20260424T044218Z
DTSTART:20260309T013000Z
DTEND:20260309T023000Z
LOCATION:Large Field 2
CONTACT:
SUMMARY:Most Humble VS. Inter USA
DESCRIPTION:League Name: Elevate Indoor Winter Soccer Session Adult CoEd\nG
 ame Type: Regular\nGame Status: Complete\nHome Team: Most Humble\nAway Tea
 m: Inter USA\nHome Score: 8\nAway Score: 3
END:VEVENT
BEGIN:VEVENT
UID:16967845@ezleagues.ezfacility.com
DTSTAMP:20260424T044218Z
CREATED:20260424T044218Z
DTSTART:20260316T000000Z
DTEND:20260316T010000Z
LOCATION:Large Field 2
CONTACT:
SUMMARY:Dynamo Kiev VS. Most Humble
DESCRIPTION:League Name: Elevate Indoor Winter Soccer Session Adult CoEd\nG
 ame Type: Regular\nGame Status: Complete\nHome Team: Dynamo Kiev\nAway Tea
 m: Most Humble\nHome Score: 6\nAway Score: 3
END:VEVENT
BEGIN:VEVENT
UID:16967847@ezleagues.ezfacility.com
DTSTAMP:20260424T044218Z
CREATED:20260424T044218Z
DTSTART:20260322T230000Z
DTEND:20260323T000000Z
LOCATION:Large Field 2
CONTACT:
SUMMARY:Pauly’s Barbershop VS. Most Humble
DESCRIPTION:League Name: Elevate Indoor Winter Soccer Session Adult CoEd\nG
 ame Type: Regular\nGame Status: Complete\nHome Team: Pauly’s Barbershop\
 nAway Team: Most Humble\nHome Score: 0\nAway Score: 3
END:VEVENT
BEGIN:VEVENT
UID:17058738@ezleagues.ezfacility.com
DTSTAMP:20260424T044218Z
CREATED:20260424T044218Z
DTSTART:20260329T220000Z
DTEND:20260329T230000Z
LOCATION:Large Field 2
CONTACT:
SUMMARY:Wolf Pack FC VS. Most Humble
DESCRIPTION:League Name: Elevate Indoor Winter Soccer Session Adult CoEd\nG
 ame Type: Regular\nGame Status: Complete\nHome Team: Wolf Pack FC\nAway Te
 am: Most Humble\nHome Score: 1\nAway Score: 7
END:VEVENT
END:VCALENDAR
