BEGIN:VCALENDAR
VERSION:2.0
PRODID:-//EZFacility.com, Inc.//EZL 2.5.5.28621
BEGIN:VEVENT
UID:16969032@ezleagues.ezfacility.com
DTSTAMP:20260426T033403Z
CREATED:20260426T033403Z
DTSTART:20260207T125000Z
DTEND:20260207T133500Z
LOCATION:VA Army National Guard Field 2
CONTACT:Pedemonte
SUMMARY:VRSC 2013 Black VS. Stars
DESCRIPTION:League Name: Girls 2014/2013 South W2\nGame Type: Regular\nGame
  Status: Complete\nHome Team: VRSC 2013 Black\nAway Team: Stars\nHome Scor
 e: 1\nAway Score: 17
END:VEVENT
BEGIN:VEVENT
UID:16969045@ezleagues.ezfacility.com
DTSTAMP:20260426T033403Z
CREATED:20260426T033403Z
DTSTART:20260215T160000Z
DTEND:20260215T164500Z
LOCATION:Field 1
CONTACT:Guzman
SUMMARY:ODFC 2013Gold VS. VRSC 2013 Black
DESCRIPTION:League Name: Girls 2014/2013 South W2\nGame Type: Regular\nGame
  Status: Complete\nHome Team: ODFC 2013Gold\nAway Team: VRSC 2013 Black\nH
 ome Score: 6\nAway Score: 4
END:VEVENT
BEGIN:VEVENT
UID:16969058@ezleagues.ezfacility.com
DTSTAMP:20260426T033403Z
CREATED:20260426T033403Z
DTSTART:20260221T143000Z
DTEND:20260221T151500Z
LOCATION:Field 1
CONTACT:Cazun
SUMMARY:LSC 2013 White VS. VRSC 2013 Black
DESCRIPTION:League Name: Girls 2014/2013 South W2\nGame Type: Regular\nGame
  Status: Complete\nHome Team: LSC 2013 White\nAway Team: VRSC 2013 Black\n
 Home Score: 4\nAway Score: 5
END:VEVENT
BEGIN:VEVENT
UID:16969073@ezleagues.ezfacility.com
DTSTAMP:20260426T033403Z
CREATED:20260426T033403Z
DTSTART:20260301T125000Z
DTEND:20260301T133500Z
LOCATION: Field 3
CONTACT:Cazun
SUMMARY:VRSC 2013 Black VS. ODFC 2013G Black/Panthers
DESCRIPTION:League Name: Girls 2014/2013 South W2\nGame Type: Regular\nGame
  Status: Complete\nHome Team: VRSC 2013 Black\nAway Team: ODFC 2013G Black
 /Panthers\nHome Score: 5\nAway Score: 4
END:VEVENT
BEGIN:VEVENT
UID:16969088@ezleagues.ezfacility.com
DTSTAMP:20260426T033403Z
CREATED:20260426T033403Z
DTSTART:20260308T203000Z
DTEND:20260308T211500Z
LOCATION:VA Army National Guard Field 2
CONTACT:Navarro
SUMMARY:VRSC 2013 Black VS. TBD-2
DESCRIPTION:League Name: Girls 2014/2013 South W2\nGame Type: Regular\nGame
  Status: Complete\nHome Team: VRSC 2013 Black\nAway Team: TBD-2\nHome Scor
 e: 0\nAway Score: 0
END:VEVENT
BEGIN:VEVENT
UID:16969100@ezleagues.ezfacility.com
DTSTAMP:20260426T033403Z
CREATED:20260426T033403Z
DTSTART:20260314T220000Z
DTEND:20260314T224500Z
LOCATION: Field 3
CONTACT:Cazun
SUMMARY:VRSC 2013 Black VS. ODFC 2013G Black/Panthers
DESCRIPTION:League Name: Girls 2014/2013 South W2\nGame Type: Postseason\nG
 ame Status: Complete\nHome Team: VRSC 2013 Black\nAway Team: ODFC 2013G Bl
 ack/Panthers\nHome Score: 4\nAway Score: 3
END:VEVENT
END:VCALENDAR
