BEGIN:VCALENDAR
VERSION:2.0
PRODID:-//EZFacility.com, Inc.//EZL 2.5.5.28621
BEGIN:VEVENT
UID:16969704@ezleagues.ezfacility.com
DTSTAMP:20260426T033523Z
CREATED:20260426T033523Z
DTSTART:20260108T024500Z
DTEND:20260108T040000Z
LOCATION:99 RINK
CONTACT:
SUMMARY:Order 66 VS. Pirates
DESCRIPTION:League Name: D Division (Novice)\nGame Type: Regular\nGame Stat
 us: Complete\nHome Team: Order 66\nAway Team: Pirates\nHome Score: 5\nAway
  Score: 0
END:VEVENT
BEGIN:VEVENT
UID:16969713@ezleagues.ezfacility.com
DTSTAMP:20260426T033523Z
CREATED:20260426T033523Z
DTSTART:20260117T030000Z
DTEND:20260117T041500Z
LOCATION:98 RINK
CONTACT:
SUMMARY:Order 66 VS. Mahopac Machine
DESCRIPTION:League Name: D Division (Novice)\nGame Type: Regular\nGame Stat
 us: Rescheduled\nHome Team: Order 66\nAway Team: Mahopac Machine\n
END:VEVENT
BEGIN:VEVENT
UID:16969782@ezleagues.ezfacility.com
DTSTAMP:20260426T033523Z
CREATED:20260426T033523Z
DTSTART:20260202T021000Z
DTEND:20260202T032500Z
LOCATION:99 RINK
CONTACT:
SUMMARY:Trainwreck VS. Order 66
DESCRIPTION:League Name: D Division (Novice)\nGame Type: Regular\nGame Stat
 us: Complete\nHome Team: Trainwreck\nAway Team: Order 66\nHome Score: 3\nA
 way Score: 5
END:VEVENT
BEGIN:VEVENT
UID:16972418@ezleagues.ezfacility.com
DTSTAMP:20260426T033523Z
CREATED:20260426T033523Z
DTSTART:20260211T030000Z
DTEND:20260211T041500Z
LOCATION:98 RINK
CONTACT:
SUMMARY:Order 66 VS. Dumpster Fire
DESCRIPTION:League Name: D Division (Novice)\nGame Type: Regular\nGame Stat
 us: Complete\nHome Team: Order 66\nAway Team: Dumpster Fire\nHome Score: 6
 \nAway Score: 7
END:VEVENT
BEGIN:VEVENT
UID:16972420@ezleagues.ezfacility.com
DTSTAMP:20260426T033523Z
CREATED:20260426T033523Z
DTSTART:20260220T024500Z
DTEND:20260220T040000Z
LOCATION:98 RINK
CONTACT:
SUMMARY:Trainwreck VS. Order 66
DESCRIPTION:League Name: D Division (Novice)\nGame Type: Regular\nGame Stat
 us: Complete\nHome Team: Trainwreck\nAway Team: Order 66\nHome Score: 0\nA
 way Score: 7
END:VEVENT
BEGIN:VEVENT
UID:17034847@ezleagues.ezfacility.com
DTSTAMP:20260426T033523Z
CREATED:20260426T033523Z
DTSTART:20260228T021000Z
DTEND:20260228T032500Z
LOCATION:98 RINK
CONTACT:
SUMMARY:Pirates VS. Order 66
DESCRIPTION:League Name: D Division (Novice)\nGame Type: Regular\nGame Stat
 us: Complete\nHome Team: Pirates\nAway Team: Order 66\nHome Score: 2\nAway
  Score: 1
END:VEVENT
BEGIN:VEVENT
UID:17034914@ezleagues.ezfacility.com
DTSTAMP:20260426T033523Z
CREATED:20260426T033523Z
DTSTART:20260304T030000Z
DTEND:20260304T041500Z
LOCATION:98 RINK
CONTACT:
SUMMARY:Order 66 VS. Mahopac Machine
DESCRIPTION:League Name: D Division (Novice)\nGame Type: Regular\nGame Stat
 us: Complete\nHome Team: Order 66\nAway Team: Mahopac Machine\nHome Score:
  3\nAway Score: 2
END:VEVENT
BEGIN:VEVENT
UID:17034917@ezleagues.ezfacility.com
DTSTAMP:20260426T033523Z
CREATED:20260426T033523Z
DTSTART:20260308T011500Z
DTEND:20260308T023000Z
LOCATION:99 RINK
CONTACT:
SUMMARY:Trainwreck VS. Order 66
DESCRIPTION:League Name: D Division (Novice)\nGame Type: Regular\nGame Stat
 us: Rescheduled\nHome Team: Trainwreck\nAway Team: Order 66\n
END:VEVENT
BEGIN:VEVENT
UID:17034923@ezleagues.ezfacility.com
DTSTAMP:20260426T033523Z
CREATED:20260426T033523Z
DTSTART:20260312T013000Z
DTEND:20260312T024500Z
LOCATION:98 RINK
CONTACT:
SUMMARY:Pirates VS. Order 66
DESCRIPTION:League Name: D Division (Novice)\nGame Type: Regular\nGame Stat
 us: Complete\nHome Team: Pirates\nAway Team: Order 66\nHome Score: 2\nAway
  Score: 6
END:VEVENT
BEGIN:VEVENT
UID:17034927@ezleagues.ezfacility.com
DTSTAMP:20260426T033523Z
CREATED:20260426T033523Z
DTSTART:20260320T014000Z
DTEND:20260320T025500Z
LOCATION:98 RINK
CONTACT:
SUMMARY:Order 66 VS. Mahopac Machine
DESCRIPTION:League Name: D Division (Novice)\nGame Type: Regular\nGame Stat
 us: Complete\nHome Team: Order 66\nAway Team: Mahopac Machine\nHome Score:
  3\nAway Score: 5
END:VEVENT
BEGIN:VEVENT
UID:17034929@ezleagues.ezfacility.com
DTSTAMP:20260426T033523Z
CREATED:20260426T033523Z
DTSTART:20260327T014500Z
DTEND:20260327T030000Z
LOCATION:98 RINK
CONTACT:
SUMMARY:Dumpster Fire VS. Order 66
DESCRIPTION:League Name: D Division (Novice)\nGame Type: Regular\nGame Stat
 us: Complete\nHome Team: Dumpster Fire\nAway Team: Order 66\nHome Score: 2
 \nAway Score: 3
END:VEVENT
BEGIN:VEVENT
UID:17079350@ezleagues.ezfacility.com
DTSTAMP:20260426T033523Z
CREATED:20260426T033523Z
DTSTART:20260402T004000Z
DTEND:20260402T015500Z
LOCATION:99 RINK
CONTACT:
SUMMARY:Trainwreck VS. Order 66
DESCRIPTION:League Name: D Division (Novice)\nGame Type: Regular\nGame Stat
 us: Complete\nHome Team: Trainwreck\nAway Team: Order 66\nHome Score: 3\nA
 way Score: 4
END:VEVENT
BEGIN:VEVENT
UID:17079423@ezleagues.ezfacility.com
DTSTAMP:20260426T033523Z
CREATED:20260426T033523Z
DTSTART:20260403T013000Z
DTEND:20260403T024500Z
LOCATION:99 RINK
CONTACT:
SUMMARY:Order 66 VS. Pirates
DESCRIPTION:League Name: D Division (Novice)\nGame Type: Postseason\nGame S
 tatus: Complete\nHome Team: Order 66\nAway Team: Pirates\nHome Score: 4\nA
 way Score: 0
END:VEVENT
BEGIN:VEVENT
UID:17079438@ezleagues.ezfacility.com
DTSTAMP:20260426T033523Z
CREATED:20260426T033523Z
DTSTART:20260410T010000Z
DTEND:20260410T021500Z
LOCATION:98 RINK
CONTACT:
SUMMARY:Mahopac Machine VS. Order 66
DESCRIPTION:League Name: D Division (Novice)\nGame Type: Postseason\nGame S
 tatus: Complete\nHome Team: Mahopac Machine\nAway Team: Order 66\nHome Sco
 re: 3\nAway Score: 0
END:VEVENT
END:VCALENDAR
