BEGIN:VCALENDAR
VERSION:2.0
PRODID:-//EZFacility.com, Inc.//EZL 2.5.5.28621
BEGIN:VEVENT
UID:16970056@ezleagues.ezfacility.com
DTSTAMP:20260420T145849Z
CREATED:20260420T145849Z
DTSTART:20260115T010000Z
DTEND:20260115T020000Z
LOCATION:Field 1 BLD
CONTACT:
SUMMARY:Corona FC VS. South Winston FC
DESCRIPTION:League Name: MIERCOLES *2 DIVISION* 1/07\nGame Type: Regular\nG
 ame Status: Complete\nHome Team: Corona FC\nAway Team: South Winston FC\nH
 ome Score: 9\nAway Score: 11
END:VEVENT
BEGIN:VEVENT
UID:16984635@ezleagues.ezfacility.com
DTSTAMP:20260420T145849Z
CREATED:20260420T145849Z
DTSTART:20260122T010000Z
DTEND:20260122T020000Z
LOCATION:Field 1 BLD
CONTACT:
SUMMARY:Corona FC VS. All American Security
DESCRIPTION:League Name: MIERCOLES *2 DIVISION* 1/07\nGame Type: Regular\nG
 ame Status: Complete\nHome Team: Corona FC\nAway Team: All American Securi
 ty\nHome Score: 15\nAway Score: 11
END:VEVENT
BEGIN:VEVENT
UID:17004711@ezleagues.ezfacility.com
DTSTAMP:20260420T145849Z
CREATED:20260420T145849Z
DTSTART:20260205T010000Z
DTEND:20260205T020000Z
LOCATION:Field 3 BLD
CONTACT:
SUMMARY:Corona FC VS. Food Floor
DESCRIPTION:League Name: MIERCOLES *2 DIVISION* 1/07\nGame Type: Regular\nG
 ame Status: Complete\nHome Team: Corona FC\nAway Team: Food Floor\nHome Sc
 ore: 29\nAway Score: 9
END:VEVENT
BEGIN:VEVENT
UID:17022206@ezleagues.ezfacility.com
DTSTAMP:20260420T145849Z
CREATED:20260420T145849Z
DTSTART:20260212T010000Z
DTEND:20260212T020000Z
LOCATION:Field 1 BLD
CONTACT:
SUMMARY:Corona FC VS. Tierra Caliente
DESCRIPTION:League Name: MIERCOLES *2 DIVISION* 1/07\nGame Type: Regular\nG
 ame Status: Complete\nHome Team: Corona FC\nAway Team: Tierra Caliente\nHo
 me Score: 14\nAway Score: 13
END:VEVENT
BEGIN:VEVENT
UID:17038540@ezleagues.ezfacility.com
DTSTAMP:20260420T145849Z
CREATED:20260420T145849Z
DTSTART:20260219T010000Z
DTEND:20260219T020000Z
LOCATION:Field 5 BLD
CONTACT:
SUMMARY:Corona FC VS. Limeño FC
DESCRIPTION:League Name: MIERCOLES *2 DIVISION* 1/07\nGame Type: Regular\nG
 ame Status: Complete\nHome Team: Corona FC\nAway Team: Limeño FC\nHome Sc
 ore: 9\nAway Score: 7
END:VEVENT
BEGIN:VEVENT
UID:17038552@ezleagues.ezfacility.com
DTSTAMP:20260420T145849Z
CREATED:20260420T145849Z
DTSTART:20260226T010000Z
DTEND:20260226T020000Z
LOCATION:Field 2 BLD
CONTACT:
SUMMARY:Corona FC VS. Pumas
DESCRIPTION:League Name: MIERCOLES *2 DIVISION* 1/07\nGame Type: Regular\nG
 ame Status: Complete\nHome Team: Corona FC\nAway Team: Pumas\nHome Score: 
 11\nAway Score: 12
END:VEVENT
BEGIN:VEVENT
UID:17050200@ezleagues.ezfacility.com
DTSTAMP:20260420T145849Z
CREATED:20260420T145849Z
DTSTART:20260304T180000Z
DTEND:20260304T190000Z
LOCATION:Field 1 BLD
CONTACT:
SUMMARY:Corona FC VS. Pacific FC
DESCRIPTION:League Name: MIERCOLES *2 DIVISION* 1/07\nGame Type: Regular\nG
 ame Status: Complete\nHome Team: Corona FC\nAway Team: Pacific FC\nHome Sc
 ore: 7\nAway Score: 10
END:VEVENT
BEGIN:VEVENT
UID:17053165@ezleagues.ezfacility.com
DTSTAMP:20260420T145849Z
CREATED:20260420T145849Z
DTSTART:20260311T180000Z
DTEND:20260311T190000Z
LOCATION:Field 2 BLD
CONTACT:
SUMMARY:Corona FC VS. Inter Mexico
DESCRIPTION:League Name: MIERCOLES *2 DIVISION* 1/07\nGame Type: Regular\nG
 ame Status: Complete\nHome Team: Corona FC\nAway Team: Inter Mexico\nHome 
 Score: 0\nAway Score: 1
END:VEVENT
BEGIN:VEVENT
UID:17064920@ezleagues.ezfacility.com
DTSTAMP:20260420T145849Z
CREATED:20260420T145849Z
DTSTART:20260318T180000Z
DTEND:20260318T190000Z
LOCATION:Field 2 BLD
CONTACT:
SUMMARY:Corona FC VS. Real Villa
DESCRIPTION:League Name: MIERCOLES *2 DIVISION* 1/07\nGame Type: Regular\nG
 ame Status: Complete\nHome Team: Corona FC\nAway Team: Real Villa\nHome Sc
 ore: 18\nAway Score: 8
END:VEVENT
BEGIN:VEVENT
UID:17074162@ezleagues.ezfacility.com
DTSTAMP:20260420T145849Z
CREATED:20260420T145849Z
DTSTART:20260325T180000Z
DTEND:20260325T190000Z
LOCATION:Field 2 BLD
CONTACT:
SUMMARY:Corona FC VS. Queretaro
DESCRIPTION:League Name: MIERCOLES *2 DIVISION* 1/07\nGame Type: Regular\nG
 ame Status: Complete\nHome Team: Corona FC\nAway Team: Queretaro\nHome Sco
 re: 17\nAway Score: 7
END:VEVENT
BEGIN:VEVENT
UID:17090502@ezleagues.ezfacility.com
DTSTAMP:20260420T145849Z
CREATED:20260420T145849Z
DTSTART:20260401T180000Z
DTEND:20260401T190000Z
LOCATION:Field 2 BLD
CONTACT:
SUMMARY:Corona FC VS. Los Guerreros
DESCRIPTION:League Name: MIERCOLES *2 DIVISION* 1/07\nGame Type: Regular\nG
 ame Status: Complete\nHome Team: Corona FC\nAway Team: Los Guerreros\nHome
  Score: 7\nAway Score: 7
END:VEVENT
BEGIN:VEVENT
UID:17095061@ezleagues.ezfacility.com
DTSTAMP:20260420T145849Z
CREATED:20260420T145849Z
DTSTART:20260408T170000Z
DTEND:20260408T180000Z
LOCATION:11vs11 Field 1 BET/H
CONTACT:
SUMMARY:Corona FC VS. JCruz
DESCRIPTION:League Name: MIERCOLES *2 DIVISION* 1/07\nGame Type: Regular\nG
 ame Status: Complete\nHome Team: Corona FC\nAway Team: JCruz\nHome Score: 
 12\nAway Score: 15
END:VEVENT
END:VCALENDAR
