BEGIN:VCALENDAR
VERSION:2.0
PRODID:-//EZFacility.com, Inc.//EZL 2.5.5.28621
BEGIN:VEVENT
UID:16971608@ezleagues.ezfacility.com
DTSTAMP:20260426T033634Z
CREATED:20260426T033634Z
DTSTART:20260124T214000Z
DTEND:20260124T223000Z
LOCATION:Full Indoor Field
CONTACT:
SUMMARY:AC Bollockers VS. Coloma
DESCRIPTION:League Name: 25-26 Indoor 2-HS Boys' Mittelliga\nGame Type: Reg
 ular\nGame Status: Complete\nHome Team: AC Bollockers\nAway Team: Coloma\n
 Home Score: 0\nAway Score: 3
END:VEVENT
BEGIN:VEVENT
UID:16971611@ezleagues.ezfacility.com
DTSTAMP:20260426T033634Z
CREATED:20260426T033634Z
DTSTART:20260131T214000Z
DTEND:20260131T223000Z
LOCATION:Full Indoor Field
CONTACT:
SUMMARY:AC Bollockers VS. LaPorte [Gonzalez]
DESCRIPTION:League Name: 25-26 Indoor 2-HS Boys' Mittelliga\nGame Type: Reg
 ular\nGame Status: Complete\nHome Team: AC Bollockers\nAway Team: LaPorte 
 [Gonzalez]\nHome Score: 2\nAway Score: 5
END:VEVENT
BEGIN:VEVENT
UID:16971614@ezleagues.ezfacility.com
DTSTAMP:20260426T033634Z
CREATED:20260426T033634Z
DTSTART:20260207T205000Z
DTEND:20260207T214000Z
LOCATION:Full Indoor Field
CONTACT:
SUMMARY:AC Bollockers VS. Wolves X
DESCRIPTION:League Name: 25-26 Indoor 2-HS Boys' Mittelliga\nGame Type: Reg
 ular\nGame Status: Complete\nHome Team: AC Bollockers\nAway Team: Wolves X
 \nHome Score: 2\nAway Score: 4
END:VEVENT
BEGIN:VEVENT
UID:16971617@ezleagues.ezfacility.com
DTSTAMP:20260426T033634Z
CREATED:20260426T033634Z
DTSTART:20260214T214000Z
DTEND:20260214T223000Z
LOCATION:Full Indoor Field
CONTACT:
SUMMARY:AC Bollockers VS. JV Bears
DESCRIPTION:League Name: 25-26 Indoor 2-HS Boys' Mittelliga\nGame Type: Reg
 ular\nGame Status: Complete\nHome Team: AC Bollockers\nAway Team: JV Bears
 \nHome Score: 3\nAway Score: 1
END:VEVENT
BEGIN:VEVENT
UID:16971623@ezleagues.ezfacility.com
DTSTAMP:20260426T033634Z
CREATED:20260426T033634Z
DTSTART:20260228T214000Z
DTEND:20260228T223000Z
LOCATION:Full Indoor Field
CONTACT:
SUMMARY:Coloma VS. AC Bollockers
DESCRIPTION:League Name: 25-26 Indoor 2-HS Boys' Mittelliga\nGame Type: Reg
 ular\nGame Status: Complete\nHome Team: Coloma\nAway Team: AC Bollockers\n
 Home Score: 4\nAway Score: 2
END:VEVENT
BEGIN:VEVENT
UID:16971626@ezleagues.ezfacility.com
DTSTAMP:20260426T033634Z
CREATED:20260426T033634Z
DTSTART:20260307T214000Z
DTEND:20260307T223000Z
LOCATION:Full Indoor Field
CONTACT:
SUMMARY:LaPorte [Gonzalez] VS. AC Bollockers
DESCRIPTION:League Name: 25-26 Indoor 2-HS Boys' Mittelliga\nGame Type: Reg
 ular\nGame Status: Complete\nHome Team: LaPorte [Gonzalez]\nAway Team: AC 
 Bollockers\nHome Score: 5\nAway Score: 0
END:VEVENT
BEGIN:VEVENT
UID:16971629@ezleagues.ezfacility.com
DTSTAMP:20260426T033634Z
CREATED:20260426T033634Z
DTSTART:20260314T204000Z
DTEND:20260314T213000Z
LOCATION:Full Indoor Field
CONTACT:
SUMMARY:Wolves X VS. AC Bollockers
DESCRIPTION:League Name: 25-26 Indoor 2-HS Boys' Mittelliga\nGame Type: Reg
 ular\nGame Status: Complete\nHome Team: Wolves X\nAway Team: AC Bollockers
 \nHome Score: 4\nAway Score: 2
END:VEVENT
BEGIN:VEVENT
UID:16971628@ezleagues.ezfacility.com
DTSTAMP:20260426T033634Z
CREATED:20260426T033634Z
DTSTART:20260321T231000Z
DTEND:20260322T000000Z
LOCATION:Full Indoor Field
CONTACT:
SUMMARY:AC Bollockers VS. JV Bears
DESCRIPTION:League Name: 25-26 Indoor 2-HS Boys' Mittelliga\nGame Type: Reg
 ular\nGame Status: Complete\nHome Team: AC Bollockers\nAway Team: JV Bears
 \nHome Score: 5\nAway Score: 3
END:VEVENT
END:VCALENDAR
