BEGIN:VCALENDAR
VERSION:2.0
PRODID:-//EZFacility.com, Inc.//EZL 2.5.5.28621
BEGIN:VEVENT
UID:16971838@ezleagues.ezfacility.com
DTSTAMP:20260426T035026Z
CREATED:20260426T035026Z
DTSTART:20260124T181000Z
DTEND:20260124T185200Z
LOCATION:7v7 Field #1
CONTACT:Espinoza
SUMMARY:LOFs Lightning VS. Phantoms
DESCRIPTION:League Name: 2025-2026 Winter Session 2 Soccer U-10 Elite Divis
 ion\nGame Type: Regular\nGame Status: Complete\nHome Team: LOFs Lightning\
 nAway Team: Phantoms\nHome Score: 1\nAway Score: 2
END:VEVENT
BEGIN:VEVENT
UID:16971852@ezleagues.ezfacility.com
DTSTAMP:20260426T035026Z
CREATED:20260426T035026Z
DTSTART:20260124T190000Z
DTEND:20260124T194200Z
LOCATION:7v7 Field #1
CONTACT:Cammacho
SUMMARY:Phantoms VS. Thunderbolts
DESCRIPTION:League Name: 2025-2026 Winter Session 2 Soccer U-10 Elite Divis
 ion\nGame Type: Regular\nGame Status: Complete\nHome Team: Phantoms\nAway 
 Team: Thunderbolts\nHome Score: 6\nAway Score: 4
END:VEVENT
BEGIN:VEVENT
UID:16971839@ezleagues.ezfacility.com
DTSTAMP:20260426T035026Z
CREATED:20260426T035026Z
DTSTART:20260131T181000Z
DTEND:20260131T185200Z
LOCATION:7v7 Field #1
CONTACT:Teske
SUMMARY:Ninja Sharks VS. Phantoms
DESCRIPTION:League Name: 2025-2026 Winter Session 2 Soccer U-10 Elite Divis
 ion\nGame Type: Regular\nGame Status: Complete\nHome Team: Ninja Sharks\nA
 way Team: Phantoms\nHome Score: 4\nAway Score: 1
END:VEVENT
BEGIN:VEVENT
UID:16971840@ezleagues.ezfacility.com
DTSTAMP:20260426T035026Z
CREATED:20260426T035026Z
DTSTART:20260207T181000Z
DTEND:20260207T185200Z
LOCATION:7v7 Field #1
CONTACT:Cammacho
SUMMARY:CP Warriors VS. Phantoms
DESCRIPTION:League Name: 2025-2026 Winter Session 2 Soccer U-10 Elite Divis
 ion\nGame Type: Regular\nGame Status: Complete\nHome Team: CP Warriors\nAw
 ay Team: Phantoms\nHome Score: 0\nAway Score: 3
END:VEVENT
BEGIN:VEVENT
UID:16971848@ezleagues.ezfacility.com
DTSTAMP:20260426T035026Z
CREATED:20260426T035026Z
DTSTART:20260214T181000Z
DTEND:20260214T185200Z
LOCATION:7v7 Field #2
CONTACT:A
SUMMARY:Seasons Savages VS. Phantoms
DESCRIPTION:League Name: 2025-2026 Winter Session 2 Soccer U-10 Elite Divis
 ion\nGame Type: Regular\nGame Status: Complete\nHome Team: Seasons Savages
 \nAway Team: Phantoms\nHome Score: 3\nAway Score: 5
END:VEVENT
BEGIN:VEVENT
UID:16971842@ezleagues.ezfacility.com
DTSTAMP:20260426T035026Z
CREATED:20260426T035026Z
DTSTART:20260221T181000Z
DTEND:20260221T185200Z
LOCATION:7v7 Field #1
CONTACT:Landyn
SUMMARY:Phantoms VS. LOFs Lightning
DESCRIPTION:League Name: 2025-2026 Winter Session 2 Soccer U-10 Elite Divis
 ion\nGame Type: Regular\nGame Status: Complete\nHome Team: Phantoms\nAway 
 Team: LOFs Lightning\nHome Score: 7\nAway Score: 1
END:VEVENT
BEGIN:VEVENT
UID:16971846@ezleagues.ezfacility.com
DTSTAMP:20260426T035026Z
CREATED:20260426T035026Z
DTSTART:20260228T181000Z
DTEND:20260228T185200Z
LOCATION:7v7 Field #2
CONTACT:A
SUMMARY:Seasons Savages VS. Phantoms
DESCRIPTION:League Name: 2025-2026 Winter Session 2 Soccer U-10 Elite Divis
 ion\nGame Type: Regular\nGame Status: Complete\nHome Team: Seasons Savages
 \nAway Team: Phantoms\nHome Score: 9\nAway Score: 3
END:VEVENT
BEGIN:VEVENT
UID:16971858@ezleagues.ezfacility.com
DTSTAMP:20260426T035026Z
CREATED:20260426T035026Z
DTSTART:20260307T190000Z
DTEND:20260307T194200Z
LOCATION:7v7 Field #1
CONTACT:Mauri
SUMMARY:Ninja Sharks VS. Phantoms
DESCRIPTION:League Name: 2025-2026 Winter Session 2 Soccer U-10 Elite Divis
 ion\nGame Type: Regular\nGame Status: Complete\nHome Team: Ninja Sharks\nA
 way Team: Phantoms\nHome Score: 7\nAway Score: 0
END:VEVENT
BEGIN:VEVENT
UID:17049219@ezleagues.ezfacility.com
DTSTAMP:20260426T035026Z
CREATED:20260426T035026Z
DTSTART:20260314T155500Z
DTEND:20260314T162500Z
LOCATION:7v7 Field #4
CONTACT:Simakoski
SUMMARY:Phantoms VS. Seasons Savages
DESCRIPTION:League Name: 2025-2026 Winter Session 2 Soccer U-10 Elite Divis
 ion\nGame Type: Regular\nGame Status: Complete\nHome Team: Phantoms\nAway 
 Team: Seasons Savages\nHome Score: 1\nAway Score: 2
END:VEVENT
END:VCALENDAR
