BEGIN:VCALENDAR
VERSION:2.0
PRODID:-//EZFacility.com, Inc.//EZL 2.5.5.28621
BEGIN:VEVENT
UID:16971851@ezleagues.ezfacility.com
DTSTAMP:20260422T220220Z
CREATED:20260422T220220Z
DTSTART:20260124T181000Z
DTEND:20260124T185200Z
LOCATION:7v7 Field #2
CONTACT:Martinez
SUMMARY:Seasons Savages VS. Thunderbolts
DESCRIPTION:League Name: 2025-2026 Winter Session 2 Soccer U-10 Elite Divis
 ion\nGame Type: Regular\nGame Status: Complete\nHome Team: Seasons Savages
 \nAway Team: Thunderbolts\nHome Score: 5\nAway Score: 2
END:VEVENT
BEGIN:VEVENT
UID:16971852@ezleagues.ezfacility.com
DTSTAMP:20260422T220220Z
CREATED:20260422T220220Z
DTSTART:20260124T190000Z
DTEND:20260124T194200Z
LOCATION:7v7 Field #1
CONTACT:Cammacho
SUMMARY:Phantoms VS. Thunderbolts
DESCRIPTION:League Name: 2025-2026 Winter Session 2 Soccer U-10 Elite Divis
 ion\nGame Type: Regular\nGame Status: Complete\nHome Team: Phantoms\nAway 
 Team: Thunderbolts\nHome Score: 6\nAway Score: 4
END:VEVENT
BEGIN:VEVENT
UID:16971860@ezleagues.ezfacility.com
DTSTAMP:20260422T220220Z
CREATED:20260422T220220Z
DTSTART:20260131T190000Z
DTEND:20260131T194200Z
LOCATION:7v7 Field #4
CONTACT:Mauri
SUMMARY:LOFs Lightning VS. Thunderbolts
DESCRIPTION:League Name: 2025-2026 Winter Session 2 Soccer U-10 Elite Divis
 ion\nGame Type: Regular\nGame Status: Complete\nHome Team: LOFs Lightning\
 nAway Team: Thunderbolts\nHome Score: 5\nAway Score: 7
END:VEVENT
BEGIN:VEVENT
UID:16971861@ezleagues.ezfacility.com
DTSTAMP:20260422T220220Z
CREATED:20260422T220220Z
DTSTART:20260207T190000Z
DTEND:20260207T194200Z
LOCATION:7v7 Field #4
CONTACT:Pancho
SUMMARY:Ninja Sharks VS. Thunderbolts
DESCRIPTION:League Name: 2025-2026 Winter Session 2 Soccer U-10 Elite Divis
 ion\nGame Type: Regular\nGame Status: Complete\nHome Team: Ninja Sharks\nA
 way Team: Thunderbolts\nHome Score: 5\nAway Score: 1
END:VEVENT
BEGIN:VEVENT
UID:16971841@ezleagues.ezfacility.com
DTSTAMP:20260422T220220Z
CREATED:20260422T220220Z
DTSTART:20260214T181000Z
DTEND:20260214T185200Z
LOCATION:7v7 Field #1
CONTACT:Cammacho
SUMMARY:CP Warriors VS. Thunderbolts
DESCRIPTION:League Name: 2025-2026 Winter Session 2 Soccer U-10 Elite Divis
 ion\nGame Type: Regular\nGame Status: Complete\nHome Team: CP Warriors\nAw
 ay Team: Thunderbolts\nHome Score: 8\nAway Score: 8
END:VEVENT
BEGIN:VEVENT
UID:16971856@ezleagues.ezfacility.com
DTSTAMP:20260422T220220Z
CREATED:20260422T220220Z
DTSTART:20260221T190000Z
DTEND:20260221T194200Z
LOCATION:7v7 Field #1
CONTACT:Landyn
SUMMARY:Thunderbolts VS. Seasons Savages
DESCRIPTION:League Name: 2025-2026 Winter Session 2 Soccer U-10 Elite Divis
 ion\nGame Type: Regular\nGame Status: Complete\nHome Team: Thunderbolts\nA
 way Team: Seasons Savages\nHome Score: 3\nAway Score: 3
END:VEVENT
BEGIN:VEVENT
UID:16971857@ezleagues.ezfacility.com
DTSTAMP:20260422T220220Z
CREATED:20260422T220220Z
DTSTART:20260228T190000Z
DTEND:20260228T194200Z
LOCATION:7v7 Field #1
CONTACT:Aparacio
SUMMARY:Thunderbolts VS. CP Warriors
DESCRIPTION:League Name: 2025-2026 Winter Session 2 Soccer U-10 Elite Divis
 ion\nGame Type: Regular\nGame Status: Complete\nHome Team: Thunderbolts\nA
 way Team: CP Warriors\nHome Score: 3\nAway Score: 3
END:VEVENT
BEGIN:VEVENT
UID:16971844@ezleagues.ezfacility.com
DTSTAMP:20260422T220220Z
CREATED:20260422T220220Z
DTSTART:20260307T181000Z
DTEND:20260307T185200Z
LOCATION:7v7 Field #1
CONTACT:Mauri
SUMMARY:Thunderbolts VS. LOFs Lightning
DESCRIPTION:League Name: 2025-2026 Winter Session 2 Soccer U-10 Elite Divis
 ion\nGame Type: Regular\nGame Status: Complete\nHome Team: Thunderbolts\nA
 way Team: LOFs Lightning\nHome Score: 6\nAway Score: 2
END:VEVENT
BEGIN:VEVENT
UID:17049216@ezleagues.ezfacility.com
DTSTAMP:20260422T220220Z
CREATED:20260422T220220Z
DTSTART:20260314T155500Z
DTEND:20260314T162500Z
LOCATION:7v7 Field #3
CONTACT:Aparacio
SUMMARY:Thunderbolts VS. CP Warriors
DESCRIPTION:League Name: 2025-2026 Winter Session 2 Soccer U-10 Elite Divis
 ion\nGame Type: Regular\nGame Status: Complete\nHome Team: Thunderbolts\nA
 way Team: CP Warriors\nHome Score: 3\nAway Score: 0
END:VEVENT
BEGIN:VEVENT
UID:17049218@ezleagues.ezfacility.com
DTSTAMP:20260422T220220Z
CREATED:20260422T220220Z
DTSTART:20260314T163000Z
DTEND:20260314T170000Z
LOCATION:7v7 Field #3
CONTACT:Aparacio
SUMMARY:Ninja Sharks VS. Thunderbolts
DESCRIPTION:League Name: 2025-2026 Winter Session 2 Soccer U-10 Elite Divis
 ion\nGame Type: Regular\nGame Status: Complete\nHome Team: Ninja Sharks\nA
 way Team: Thunderbolts\nHome Score: 0\nAway Score: 3
END:VEVENT
BEGIN:VEVENT
UID:17049220@ezleagues.ezfacility.com
DTSTAMP:20260422T220220Z
CREATED:20260422T220220Z
DTSTART:20260314T170500Z
DTEND:20260314T173500Z
LOCATION:7v7 Field #1
CONTACT:Martinez
SUMMARY:Seasons Savages VS. Thunderbolts
DESCRIPTION:League Name: 2025-2026 Winter Session 2 Soccer U-10 Elite Divis
 ion\nGame Type: Regular\nGame Status: Complete\nHome Team: Seasons Savages
 \nAway Team: Thunderbolts\nHome Score: 1\nAway Score: 4
END:VEVENT
END:VCALENDAR
