BEGIN:VCALENDAR
VERSION:2.0
PRODID:-//EZFacility.com, Inc.//EZL 2.5.5.28621
BEGIN:VEVENT
UID:16972271@ezleagues.ezfacility.com
DTSTAMP:20260426T033449Z
CREATED:20260426T033449Z
DTSTART:20260120T032500Z
DTEND:20260120T041000Z
LOCATION:volleyball crt 3
CONTACT:
SUMMARY:Bumping Uglies VS. Chonies
DESCRIPTION:League Name: 2025-26-Intramural Volleyball- Mixed Rec League, 6
 v6\nGame Type: Regular\nGame Status: Complete\nHome Team: Bumping Uglies\n
 Away Team: Chonies\nHome Score: 38\nAway Score: 34
END:VEVENT
BEGIN:VEVENT
UID:16972286@ezleagues.ezfacility.com
DTSTAMP:20260426T033449Z
CREATED:20260426T033449Z
DTSTART:20260129T031500Z
DTEND:20260129T040000Z
LOCATION:volleyball crt 1
CONTACT:
SUMMARY:I'd Hit That  VS. Bumping Uglies
DESCRIPTION:League Name: 2025-26-Intramural Volleyball- Mixed Rec League, 6
 v6\nGame Type: Regular\nGame Status: Complete\nHome Team: I'd Hit That \nA
 way Team: Bumping Uglies\nHome Score: 31\nAway Score: 61
END:VEVENT
BEGIN:VEVENT
UID:16972301@ezleagues.ezfacility.com
DTSTAMP:20260426T033449Z
CREATED:20260426T033449Z
DTSTART:20260204T032500Z
DTEND:20260204T041000Z
LOCATION:volleyball crt 3
CONTACT:
SUMMARY:Rippin Volleys VS. Bumping Uglies
DESCRIPTION:League Name: 2025-26-Intramural Volleyball- Mixed Rec League, 6
 v6\nGame Type: Regular\nGame Status: Complete\nHome Team: Rippin Volleys\n
 Away Team: Bumping Uglies\nHome Score: 40\nAway Score: 56
END:VEVENT
BEGIN:VEVENT
UID:16972316@ezleagues.ezfacility.com
DTSTAMP:20260426T033449Z
CREATED:20260426T033449Z
DTSTART:20260212T014500Z
DTEND:20260212T023000Z
LOCATION:volleyball crt 1
CONTACT:
SUMMARY:Bumping Uglies VS. Smash Squad
DESCRIPTION:League Name: 2025-26-Intramural Volleyball- Mixed Rec League, 6
 v6\nGame Type: Regular\nGame Status: Rescheduled\nHome Team: Bumping Uglie
 s\nAway Team: Smash Squad\n
END:VEVENT
BEGIN:VEVENT
UID:17025786@ezleagues.ezfacility.com
DTSTAMP:20260426T033449Z
CREATED:20260426T033449Z
DTSTART:20260226T014500Z
DTEND:20260226T023000Z
LOCATION:volleyball crt 1
CONTACT:
SUMMARY:Bumping Uglies VS. Smash Squad
DESCRIPTION:League Name: 2025-26-Intramural Volleyball- Mixed Rec League, 6
 v6\nGame Type: Regular\nGame Status: Complete\nHome Team: Bumping Uglies\n
 Away Team: Smash Squad\nHome Score: 58\nAway Score: 45
END:VEVENT
BEGIN:VEVENT
UID:17036240@ezleagues.ezfacility.com
DTSTAMP:20260426T033449Z
CREATED:20260426T033449Z
DTSTART:20260304T014500Z
DTEND:20260304T023000Z
LOCATION:volleyball crt 1
CONTACT:
SUMMARY:Bumping Uglies VS. Chillis Chargers
DESCRIPTION:League Name: 2025-26-Intramural Volleyball- Mixed Rec League, 6
 v6\nGame Type: Postseason\nGame Status: Complete\nHome Team: Bumping Uglie
 s\nAway Team: Chillis Chargers\nHome Score: 50\nAway Score: 29
END:VEVENT
BEGIN:VEVENT
UID:17036242@ezleagues.ezfacility.com
DTSTAMP:20260426T033449Z
CREATED:20260426T033449Z
DTSTART:20260304T031500Z
DTEND:20260304T040000Z
LOCATION:volleyball crt 1
CONTACT:
SUMMARY:Servin’ dem Balls VS. Bumping Uglies
DESCRIPTION:League Name: 2025-26-Intramural Volleyball- Mixed Rec League, 6
 v6\nGame Type: Postseason\nGame Status: Complete\nHome Team: Servin’ dem
  Balls\nAway Team: Bumping Uglies\nHome Score: 60\nAway Score: 58
END:VEVENT
BEGIN:VEVENT
UID:17036244@ezleagues.ezfacility.com
DTSTAMP:20260426T033449Z
CREATED:20260426T033449Z
DTSTART:20260305T020000Z
DTEND:20260305T024500Z
LOCATION:volleyball crt 1
CONTACT:
SUMMARY:Bumping Uglies VS. Sets On The Beach
DESCRIPTION:League Name: 2025-26-Intramural Volleyball- Mixed Rec League, 6
 v6\nGame Type: Postseason\nGame Status: Pending\nHome Team: Bumping Uglies
 \nAway Team: Sets On The Beach\n
END:VEVENT
END:VCALENDAR
