BEGIN:VCALENDAR
VERSION:2.0
PRODID:-//EZFacility.com, Inc.//EZL 2.5.5.28621
BEGIN:VEVENT
UID:16972278@ezleagues.ezfacility.com
DTSTAMP:20260426T033512Z
CREATED:20260426T033512Z
DTSTART:20260122T022500Z
DTEND:20260122T031000Z
LOCATION:volleyball crt 3
CONTACT:
SUMMARY:smash or pass VS. Super Spikers
DESCRIPTION:League Name: 2025-26-Intramural Volleyball- Mixed Rec League, 6
 v6\nGame Type: Regular\nGame Status: Complete\nHome Team: smash or pass\nA
 way Team: Super Spikers\nHome Score: 50\nAway Score: 39
END:VEVENT
BEGIN:VEVENT
UID:16972291@ezleagues.ezfacility.com
DTSTAMP:20260426T033512Z
CREATED:20260426T033512Z
DTSTART:20260127T023000Z
DTEND:20260127T031500Z
LOCATION:volleyball crt 1
CONTACT:
SUMMARY:Super Spikers VS. Red Hot Silly Peppers
DESCRIPTION:League Name: 2025-26-Intramural Volleyball- Mixed Rec League, 6
 v6\nGame Type: Regular\nGame Status: Rescheduled\nHome Team: Super Spikers
 \nAway Team: Red Hot Silly Peppers\n
END:VEVENT
BEGIN:VEVENT
UID:16972304@ezleagues.ezfacility.com
DTSTAMP:20260426T033512Z
CREATED:20260426T033512Z
DTSTART:20260203T031500Z
DTEND:20260203T040000Z
LOCATION:volleyball crt 1
CONTACT:
SUMMARY:Hits and Giggles  VS. Super Spikers
DESCRIPTION:League Name: 2025-26-Intramural Volleyball- Mixed Rec League, 6
 v6\nGame Type: Regular\nGame Status: Rescheduled\nHome Team: Hits and Gigg
 les \nAway Team: Super Spikers\n
END:VEVENT
BEGIN:VEVENT
UID:16972317@ezleagues.ezfacility.com
DTSTAMP:20260426T033512Z
CREATED:20260426T033512Z
DTSTART:20260212T023000Z
DTEND:20260212T031500Z
LOCATION:volleyball crt 1
CONTACT:
SUMMARY:Chillis Chargers VS. Super Spikers
DESCRIPTION:League Name: 2025-26-Intramural Volleyball- Mixed Rec League, 6
 v6\nGame Type: Regular\nGame Status: Rescheduled\nHome Team: Chillis Charg
 ers\nAway Team: Super Spikers\n
END:VEVENT
BEGIN:VEVENT
UID:17025759@ezleagues.ezfacility.com
DTSTAMP:20260426T033512Z
CREATED:20260426T033512Z
DTSTART:20260224T023000Z
DTEND:20260224T031500Z
LOCATION:volleyball crt 1
CONTACT:
SUMMARY:Super Spikers VS. Red Hot Silly Peppers
DESCRIPTION:League Name: 2025-26-Intramural Volleyball- Mixed Rec League, 6
 v6\nGame Type: Regular\nGame Status: Rescheduled\nHome Team: Super Spikers
 \nAway Team: Red Hot Silly Peppers\n
END:VEVENT
BEGIN:VEVENT
UID:17025789@ezleagues.ezfacility.com
DTSTAMP:20260426T033512Z
CREATED:20260426T033512Z
DTSTART:20260226T023000Z
DTEND:20260226T031500Z
LOCATION:volleyball crt 1
CONTACT:
SUMMARY:Chillis Chargers VS. Super Spikers
DESCRIPTION:League Name: 2025-26-Intramural Volleyball- Mixed Rec League, 6
 v6\nGame Type: Regular\nGame Status: Complete\nHome Team: Chillis Chargers
 \nAway Team: Super Spikers\nHome Score: 72\nAway Score: 37
END:VEVENT
BEGIN:VEVENT
UID:17032142@ezleagues.ezfacility.com
DTSTAMP:20260426T033512Z
CREATED:20260426T033512Z
DTSTART:20260227T023000Z
DTEND:20260227T031500Z
LOCATION:volleyball crt 1
CONTACT:
SUMMARY:Super Spikers VS. Red Hot Silly Peppers
DESCRIPTION:League Name: 2025-26-Intramural Volleyball- Mixed Rec League, 6
 v6\nGame Type: Regular\nGame Status: Complete\nHome Team: Super Spikers\nA
 way Team: Red Hot Silly Peppers\nHome Score: 38\nAway Score: 48
END:VEVENT
BEGIN:VEVENT
UID:17025816@ezleagues.ezfacility.com
DTSTAMP:20260426T033512Z
CREATED:20260426T033512Z
DTSTART:20260303T014500Z
DTEND:20260303T023000Z
LOCATION:volleyball crt 1
CONTACT:
SUMMARY:Hits and Giggles  VS. Super Spikers
DESCRIPTION:League Name: 2025-26-Intramural Volleyball- Mixed Rec League, 6
 v6\nGame Type: Regular\nGame Status: Complete\nHome Team: Hits and Giggles
  \nAway Team: Super Spikers\nHome Score: 0\nAway Score: 25
END:VEVENT
END:VCALENDAR
