BEGIN:VCALENDAR
VERSION:2.0
PRODID:-//EZFacility.com, Inc.//EZL 2.5.5.28621
BEGIN:VEVENT
UID:16972279@ezleagues.ezfacility.com
DTSTAMP:20260426T033421Z
CREATED:20260426T033421Z
DTSTART:20260122T031500Z
DTEND:20260122T040000Z
LOCATION:volleyball crt 3
CONTACT:
SUMMARY:SoundSmash VS. The Engine Room VC
DESCRIPTION:League Name: 2025-26-Intramural Volleyball- Mixed Rec League, 6
 v6\nGame Type: Regular\nGame Status: Complete\nHome Team: SoundSmash\nAway
  Team: The Engine Room VC\nHome Score: 37\nAway Score: 61
END:VEVENT
BEGIN:VEVENT
UID:16972292@ezleagues.ezfacility.com
DTSTAMP:20260426T033421Z
CREATED:20260426T033421Z
DTSTART:20260127T032500Z
DTEND:20260127T041000Z
LOCATION:volleyball crt 3
CONTACT:
SUMMARY:Servin’ dem Balls VS. The Engine Room VC
DESCRIPTION:League Name: 2025-26-Intramural Volleyball- Mixed Rec League, 6
 v6\nGame Type: Regular\nGame Status: Rescheduled\nHome Team: Servin’ dem
  Balls\nAway Team: The Engine Room VC\n
END:VEVENT
BEGIN:VEVENT
UID:16972318@ezleagues.ezfacility.com
DTSTAMP:20260426T033421Z
CREATED:20260426T033421Z
DTSTART:20260212T031500Z
DTEND:20260212T040000Z
LOCATION:volleyball crt 1
CONTACT:
SUMMARY:Free Agent Team VS. The Engine Room VC
DESCRIPTION:League Name: 2025-26-Intramural Volleyball- Mixed Rec League, 6
 v6\nGame Type: Regular\nGame Status: Rescheduled\nHome Team: Free Agent Te
 am\nAway Team: The Engine Room VC\n
END:VEVENT
BEGIN:VEVENT
UID:17025763@ezleagues.ezfacility.com
DTSTAMP:20260426T033421Z
CREATED:20260426T033421Z
DTSTART:20260224T031500Z
DTEND:20260224T040000Z
LOCATION:volleyball crt 3
CONTACT:
SUMMARY:Servin’ dem Balls VS. The Engine Room VC
DESCRIPTION:League Name: 2025-26-Intramural Volleyball- Mixed Rec League, 6
 v6\nGame Type: Regular\nGame Status: Rescheduled\nHome Team: Servin’ dem
  Balls\nAway Team: The Engine Room VC\n
END:VEVENT
BEGIN:VEVENT
UID:17025792@ezleagues.ezfacility.com
DTSTAMP:20260426T033421Z
CREATED:20260426T033421Z
DTSTART:20260226T031500Z
DTEND:20260226T040000Z
LOCATION:volleyball crt 1
CONTACT:
SUMMARY:Free Agent Team VS. The Engine Room VC
DESCRIPTION:League Name: 2025-26-Intramural Volleyball- Mixed Rec League, 6
 v6\nGame Type: Regular\nGame Status: Complete\nHome Team: Free Agent Team\
 nAway Team: The Engine Room VC\nHome Score: 0\nAway Score: 25
END:VEVENT
BEGIN:VEVENT
UID:17032145@ezleagues.ezfacility.com
DTSTAMP:20260426T033421Z
CREATED:20260426T033421Z
DTSTART:20260227T014500Z
DTEND:20260227T023000Z
LOCATION:volleyball crt 3
CONTACT:
SUMMARY:Servin’ dem Balls VS. The Engine Room VC
DESCRIPTION:League Name: 2025-26-Intramural Volleyball- Mixed Rec League, 6
 v6\nGame Type: Regular\nGame Status: Complete\nHome Team: Servin’ dem Ba
 lls\nAway Team: The Engine Room VC\nHome Score: 64\nAway Score: 38
END:VEVENT
BEGIN:VEVENT
UID:17025814@ezleagues.ezfacility.com
DTSTAMP:20260426T033421Z
CREATED:20260426T033421Z
DTSTART:20260303T024000Z
DTEND:20260303T032500Z
LOCATION:volleyball crt 3
CONTACT:
SUMMARY:The Engine Room VC VS. Kiss My Ace
DESCRIPTION:League Name: 2025-26-Intramural Volleyball- Mixed Rec League, 6
 v6\nGame Type: Regular\nGame Status: Complete\nHome Team: The Engine Room 
 VC\nAway Team: Kiss My Ace\nHome Score: 25\nAway Score: 0
END:VEVENT
BEGIN:VEVENT
UID:17036241@ezleagues.ezfacility.com
DTSTAMP:20260426T033421Z
CREATED:20260426T033421Z
DTSTART:20260304T015500Z
DTEND:20260304T024000Z
LOCATION:volleyball crt 3
CONTACT:
SUMMARY:The Engine Room VC VS. Sets On The Beach
DESCRIPTION:League Name: 2025-26-Intramural Volleyball- Mixed Rec League, 6
 v6\nGame Type: Postseason\nGame Status: Complete\nHome Team: The Engine Ro
 om VC\nAway Team: Sets On The Beach\nHome Score: 34\nAway Score: 50
END:VEVENT
END:VCALENDAR
