BEGIN:VCALENDAR
VERSION:2.0
PRODID:-//EZFacility.com, Inc.//EZL 2.5.5.28621
BEGIN:VEVENT
UID:16973330@ezleagues.ezfacility.com
DTSTAMP:20260426T033508Z
CREATED:20260426T033508Z
DTSTART:20260122T013000Z
DTEND:20260122T021000Z
LOCATION:LG Field 2
CONTACT:
SUMMARY:Hurricane VS. Misfits
DESCRIPTION:League Name: Men's Over 40 - Winter 2\nGame Type: Regular\nGame
  Status: Complete\nHome Team: Hurricane\nAway Team: Misfits\nHome Score: 1
 1\nAway Score: 1
END:VEVENT
BEGIN:VEVENT
UID:16973335@ezleagues.ezfacility.com
DTSTAMP:20260426T033508Z
CREATED:20260426T033508Z
DTSTART:20260129T030000Z
DTEND:20260129T034000Z
LOCATION:LG Field 2
CONTACT:
SUMMARY:C'mon Wilson! VS. Misfits
DESCRIPTION:League Name: Men's Over 40 - Winter 2\nGame Type: Regular\nGame
  Status: Complete\nHome Team: C'mon Wilson!\nAway Team: Misfits\nHome Scor
 e: 4\nAway Score: 3
END:VEVENT
BEGIN:VEVENT
UID:16973341@ezleagues.ezfacility.com
DTSTAMP:20260426T033508Z
CREATED:20260426T033508Z
DTSTART:20260205T043000Z
DTEND:20260205T051000Z
LOCATION:LG Field 2
CONTACT:
SUMMARY:Misfits VS. Tulsa Rovers
DESCRIPTION:League Name: Men's Over 40 - Winter 2\nGame Type: Regular\nGame
  Status: Complete\nHome Team: Misfits\nAway Team: Tulsa Rovers\nHome Score
 : 2\nAway Score: 5
END:VEVENT
BEGIN:VEVENT
UID:16973347@ezleagues.ezfacility.com
DTSTAMP:20260426T033508Z
CREATED:20260426T033508Z
DTSTART:20260212T034500Z
DTEND:20260212T042500Z
LOCATION:LG Field 2
CONTACT:
SUMMARY:Misfits VS. Rollin Uphill
DESCRIPTION:League Name: Men's Over 40 - Winter 2\nGame Type: Regular\nGame
  Status: Complete\nHome Team: Misfits\nAway Team: Rollin Uphill\nHome Scor
 e: 3\nAway Score: 4
END:VEVENT
BEGIN:VEVENT
UID:16973353@ezleagues.ezfacility.com
DTSTAMP:20260426T033508Z
CREATED:20260426T033508Z
DTSTART:20260219T021500Z
DTEND:20260219T025500Z
LOCATION:LG Field 2
CONTACT:
SUMMARY:Misfits VS. Israel
DESCRIPTION:League Name: Men's Over 40 - Winter 2\nGame Type: Regular\nGame
  Status: Complete\nHome Team: Misfits\nAway Team: Israel\nHome Score: 0\nA
 way Score: 0
END:VEVENT
BEGIN:VEVENT
UID:16973354@ezleagues.ezfacility.com
DTSTAMP:20260426T033508Z
CREATED:20260426T033508Z
DTSTART:20260226T021500Z
DTEND:20260226T025500Z
LOCATION:LG Field 2
CONTACT:
SUMMARY:Misfits VS. Internationals
DESCRIPTION:League Name: Men's Over 40 - Winter 2\nGame Type: Regular\nGame
  Status: Complete\nHome Team: Misfits\nAway Team: Internationals\nHome Sco
 re: 2\nAway Score: 4
END:VEVENT
BEGIN:VEVENT
UID:16973363@ezleagues.ezfacility.com
DTSTAMP:20260426T033508Z
CREATED:20260426T033508Z
DTSTART:20260305T034500Z
DTEND:20260305T042500Z
LOCATION:LG Field 2
CONTACT:
SUMMARY:Rollin Downhill VS. Misfits
DESCRIPTION:League Name: Men's Over 40 - Winter 2\nGame Type: Regular\nGame
  Status: Complete\nHome Team: Rollin Downhill\nAway Team: Misfits\nHome Sc
 ore: 7\nAway Score: 12
END:VEVENT
BEGIN:VEVENT
UID:16973367@ezleagues.ezfacility.com
DTSTAMP:20260426T033508Z
CREATED:20260426T033508Z
DTSTART:20260312T024500Z
DTEND:20260312T032500Z
LOCATION:LG Field 2
CONTACT:
SUMMARY:Waterboys VS. Misfits
DESCRIPTION:League Name: Men's Over 40 - Winter 2\nGame Type: Regular\nGame
  Status: Complete\nHome Team: Waterboys\nAway Team: Misfits\nHome Score: 3
 \nAway Score: 7
END:VEVENT
END:VCALENDAR
