BEGIN:VCALENDAR
VERSION:2.0
PRODID:-//EZFacility.com, Inc.//EZL 2.5.5.28621
BEGIN:VEVENT
UID:16973415@ezleagues.ezfacility.com
DTSTAMP:20260426T033441Z
CREATED:20260426T033441Z
DTSTART:20260107T010500Z
DTEND:20260107T020000Z
LOCATION:Adult Soccer Field #1 (Inside)
CONTACT:
SUMMARY:1st Class Losers VS. ST FC
DESCRIPTION:League Name: 2026 - Session 1 - Adult Coed 6v6 (D2)\nGame Type:
  Regular\nGame Status: Complete\nHome Team: 1st Class Losers\nAway Team: S
 T FC\nHome Score: 15\nAway Score: 5
END:VEVENT
BEGIN:VEVENT
UID:16973472@ezleagues.ezfacility.com
DTSTAMP:20260426T033441Z
CREATED:20260426T033441Z
DTSTART:20260114T020000Z
DTEND:20260114T025500Z
LOCATION:Adult Soccer Field #1 (Inside)
CONTACT:
SUMMARY:1st Class Losers VS. Griffis United
DESCRIPTION:League Name: 2026 - Session 1 - Adult Coed 6v6 (D2)\nGame Type:
  Regular\nGame Status: Complete\nHome Team: 1st Class Losers\nAway Team: G
 riffis United\nHome Score: 1\nAway Score: 4
END:VEVENT
BEGIN:VEVENT
UID:16973473@ezleagues.ezfacility.com
DTSTAMP:20260426T033441Z
CREATED:20260426T033441Z
DTSTART:20260121T020000Z
DTEND:20260121T025500Z
LOCATION:Adult Soccer Field #3 (Inside)
CONTACT:
SUMMARY:MV Designs VS. 1st Class Losers
DESCRIPTION:League Name: 2026 - Session 1 - Adult Coed 6v6 (D2)\nGame Type:
  Regular\nGame Status: Complete\nHome Team: MV Designs\nAway Team: 1st Cla
 ss Losers\nHome Score: 9\nAway Score: 2
END:VEVENT
BEGIN:VEVENT
UID:16973527@ezleagues.ezfacility.com
DTSTAMP:20260426T033441Z
CREATED:20260426T033441Z
DTSTART:20260128T020000Z
DTEND:20260128T025500Z
LOCATION:Adult Soccer Field #1 (Inside)
CONTACT:
SUMMARY:Griffis United VS. 1st Class Losers
DESCRIPTION:League Name: 2026 - Session 1 - Adult Coed 6v6 (D2)\nGame Type:
  Regular\nGame Status: Complete\nHome Team: Griffis United\nAway Team: 1st
  Class Losers\nHome Score: 8\nAway Score: 4
END:VEVENT
BEGIN:VEVENT
UID:16973529@ezleagues.ezfacility.com
DTSTAMP:20260426T033441Z
CREATED:20260426T033441Z
DTSTART:20260204T020000Z
DTEND:20260204T025500Z
LOCATION:Adult Soccer Field #1 (Inside)
CONTACT:
SUMMARY:1st Class Losers VS. ST FC
DESCRIPTION:League Name: 2026 - Session 1 - Adult Coed 6v6 (D2)\nGame Type:
  Regular\nGame Status: Complete\nHome Team: 1st Class Losers\nAway Team: S
 T FC\nHome Score: 4\nAway Score: 6
END:VEVENT
BEGIN:VEVENT
UID:16973531@ezleagues.ezfacility.com
DTSTAMP:20260426T033441Z
CREATED:20260426T033441Z
DTSTART:20260211T020000Z
DTEND:20260211T025500Z
LOCATION:Adult Soccer Field #1 (Inside)
CONTACT:
SUMMARY:MV Designs VS. 1st Class Losers
DESCRIPTION:League Name: 2026 - Session 1 - Adult Coed 6v6 (D2)\nGame Type:
  Regular\nGame Status: Complete\nHome Team: MV Designs\nAway Team: 1st Cla
 ss Losers\nHome Score: 11\nAway Score: 4
END:VEVENT
BEGIN:VEVENT
UID:16973534@ezleagues.ezfacility.com
DTSTAMP:20260426T033441Z
CREATED:20260426T033441Z
DTSTART:20260218T025500Z
DTEND:20260218T035000Z
LOCATION:Adult Soccer Field #1 (Inside)
CONTACT:
SUMMARY:Griffis United VS. 1st Class Losers
DESCRIPTION:League Name: 2026 - Session 1 - Adult Coed 6v6 (D2)\nGame Type:
  Regular\nGame Status: Complete\nHome Team: Griffis United\nAway Team: 1st
  Class Losers\nHome Score: 6\nAway Score: 2
END:VEVENT
BEGIN:VEVENT
UID:16973536@ezleagues.ezfacility.com
DTSTAMP:20260426T033441Z
CREATED:20260426T033441Z
DTSTART:20260225T020000Z
DTEND:20260225T025500Z
LOCATION:Adult Soccer Field #3 (Inside)
CONTACT:
SUMMARY:1st Class Losers VS. ST FC
DESCRIPTION:League Name: 2026 - Session 1 - Adult Coed 6v6 (D2)\nGame Type:
  Regular\nGame Status: Complete\nHome Team: 1st Class Losers\nAway Team: S
 T FC\nHome Score: 7\nAway Score: 6
END:VEVENT
END:VCALENDAR
