BEGIN:VCALENDAR
VERSION:2.0
PRODID:-//EZFacility.com, Inc.//EZL 2.5.5.28621
BEGIN:VEVENT
UID:16973559@ezleagues.ezfacility.com
DTSTAMP:20260426T033426Z
CREATED:20260426T033426Z
DTSTART:20260122T023000Z
DTEND:20260122T033000Z
LOCATION:Field 1
CONTACT:
SUMMARY:BallBusters 3 VS. Release the Kraken
DESCRIPTION:League Name: Session 2 Coed Soccer 2025/2026\nGame Type: Regula
 r\nGame Status: Complete\nHome Team: BallBusters 3\nAway Team: Release the
  Kraken\nHome Score: 4\nAway Score: 4
END:VEVENT
BEGIN:VEVENT
UID:16984203@ezleagues.ezfacility.com
DTSTAMP:20260426T033426Z
CREATED:20260426T033426Z
DTSTART:20260205T023000Z
DTEND:20260205T033000Z
LOCATION:Field 2
CONTACT:
SUMMARY:The Flocks VS. BallBusters 3
DESCRIPTION:League Name: Session 2 Coed Soccer 2025/2026\nGame Type: Regula
 r\nGame Status: Complete\nHome Team: The Flocks\nAway Team: BallBusters 3\
 nHome Score: 5\nAway Score: 4
END:VEVENT
BEGIN:VEVENT
UID:16984206@ezleagues.ezfacility.com
DTSTAMP:20260426T033426Z
CREATED:20260426T033426Z
DTSTART:20260212T023000Z
DTEND:20260212T033000Z
LOCATION:Field 1
CONTACT:
SUMMARY:Wolves VS. BallBusters 3
DESCRIPTION:League Name: Session 2 Coed Soccer 2025/2026\nGame Type: Regula
 r\nGame Status: Complete\nHome Team: Wolves\nAway Team: BallBusters 3\nHom
 e Score: 4\nAway Score: 8
END:VEVENT
BEGIN:VEVENT
UID:17024531@ezleagues.ezfacility.com
DTSTAMP:20260426T033426Z
CREATED:20260426T033426Z
DTSTART:20260219T023000Z
DTEND:20260219T033000Z
LOCATION:Field 3
CONTACT:
SUMMARY:BallBusters 3 VS. Whalen's Team
DESCRIPTION:League Name: Session 2 Coed Soccer 2025/2026\nGame Type: Regula
 r\nGame Status: Complete\nHome Team: BallBusters 3\nAway Team: Whalen's Te
 am\nHome Score: 14\nAway Score: 6
END:VEVENT
BEGIN:VEVENT
UID:17028535@ezleagues.ezfacility.com
DTSTAMP:20260426T033426Z
CREATED:20260426T033426Z
DTSTART:20260226T023000Z
DTEND:20260226T033000Z
LOCATION:Field 1
CONTACT:
SUMMARY:Release the Kraken VS. BallBusters 3
DESCRIPTION:League Name: Session 2 Coed Soccer 2025/2026\nGame Type: Regula
 r\nGame Status: Complete\nHome Team: Release the Kraken\nAway Team: BallBu
 sters 3\nHome Score: 3\nAway Score: 9
END:VEVENT
BEGIN:VEVENT
UID:17040090@ezleagues.ezfacility.com
DTSTAMP:20260426T033426Z
CREATED:20260426T033426Z
DTSTART:20260312T013000Z
DTEND:20260312T023000Z
LOCATION:Field 3
CONTACT:
SUMMARY:Whalen's Team VS. BallBusters 3
DESCRIPTION:League Name: Session 2 Coed Soccer 2025/2026\nGame Type: Regula
 r\nGame Status: Complete\nHome Team: Whalen's Team\nAway Team: BallBusters
  3\nHome Score: 0\nAway Score: 3
END:VEVENT
BEGIN:VEVENT
UID:17059600@ezleagues.ezfacility.com
DTSTAMP:20260426T033426Z
CREATED:20260426T033426Z
DTSTART:20260319T003000Z
DTEND:20260319T010000Z
LOCATION:Field 2
CONTACT:
SUMMARY:BallBusters 3 VS. Wolves
DESCRIPTION:League Name: Session 2 Coed Soccer 2025/2026\nGame Type: Regula
 r\nGame Status: Complete\nHome Team: BallBusters 3\nAway Team: Wolves\nHom
 e Score: 6\nAway Score: 4
END:VEVENT
BEGIN:VEVENT
UID:17059629@ezleagues.ezfacility.com
DTSTAMP:20260426T033426Z
CREATED:20260426T033426Z
DTSTART:20260319T013000Z
DTEND:20260319T020000Z
LOCATION:Field 2
CONTACT:
SUMMARY:BallBusters 3 VS. The Flocks
DESCRIPTION:League Name: Session 2 Coed Soccer 2025/2026\nGame Type: Regula
 r\nGame Status: Complete\nHome Team: BallBusters 3\nAway Team: The Flocks\
 nHome Score: 6\nAway Score: 7
END:VEVENT
END:VCALENDAR
