BEGIN:VCALENDAR
VERSION:2.0
PRODID:-//EZFacility.com, Inc.//EZL 2.5.5.28621
BEGIN:VEVENT
UID:16973561@ezleagues.ezfacility.com
DTSTAMP:20260426T033522Z
CREATED:20260426T033522Z
DTSTART:20260122T023000Z
DTEND:20260122T033000Z
LOCATION:Field 2
CONTACT:
SUMMARY:The Flocks VS. Whalen's Team
DESCRIPTION:League Name: Session 2 Coed Soccer 2025/2026\nGame Type: Regula
 r\nGame Status: Complete\nHome Team: The Flocks\nAway Team: Whalen's Team\
 nHome Score: 15\nAway Score: 1
END:VEVENT
BEGIN:VEVENT
UID:16984201@ezleagues.ezfacility.com
DTSTAMP:20260426T033522Z
CREATED:20260426T033522Z
DTSTART:20260129T023000Z
DTEND:20260129T033000Z
LOCATION:Field 1
CONTACT:
SUMMARY:The Flocks VS. Release the Kraken
DESCRIPTION:League Name: Session 2 Coed Soccer 2025/2026\nGame Type: Regula
 r\nGame Status: Complete\nHome Team: The Flocks\nAway Team: Release the Kr
 aken\nHome Score: 9\nAway Score: 2
END:VEVENT
BEGIN:VEVENT
UID:16984203@ezleagues.ezfacility.com
DTSTAMP:20260426T033522Z
CREATED:20260426T033522Z
DTSTART:20260205T023000Z
DTEND:20260205T033000Z
LOCATION:Field 2
CONTACT:
SUMMARY:The Flocks VS. BallBusters 3
DESCRIPTION:League Name: Session 2 Coed Soccer 2025/2026\nGame Type: Regula
 r\nGame Status: Complete\nHome Team: The Flocks\nAway Team: BallBusters 3\
 nHome Score: 5\nAway Score: 4
END:VEVENT
BEGIN:VEVENT
UID:17024530@ezleagues.ezfacility.com
DTSTAMP:20260426T033522Z
CREATED:20260426T033522Z
DTSTART:20260219T023000Z
DTEND:20260219T033000Z
LOCATION:Field 2
CONTACT:
SUMMARY:The Flocks VS. Wolves
DESCRIPTION:League Name: Session 2 Coed Soccer 2025/2026\nGame Type: Regula
 r\nGame Status: Complete\nHome Team: The Flocks\nAway Team: Wolves\nHome S
 core: 10\nAway Score: 3
END:VEVENT
BEGIN:VEVENT
UID:17028536@ezleagues.ezfacility.com
DTSTAMP:20260426T033522Z
CREATED:20260426T033522Z
DTSTART:20260226T023000Z
DTEND:20260226T033000Z
LOCATION:Field 3
CONTACT:
SUMMARY:The Flocks VS. Whalen's Team
DESCRIPTION:League Name: Session 2 Coed Soccer 2025/2026\nGame Type: Regula
 r\nGame Status: Complete\nHome Team: The Flocks\nAway Team: Whalen's Team\
 nHome Score: 14\nAway Score: 4
END:VEVENT
BEGIN:VEVENT
UID:17040085@ezleagues.ezfacility.com
DTSTAMP:20260426T033522Z
CREATED:20260426T033522Z
DTSTART:20260305T023000Z
DTEND:20260305T033000Z
LOCATION:Field 1
CONTACT:
SUMMARY:The Flocks VS. Release the Kraken
DESCRIPTION:League Name: Session 2 Coed Soccer 2025/2026\nGame Type: Regula
 r\nGame Status: Complete\nHome Team: The Flocks\nAway Team: Release the Kr
 aken\nHome Score: 9\nAway Score: 0
END:VEVENT
BEGIN:VEVENT
UID:17040088@ezleagues.ezfacility.com
DTSTAMP:20260426T033522Z
CREATED:20260426T033522Z
DTSTART:20260312T013000Z
DTEND:20260312T023000Z
LOCATION:Field 1
CONTACT:
SUMMARY:The Flocks VS. Wolves
DESCRIPTION:League Name: Session 2 Coed Soccer 2025/2026\nGame Type: Regula
 r\nGame Status: Complete\nHome Team: The Flocks\nAway Team: Wolves\nHome S
 core: 14\nAway Score: 5
END:VEVENT
BEGIN:VEVENT
UID:17059629@ezleagues.ezfacility.com
DTSTAMP:20260426T033522Z
CREATED:20260426T033522Z
DTSTART:20260319T013000Z
DTEND:20260319T020000Z
LOCATION:Field 2
CONTACT:
SUMMARY:BallBusters 3 VS. The Flocks
DESCRIPTION:League Name: Session 2 Coed Soccer 2025/2026\nGame Type: Regula
 r\nGame Status: Complete\nHome Team: BallBusters 3\nAway Team: The Flocks\
 nHome Score: 6\nAway Score: 7
END:VEVENT
BEGIN:VEVENT
UID:17059673@ezleagues.ezfacility.com
DTSTAMP:20260426T033522Z
CREATED:20260426T033522Z
DTSTART:20260319T020000Z
DTEND:20260319T023000Z
LOCATION:Field 3
CONTACT:
SUMMARY:Release the Kraken VS. The Flocks
DESCRIPTION:League Name: Session 2 Coed Soccer 2025/2026\nGame Type: Regula
 r\nGame Status: Complete\nHome Team: Release the Kraken\nAway Team: The Fl
 ocks\nHome Score: 4\nAway Score: 5
END:VEVENT
END:VCALENDAR
