BEGIN:VCALENDAR
VERSION:2.0
PRODID:-//EZFacility.com, Inc.//EZL 2.5.5.28621
BEGIN:VEVENT
UID:16975722@ezleagues.ezfacility.com
DTSTAMP:20260424T123509Z
CREATED:20260424T123509Z
DTSTART:20260207T173000Z
DTEND:20260207T183000Z
LOCATION:RCF West - Montevideo
CONTACT:
SUMMARY:Slay Sisters VS. Firehawks
DESCRIPTION:League Name: Youth League 2025-26 - Winter 2-Boys-Boys U10/U11 
 D1\nGame Type: Regular\nGame Status: Complete\nHome Team: Slay Sisters\nAw
 ay Team: Firehawks\nHome Score: 9\nAway Score: 2
END:VEVENT
BEGIN:VEVENT
UID:16975708@ezleagues.ezfacility.com
DTSTAMP:20260424T123509Z
CREATED:20260424T123509Z
DTSTART:20260208T201000Z
DTEND:20260208T211000Z
LOCATION:RCF West - Buenos Aires
CONTACT:
SUMMARY:RCF Select 2016 Girls VS. Firehawks
DESCRIPTION:League Name: Youth League 2025-26 - Winter 2-Boys-Boys U10/U11 
 D1\nGame Type: Regular\nGame Status: Complete\nHome Team: RCF Select 2016 
 Girls\nAway Team: Firehawks\nHome Score: 2\nAway Score: 4
END:VEVENT
BEGIN:VEVENT
UID:16975704@ezleagues.ezfacility.com
DTSTAMP:20260424T123509Z
CREATED:20260424T123509Z
DTSTART:20260215T211000Z
DTEND:20260215T221000Z
LOCATION:RCF West - Buenos Aires
CONTACT:
SUMMARY:Firehawks VS. Red Squadron
DESCRIPTION:League Name: Youth League 2025-26 - Winter 2-Boys-Boys U10/U11 
 D1\nGame Type: Regular\nGame Status: Complete\nHome Team: Firehawks\nAway 
 Team: Red Squadron\nHome Score: 2\nAway Score: 9
END:VEVENT
BEGIN:VEVENT
UID:16975826@ezleagues.ezfacility.com
DTSTAMP:20260424T123509Z
CREATED:20260424T123509Z
DTSTART:20260222T201000Z
DTEND:20260222T211000Z
LOCATION:RCF West - Buenos Aires
CONTACT:
SUMMARY:Firehawks VS. RCF Select 2016 Girls
DESCRIPTION:League Name: Youth League 2025-26 - Winter 2-Boys-Boys U10/U11 
 D1\nGame Type: Regular\nGame Status: Complete\nHome Team: Firehawks\nAway 
 Team: RCF Select 2016 Girls\nHome Score: 7\nAway Score: 0
END:VEVENT
BEGIN:VEVENT
UID:16975828@ezleagues.ezfacility.com
DTSTAMP:20260424T123509Z
CREATED:20260424T123509Z
DTSTART:20260301T211000Z
DTEND:20260301T221000Z
LOCATION:RCF West - Buenos Aires
CONTACT:
SUMMARY:Firehawks VS. Red Squadron
DESCRIPTION:League Name: Youth League 2025-26 - Winter 2-Boys-Boys U10/U11 
 D1\nGame Type: Regular\nGame Status: Complete\nHome Team: Firehawks\nAway 
 Team: Red Squadron\nHome Score: 2\nAway Score: 8
END:VEVENT
BEGIN:VEVENT
UID:16975714@ezleagues.ezfacility.com
DTSTAMP:20260424T123509Z
CREATED:20260424T123509Z
DTSTART:20260308T191000Z
DTEND:20260308T201000Z
LOCATION:RCF West - Buenos Aires
CONTACT:
SUMMARY:Firehawks VS. The Six Sevens
DESCRIPTION:League Name: Youth League 2025-26 - Winter 2-Boys-Boys U10/U11 
 D1\nGame Type: Regular\nGame Status: Complete\nHome Team: Firehawks\nAway 
 Team: The Six Sevens\nHome Score: 1\nAway Score: 8
END:VEVENT
BEGIN:VEVENT
UID:16975711@ezleagues.ezfacility.com
DTSTAMP:20260424T123509Z
CREATED:20260424T123509Z
DTSTART:20260314T221000Z
DTEND:20260314T231000Z
LOCATION:RCF West - Buenos Aires
CONTACT:
SUMMARY:Rogue VS. Firehawks
DESCRIPTION:League Name: Youth League 2025-26 - Winter 2-Boys-Boys U10/U11 
 D1\nGame Type: Regular\nGame Status: Complete\nHome Team: Rogue\nAway Team
 : Firehawks\nHome Score: 10\nAway Score: 3
END:VEVENT
BEGIN:VEVENT
UID:16975717@ezleagues.ezfacility.com
DTSTAMP:20260424T123509Z
CREATED:20260424T123509Z
DTSTART:20260315T205000Z
DTEND:20260315T215000Z
LOCATION:RCF West - Tigard
CONTACT:
SUMMARY:Firehawks VS. DRC Eagles 2016
DESCRIPTION:League Name: Youth League 2025-26 - Winter 2-Boys-Boys U10/U11 
 D1\nGame Type: Regular\nGame Status: Complete\nHome Team: Firehawks\nAway 
 Team: DRC Eagles 2016\nHome Score: 7\nAway Score: 0
END:VEVENT
END:VCALENDAR
