BEGIN:VCALENDAR
VERSION:2.0
PRODID:-//EZFacility.com, Inc.//EZL 2.5.5.28621
BEGIN:VEVENT
UID:16976887@ezleagues.ezfacility.com
DTSTAMP:20260426T033406Z
CREATED:20260426T033406Z
DTSTART:20260201T213000Z
DTEND:20260201T223000Z
LOCATION:RCF East - Rio
CONTACT:
SUMMARY:Westside Red Bulls VS. NW Cougars
DESCRIPTION:League Name: Youth League 2025-26 - Winter 2-Boys-Boys U13 D2\n
 Game Type: Regular\nGame Status: Complete\nHome Team: Westside Red Bulls\n
 Away Team: NW Cougars\nHome Score: 5\nAway Score: 9
END:VEVENT
BEGIN:VEVENT
UID:16976898@ezleagues.ezfacility.com
DTSTAMP:20260426T033406Z
CREATED:20260426T033406Z
DTSTART:20260209T013000Z
DTEND:20260209T023000Z
LOCATION:RCF West - Montevideo
CONTACT:
SUMMARY:NW Cougars VS. Flaming Cheetahs Green
DESCRIPTION:League Name: Youth League 2025-26 - Winter 2-Boys-Boys U13 D2\n
 Game Type: Regular\nGame Status: Complete\nHome Team: NW Cougars\nAway Tea
 m: Flaming Cheetahs Green\nHome Score: 9\nAway Score: 2
END:VEVENT
BEGIN:VEVENT
UID:16976909@ezleagues.ezfacility.com
DTSTAMP:20260426T033406Z
CREATED:20260426T033406Z
DTSTART:20260216T005000Z
DTEND:20260216T015000Z
LOCATION:RCF East - Barcelona
CONTACT:
SUMMARY:NW Cougars VS. Blue Warriors
DESCRIPTION:League Name: Youth League 2025-26 - Winter 2-Boys-Boys U13 D2\n
 Game Type: Regular\nGame Status: Complete\nHome Team: NW Cougars\nAway Tea
 m: Blue Warriors\nHome Score: 8\nAway Score: 2
END:VEVENT
BEGIN:VEVENT
UID:16976922@ezleagues.ezfacility.com
DTSTAMP:20260426T033406Z
CREATED:20260426T033406Z
DTSTART:20260222T213000Z
DTEND:20260222T223000Z
LOCATION:RCF East - Rio
CONTACT:
SUMMARY:Westside Red Bulls VS. NW Cougars
DESCRIPTION:League Name: Youth League 2025-26 - Winter 2-Boys-Boys U13 D2\n
 Game Type: Regular\nGame Status: Complete\nHome Team: Westside Red Bulls\n
 Away Team: NW Cougars\nHome Score: 0\nAway Score: 1
END:VEVENT
BEGIN:VEVENT
UID:16976935@ezleagues.ezfacility.com
DTSTAMP:20260426T033406Z
CREATED:20260426T033406Z
DTSTART:20260301T231000Z
DTEND:20260302T001000Z
LOCATION:RCF West - Buenos Aires
CONTACT:
SUMMARY:NW Cougars VS. Flaming Cheetahs Black
DESCRIPTION:League Name: Youth League 2025-26 - Winter 2-Boys-Boys U13 D2\n
 Game Type: Regular\nGame Status: Complete\nHome Team: NW Cougars\nAway Tea
 m: Flaming Cheetahs Black\nHome Score: 8\nAway Score: 1
END:VEVENT
BEGIN:VEVENT
UID:16976948@ezleagues.ezfacility.com
DTSTAMP:20260426T033406Z
CREATED:20260426T033406Z
DTSTART:20260308T225000Z
DTEND:20260308T235000Z
LOCATION:RCF East - Barcelona
CONTACT:
SUMMARY:NCF VS. NW Cougars
DESCRIPTION:League Name: Youth League 2025-26 - Winter 2-Boys-Boys U13 D2\n
 Game Type: Regular\nGame Status: Complete\nHome Team: NCF\nAway Team: NW C
 ougars\nHome Score: 1\nAway Score: 3
END:VEVENT
BEGIN:VEVENT
UID:16976974@ezleagues.ezfacility.com
DTSTAMP:20260426T033406Z
CREATED:20260426T033406Z
DTSTART:20260314T235000Z
DTEND:20260315T005000Z
LOCATION:RCF East - Barcelona
CONTACT:
SUMMARY:Herons VS. NW Cougars
DESCRIPTION:League Name: Youth League 2025-26 - Winter 2-Boys-Boys U13 D2\n
 Game Type: Regular\nGame Status: Complete\nHome Team: Herons\nAway Team: N
 W Cougars\nHome Score: 5\nAway Score: 5
END:VEVENT
BEGIN:VEVENT
UID:16976961@ezleagues.ezfacility.com
DTSTAMP:20260426T033406Z
CREATED:20260426T033406Z
DTSTART:20260315T223000Z
DTEND:20260315T233000Z
LOCATION:RCF East - Rio
CONTACT:
SUMMARY:NW Cougars VS. Coyotes
DESCRIPTION:League Name: Youth League 2025-26 - Winter 2-Boys-Boys U13 D2\n
 Game Type: Regular\nGame Status: Complete\nHome Team: NW Cougars\nAway Tea
 m: Coyotes\nHome Score: 7\nAway Score: 0
END:VEVENT
END:VCALENDAR
