BEGIN:VCALENDAR
VERSION:2.0
PRODID:-//EZFacility.com, Inc.//EZL 2.5.5.28621
BEGIN:VEVENT
UID:16976823@ezleagues.ezfacility.com
DTSTAMP:20260426T033415Z
CREATED:20260426T033415Z
DTSTART:20260201T005000Z
DTEND:20260201T015000Z
LOCATION:RCF West - Tigard
CONTACT:
SUMMARY:Lumberjacks D2 VS. Cobras
DESCRIPTION:League Name: Youth League 2025-26 - Winter 2-Boys-Boys U14 D2\n
 Game Type: Regular\nGame Status: Complete\nHome Team: Lumberjacks D2\nAway
  Team: Cobras\nHome Score: 8\nAway Score: 1
END:VEVENT
BEGIN:VEVENT
UID:16976879@ezleagues.ezfacility.com
DTSTAMP:20260426T033415Z
CREATED:20260426T033415Z
DTSTART:20260202T015000Z
DTEND:20260202T025000Z
LOCATION:RCF West - Tigard
CONTACT:
SUMMARY:Lumberjacks D2 VS. Giggity Owls
DESCRIPTION:League Name: Youth League 2025-26 - Winter 2-Boys-Boys U14 D2\n
 Game Type: Regular\nGame Status: Complete\nHome Team: Lumberjacks D2\nAway
  Team: Giggity Owls\nHome Score: 2\nAway Score: 1
END:VEVENT
BEGIN:VEVENT
UID:16976830@ezleagues.ezfacility.com
DTSTAMP:20260426T033415Z
CREATED:20260426T033415Z
DTSTART:20260207T213000Z
DTEND:20260207T223000Z
LOCATION:RCF East - Rio
CONTACT:
SUMMARY:Bandits VS. Lumberjacks D2
DESCRIPTION:League Name: Youth League 2025-26 - Winter 2-Boys-Boys U14 D2\n
 Game Type: Regular\nGame Status: Complete\nHome Team: Bandits\nAway Team: 
 Lumberjacks D2\nHome Score: 0\nAway Score: 7
END:VEVENT
BEGIN:VEVENT
UID:16976839@ezleagues.ezfacility.com
DTSTAMP:20260426T033415Z
CREATED:20260426T033415Z
DTSTART:20260214T233000Z
DTEND:20260215T003000Z
LOCATION:RCF East - Rio
CONTACT:
SUMMARY:Giggity Owls VS. Lumberjacks D2
DESCRIPTION:League Name: Youth League 2025-26 - Winter 2-Boys-Boys U14 D2\n
 Game Type: Regular\nGame Status: Complete\nHome Team: Giggity Owls\nAway T
 eam: Lumberjacks D2\nHome Score: 3\nAway Score: 2
END:VEVENT
BEGIN:VEVENT
UID:16976848@ezleagues.ezfacility.com
DTSTAMP:20260426T033415Z
CREATED:20260426T033415Z
DTSTART:20260222T001000Z
DTEND:20260222T011000Z
LOCATION:RCF East - Portland
CONTACT:
SUMMARY:Lumberjacks D2 VS. Foresters
DESCRIPTION:League Name: Youth League 2025-26 - Winter 2-Boys-Boys U14 D2\n
 Game Type: Regular\nGame Status: Complete\nHome Team: Lumberjacks D2\nAway
  Team: Foresters\nHome Score: 8\nAway Score: 3
END:VEVENT
BEGIN:VEVENT
UID:16976856@ezleagues.ezfacility.com
DTSTAMP:20260426T033415Z
CREATED:20260426T033415Z
DTSTART:20260301T225000Z
DTEND:20260301T235000Z
LOCATION:RCF West - Tigard
CONTACT:
SUMMARY:Thunder FC VS. Lumberjacks D2
DESCRIPTION:League Name: Youth League 2025-26 - Winter 2-Boys-Boys U14 D2\n
 Game Type: Regular\nGame Status: Complete\nHome Team: Thunder FC\nAway Tea
 m: Lumberjacks D2\nHome Score: 7\nAway Score: 1
END:VEVENT
BEGIN:VEVENT
UID:16976863@ezleagues.ezfacility.com
DTSTAMP:20260426T033415Z
CREATED:20260426T033415Z
DTSTART:20260307T233000Z
DTEND:20260308T003000Z
LOCATION:RCF East - Rio
CONTACT:
SUMMARY:Cobras VS. Lumberjacks D2
DESCRIPTION:League Name: Youth League 2025-26 - Winter 2-Boys-Boys U14 D2\n
 Game Type: Regular\nGame Status: Complete\nHome Team: Cobras\nAway Team: L
 umberjacks D2\nHome Score: 2\nAway Score: 5
END:VEVENT
BEGIN:VEVENT
UID:16976870@ezleagues.ezfacility.com
DTSTAMP:20260426T033415Z
CREATED:20260426T033415Z
DTSTART:20260314T225000Z
DTEND:20260314T235000Z
LOCATION:RCF West - Tigard
CONTACT:
SUMMARY:Lumberjacks D2 VS. Bandits
DESCRIPTION:League Name: Youth League 2025-26 - Winter 2-Boys-Boys U14 D2\n
 Game Type: Regular\nGame Status: Complete\nHome Team: Lumberjacks D2\nAway
  Team: Bandits\nHome Score: 5\nAway Score: 3
END:VEVENT
END:VCALENDAR
