BEGIN:VCALENDAR
VERSION:2.0
PRODID:-//EZFacility.com, Inc.//EZL 2.5.5.28621
BEGIN:VEVENT
UID:16976591@ezleagues.ezfacility.com
DTSTAMP:20260423T071155Z
CREATED:20260423T071155Z
DTSTART:20260201T215000Z
DTEND:20260201T225000Z
LOCATION:RCF West - Tigard
CONTACT:
SUMMARY:Golazo Dragons VS. Rivelino Tigers
DESCRIPTION:League Name: Youth League 2025-26 - Winter 2-Boys-Boys U8\nGame
  Type: Regular\nGame Status: Complete\nHome Team: Golazo Dragons\nAway Tea
 m: Rivelino Tigers\nHome Score: 7\nAway Score: 0
END:VEVENT
BEGIN:VEVENT
UID:16976619@ezleagues.ezfacility.com
DTSTAMP:20260423T071155Z
CREATED:20260423T071155Z
DTSTART:20260207T195000Z
DTEND:20260207T205000Z
LOCATION:RCF East - Barcelona
CONTACT:
SUMMARY:Flaming Marshmellows II VS. Golazo Dragons
DESCRIPTION:League Name: Youth League 2025-26 - Winter 2-Boys-Boys U8\nGame
  Type: Regular\nGame Status: Complete\nHome Team: Flaming Marshmellows II\
 nAway Team: Golazo Dragons\nHome Score: 0\nAway Score: 7
END:VEVENT
BEGIN:VEVENT
UID:16976621@ezleagues.ezfacility.com
DTSTAMP:20260423T071155Z
CREATED:20260423T071155Z
DTSTART:20260215T213000Z
DTEND:20260215T223000Z
LOCATION:RCF East - Rio
CONTACT:
SUMMARY:Golazo Dragons VS. King PDX
DESCRIPTION:League Name: Youth League 2025-26 - Winter 2-Boys-Boys U8\nGame
  Type: Regular\nGame Status: Complete\nHome Team: Golazo Dragons\nAway Tea
 m: King PDX\nHome Score: 5\nAway Score: 0
END:VEVENT
BEGIN:VEVENT
UID:16976635@ezleagues.ezfacility.com
DTSTAMP:20260423T071155Z
CREATED:20260423T071155Z
DTSTART:20260222T221000Z
DTEND:20260222T231000Z
LOCATION:RCF East - Portland
CONTACT:
SUMMARY:Flaming Marshmallows VS. Golazo Dragons
DESCRIPTION:League Name: Youth League 2025-26 - Winter 2-Boys-Boys U8\nGame
  Type: Regular\nGame Status: Complete\nHome Team: Flaming Marshmallows\nAw
 ay Team: Golazo Dragons\nHome Score: 2\nAway Score: 9
END:VEVENT
BEGIN:VEVENT
UID:16976661@ezleagues.ezfacility.com
DTSTAMP:20260423T071155Z
CREATED:20260423T071155Z
DTSTART:20260307T233000Z
DTEND:20260308T003000Z
LOCATION:RCF West - Montevideo
CONTACT:
SUMMARY:Vipers VS. Golazo Dragons
DESCRIPTION:League Name: Youth League 2025-26 - Winter 2-Boys-Boys U8\nGame
  Type: Regular\nGame Status: Complete\nHome Team: Vipers\nAway Team: Golaz
 o Dragons\nHome Score: 1\nAway Score: 8
END:VEVENT
BEGIN:VEVENT
UID:16976687@ezleagues.ezfacility.com
DTSTAMP:20260423T071155Z
CREATED:20260423T071155Z
DTSTART:20260308T155000Z
DTEND:20260308T165000Z
LOCATION:RCF East - Barcelona
CONTACT:
SUMMARY:Golazo Dragons VS. Bulldog United
DESCRIPTION:League Name: Youth League 2025-26 - Winter 2-Boys-Boys U8\nGame
  Type: Regular\nGame Status: Complete\nHome Team: Golazo Dragons\nAway Tea
 m: Bulldog United\nHome Score: 6\nAway Score: 6
END:VEVENT
BEGIN:VEVENT
UID:16976674@ezleagues.ezfacility.com
DTSTAMP:20260423T071155Z
CREATED:20260423T071155Z
DTSTART:20260314T203000Z
DTEND:20260314T213000Z
LOCATION:RCF East - Rio
CONTACT:
SUMMARY:Spartans VS. Golazo Dragons
DESCRIPTION:League Name: Youth League 2025-26 - Winter 2-Boys-Boys U8\nGame
  Type: Regular\nGame Status: Complete\nHome Team: Spartans\nAway Team: Gol
 azo Dragons\nHome Score: 0\nAway Score: 7
END:VEVENT
BEGIN:VEVENT
UID:16976648@ezleagues.ezfacility.com
DTSTAMP:20260423T071155Z
CREATED:20260423T071155Z
DTSTART:20260315T165000Z
DTEND:20260315T175000Z
LOCATION:RCF East - Barcelona
CONTACT:
SUMMARY:Green Streaks VS. Golazo Dragons
DESCRIPTION:League Name: Youth League 2025-26 - Winter 2-Boys-Boys U8\nGame
  Type: Regular\nGame Status: Complete\nHome Team: Green Streaks\nAway Team
 : Golazo Dragons\nHome Score: 3\nAway Score: 8
END:VEVENT
END:VCALENDAR
