BEGIN:VCALENDAR
VERSION:2.0
PRODID:-//EZFacility.com, Inc.//EZL 2.5.5.28621
BEGIN:VEVENT
UID:16976632@ezleagues.ezfacility.com
DTSTAMP:20260426T033443Z
CREATED:20260426T033443Z
DTSTART:20260131T193000Z
DTEND:20260131T203000Z
LOCATION:RCF West - Montevideo
CONTACT:
SUMMARY:Rivelino Tigers VS. Spartans
DESCRIPTION:League Name: Youth League 2025-26 - Winter 2-Boys-Boys U8\nGame
  Type: Regular\nGame Status: Complete\nHome Team: Rivelino Tigers\nAway Te
 am: Spartans\nHome Score: 0\nAway Score: 7
END:VEVENT
BEGIN:VEVENT
UID:16976607@ezleagues.ezfacility.com
DTSTAMP:20260426T033443Z
CREATED:20260426T033443Z
DTSTART:20260208T191000Z
DTEND:20260208T201000Z
LOCATION:RCF West - Buenos Aires
CONTACT:
SUMMARY:King PDX VS. Spartans
DESCRIPTION:League Name: Youth League 2025-26 - Winter 2-Boys-Boys U8\nGame
  Type: Regular\nGame Status: Complete\nHome Team: King PDX\nAway Team: Spa
 rtans\nHome Score: 1\nAway Score: 5
END:VEVENT
BEGIN:VEVENT
UID:16976620@ezleagues.ezfacility.com
DTSTAMP:20260426T033443Z
CREATED:20260426T033443Z
DTSTART:20260215T213000Z
DTEND:20260215T223000Z
LOCATION:RCF West - Montevideo
CONTACT:
SUMMARY:Flaming Marshmallows VS. Spartans
DESCRIPTION:League Name: Youth League 2025-26 - Winter 2-Boys-Boys U8\nGame
  Type: Regular\nGame Status: Complete\nHome Team: Flaming Marshmallows\nAw
 ay Team: Spartans\nHome Score: 2\nAway Score: 10
END:VEVENT
BEGIN:VEVENT
UID:16976633@ezleagues.ezfacility.com
DTSTAMP:20260426T033443Z
CREATED:20260426T033443Z
DTSTART:20260221T223000Z
DTEND:20260221T233000Z
LOCATION:RCF West - Montevideo
CONTACT:
SUMMARY:Green Streaks VS. Spartans
DESCRIPTION:League Name: Youth League 2025-26 - Winter 2-Boys-Boys U8\nGame
  Type: Regular\nGame Status: Complete\nHome Team: Green Streaks\nAway Team
 : Spartans\nHome Score: 5\nAway Score: 10
END:VEVENT
BEGIN:VEVENT
UID:16976646@ezleagues.ezfacility.com
DTSTAMP:20260426T033443Z
CREATED:20260426T033443Z
DTSTART:20260228T225000Z
DTEND:20260228T235000Z
LOCATION:RCF West - Tigard
CONTACT:
SUMMARY:Vipers VS. Spartans
DESCRIPTION:League Name: Youth League 2025-26 - Winter 2-Boys-Boys U8\nGame
  Type: Regular\nGame Status: Complete\nHome Team: Vipers\nAway Team: Spart
 ans\nHome Score: 2\nAway Score: 7
END:VEVENT
BEGIN:VEVENT
UID:16976659@ezleagues.ezfacility.com
DTSTAMP:20260426T033443Z
CREATED:20260426T033443Z
DTSTART:20260307T183000Z
DTEND:20260307T193000Z
LOCATION:RCF East - Rio
CONTACT:
SUMMARY:Spartans VS. Bulldog United
DESCRIPTION:League Name: Youth League 2025-26 - Winter 2-Boys-Boys U8\nGame
  Type: Regular\nGame Status: Complete\nHome Team: Spartans\nAway Team: Bul
 ldog United\nHome Score: 3\nAway Score: 8
END:VEVENT
BEGIN:VEVENT
UID:16976674@ezleagues.ezfacility.com
DTSTAMP:20260426T033443Z
CREATED:20260426T033443Z
DTSTART:20260314T203000Z
DTEND:20260314T213000Z
LOCATION:RCF East - Rio
CONTACT:
SUMMARY:Spartans VS. Golazo Dragons
DESCRIPTION:League Name: Youth League 2025-26 - Winter 2-Boys-Boys U8\nGame
  Type: Regular\nGame Status: Complete\nHome Team: Spartans\nAway Team: Gol
 azo Dragons\nHome Score: 0\nAway Score: 7
END:VEVENT
BEGIN:VEVENT
UID:16976689@ezleagues.ezfacility.com
DTSTAMP:20260426T033443Z
CREATED:20260426T033443Z
DTSTART:20260321T205000Z
DTEND:20260321T215000Z
LOCATION:RCF West - Tigard
CONTACT:
SUMMARY:Spartans VS. Flaming Marshmellows II
DESCRIPTION:League Name: Youth League 2025-26 - Winter 2-Boys-Boys U8\nGame
  Type: Regular\nGame Status: Complete\nHome Team: Spartans\nAway Team: Fla
 ming Marshmellows II\nHome Score: 8\nAway Score: 2
END:VEVENT
END:VCALENDAR
