BEGIN:VCALENDAR
VERSION:2.0
PRODID:-//EZFacility.com, Inc.//EZL 2.5.5.28621
BEGIN:VEVENT
UID:16974433@ezleagues.ezfacility.com
DTSTAMP:20260424T041451Z
CREATED:20260424T041451Z
DTSTART:20260110T010000Z
DTEND:20260110T020000Z
LOCATION:Field 2
CONTACT:De LaPaz
SUMMARY:Barrio Fino Fc VS. Stu.Gazz
DESCRIPTION:League Name: Friday Over 35 (Winter - 2026) -Central Conference
 \nGame Type: Regular\nGame Status: Complete\nHome Team: Barrio Fino Fc\nAw
 ay Team: Stu.Gazz\nHome Score: 12\nAway Score: 2
END:VEVENT
BEGIN:VEVENT
UID:16974430@ezleagues.ezfacility.com
DTSTAMP:20260424T041451Z
CREATED:20260424T041451Z
DTSTART:20260117T040000Z
DTEND:20260117T050000Z
LOCATION:Field 2
CONTACT:Cruz
SUMMARY:Barrio Fino Fc VS. Spinners FC
DESCRIPTION:League Name: Friday Over 35 (Winter - 2026) -Central Conference
 \nGame Type: Regular\nGame Status: Complete\nHome Team: Barrio Fino Fc\nAw
 ay Team: Spinners FC\nHome Score: 7\nAway Score: 7
END:VEVENT
BEGIN:VEVENT
UID:16974881@ezleagues.ezfacility.com
DTSTAMP:20260424T041451Z
CREATED:20260424T041451Z
DTSTART:20260124T020000Z
DTEND:20260124T030000Z
LOCATION:Field 2
CONTACT:Fonseca
SUMMARY:Piratas VS. Barrio Fino Fc
DESCRIPTION:League Name: Friday Over 35 (Winter - 2026) -Central Conference
 \nGame Type: Regular\nGame Status: Complete\nHome Team: Piratas\nAway Team
 : Barrio Fino Fc\nHome Score: 3\nAway Score: 4
END:VEVENT
BEGIN:VEVENT
UID:16986548@ezleagues.ezfacility.com
DTSTAMP:20260424T041451Z
CREATED:20260424T041451Z
DTSTART:20260131T034500Z
DTEND:20260131T044000Z
LOCATION:Field 2
CONTACT:Cruz
SUMMARY:Barrio Fino Fc VS. Old Timers
DESCRIPTION:League Name: Friday Over 35 (Winter - 2026) -Central Conference
 \nGame Type: Regular\nGame Status: Complete\nHome Team: Barrio Fino Fc\nAw
 ay Team: Old Timers\nHome Score: 2\nAway Score: 2
END:VEVENT
BEGIN:VEVENT
UID:16995888@ezleagues.ezfacility.com
DTSTAMP:20260424T041451Z
CREATED:20260424T041451Z
DTSTART:20260207T015500Z
DTEND:20260207T025000Z
LOCATION:Field 1
CONTACT:Cruz
SUMMARY:Barrio Fino Fc VS. Deportivo Peru
DESCRIPTION:League Name: Friday Over 35 (Winter - 2026) -Central Conference
 \nGame Type: Regular\nGame Status: Complete\nHome Team: Barrio Fino Fc\nAw
 ay Team: Deportivo Peru\nHome Score: 5\nAway Score: 5
END:VEVENT
BEGIN:VEVENT
UID:16995883@ezleagues.ezfacility.com
DTSTAMP:20260424T041451Z
CREATED:20260424T041451Z
DTSTART:20260214T043500Z
DTEND:20260214T053000Z
LOCATION:Field 2
CONTACT:Restrepo
SUMMARY:Barrio Fino Fc VS. Somerset Strikers
DESCRIPTION:League Name: Friday Over 35 (Winter - 2026) -Central Conference
 \nGame Type: Regular\nGame Status: Complete\nHome Team: Barrio Fino Fc\nAw
 ay Team: Somerset Strikers\nHome Score: 4\nAway Score: 4
END:VEVENT
BEGIN:VEVENT
UID:16995927@ezleagues.ezfacility.com
DTSTAMP:20260424T041451Z
CREATED:20260424T041451Z
DTSTART:20260221T025000Z
DTEND:20260221T034500Z
LOCATION:Field 2
CONTACT:Fonseca
SUMMARY:Spinners FC VS. Barrio Fino Fc
DESCRIPTION:League Name: Friday Over 35 (Winter - 2026) -Central Conference
 \nGame Type: Regular\nGame Status: Complete\nHome Team: Spinners FC\nAway 
 Team: Barrio Fino Fc\nHome Score: 1\nAway Score: 5
END:VEVENT
BEGIN:VEVENT
UID:17008065@ezleagues.ezfacility.com
DTSTAMP:20260424T041451Z
CREATED:20260424T041451Z
DTSTART:20260228T023000Z
DTEND:20260228T033000Z
LOCATION:Field 1
CONTACT:Ferreira
SUMMARY:Barrio Fino Fc VS. Old Timers
DESCRIPTION:League Name: Friday Over 35 (Winter - 2026) -Central Conference
 \nGame Type: Postseason\nGame Status: Complete\nHome Team: Barrio Fino Fc\
 nAway Team: Old Timers\nHome Score: 7\nAway Score: 1
END:VEVENT
BEGIN:VEVENT
UID:17037639@ezleagues.ezfacility.com
DTSTAMP:20260424T041451Z
CREATED:20260424T041451Z
DTSTART:20260307T020000Z
DTEND:20260307T030000Z
LOCATION:Field 1
CONTACT:Ferreira
SUMMARY:Barrio Fino Fc VS. Deportivo Peru
DESCRIPTION:League Name: Friday Over 35 (Winter - 2026) -Central Conference
 \nGame Type: Postseason\nGame Status: Complete\nHome Team: Barrio Fino Fc\
 nAway Team: Deportivo Peru\nHome Score: 3\nAway Score: 2
END:VEVENT
END:VCALENDAR
