BEGIN:VCALENDAR
VERSION:2.0
PRODID:-//EZFacility.com, Inc.//EZL 2.5.5.28621
BEGIN:VEVENT
UID:16974441@ezleagues.ezfacility.com
DTSTAMP:20260426T033438Z
CREATED:20260426T033438Z
DTSTART:20260124T012000Z
DTEND:20260124T021000Z
LOCATION:Eagles1 Main Field
CONTACT:
SUMMARY:Brisas VS. Dimas
DESCRIPTION:League Name: Friday 3ra Men\nGame Type: Regular\nGame Status: C
 omplete\nHome Team: Brisas\nAway Team: Dimas\nHome Score: 3\nAway Score: 3
END:VEVENT
BEGIN:VEVENT
UID:16974445@ezleagues.ezfacility.com
DTSTAMP:20260426T033438Z
CREATED:20260426T033438Z
DTSTART:20260131T021000Z
DTEND:20260131T030000Z
LOCATION:Eagles1 Main Field
CONTACT:
SUMMARY:American Trucks VS. Dimas
DESCRIPTION:League Name: Friday 3ra Men\nGame Type: Regular\nGame Status: C
 omplete\nHome Team: American Trucks\nAway Team: Dimas\nHome Score: 4\nAway
  Score: 5
END:VEVENT
BEGIN:VEVENT
UID:16974451@ezleagues.ezfacility.com
DTSTAMP:20260426T033438Z
CREATED:20260426T033438Z
DTSTART:20260207T035000Z
DTEND:20260207T044000Z
LOCATION:Eagles1 Main Field
CONTACT:
SUMMARY:Dimas VS. Chile FC
DESCRIPTION:League Name: Friday 3ra Men\nGame Type: Regular\nGame Status: P
 ending\nHome Team: Dimas\nAway Team: Chile FC\n
END:VEVENT
BEGIN:VEVENT
UID:16974457@ezleagues.ezfacility.com
DTSTAMP:20260426T033438Z
CREATED:20260426T033438Z
DTSTART:20260214T030000Z
DTEND:20260214T035000Z
LOCATION:Eagles1 Main Field
CONTACT:
SUMMARY:Dimas VS. Atletic UFC
DESCRIPTION:League Name: Friday 3ra Men\nGame Type: Regular\nGame Status: P
 ending\nHome Team: Dimas\nAway Team: Atletic UFC\n
END:VEVENT
BEGIN:VEVENT
UID:16974463@ezleagues.ezfacility.com
DTSTAMP:20260426T033438Z
CREATED:20260426T033438Z
DTSTART:20260221T030000Z
DTEND:20260221T035000Z
LOCATION:Eagles1 Main Field
CONTACT:
SUMMARY:Dimas VS. Real Azteca
DESCRIPTION:League Name: Friday 3ra Men\nGame Type: Regular\nGame Status: C
 omplete\nHome Team: Dimas\nAway Team: Real Azteca\nHome Score: 11\nAway Sc
 ore: 7
END:VEVENT
BEGIN:VEVENT
UID:16974469@ezleagues.ezfacility.com
DTSTAMP:20260426T033438Z
CREATED:20260426T033438Z
DTSTART:20260228T035000Z
DTEND:20260228T044000Z
LOCATION:Eagles1 Main Field
CONTACT:
SUMMARY:Dimas VS. Team 3
DESCRIPTION:League Name: Friday 3ra Men\nGame Type: Regular\nGame Status: C
 omplete\nHome Team: Dimas\nAway Team: Team 3\nHome Score: 6\nAway Score: 4
END:VEVENT
BEGIN:VEVENT
UID:16974474@ezleagues.ezfacility.com
DTSTAMP:20260426T033438Z
CREATED:20260426T033438Z
DTSTART:20260307T003000Z
DTEND:20260307T012000Z
LOCATION:Eagles1 Main Field
CONTACT:
SUMMARY:Chivas VS. Dimas
DESCRIPTION:League Name: Friday 3ra Men\nGame Type: Regular\nGame Status: C
 omplete\nHome Team: Chivas\nAway Team: Dimas\nHome Score: 5\nAway Score: 3
END:VEVENT
BEGIN:VEVENT
UID:17057349@ezleagues.ezfacility.com
DTSTAMP:20260426T033438Z
CREATED:20260426T033438Z
DTSTART:20260314T013000Z
DTEND:20260314T022000Z
LOCATION:Eagles1 Main Field
CONTACT:
SUMMARY:Dimas VS. xxx
DESCRIPTION:League Name: Friday 3ra Men\nGame Type: Regular\nGame Status: C
 omplete\nHome Team: Dimas\nAway Team: xxx\nHome Score: 2\nAway Score: 0
END:VEVENT
BEGIN:VEVENT
UID:16974478@ezleagues.ezfacility.com
DTSTAMP:20260426T033438Z
CREATED:20260426T033438Z
DTSTART:20260314T020000Z
DTEND:20260314T025000Z
LOCATION:Eagles1 Main Field
CONTACT:
SUMMARY:Fronterizo FC VS. Dimas
DESCRIPTION:League Name: Friday 3ra Men\nGame Type: Regular\nGame Status: C
 omplete\nHome Team: Fronterizo FC\nAway Team: Dimas\nHome Score: 6\nAway S
 core: 4
END:VEVENT
BEGIN:VEVENT
UID:16974482@ezleagues.ezfacility.com
DTSTAMP:20260426T033438Z
CREATED:20260426T033438Z
DTSTART:20260321T002000Z
DTEND:20260321T011000Z
LOCATION:Eagles1 Main Field
CONTACT:
SUMMARY:Team 6 VS. Dimas
DESCRIPTION:League Name: Friday 3ra Men\nGame Type: Regular\nGame Status: C
 omplete\nHome Team: Team 6\nAway Team: Dimas\nHome Score: 4\nAway Score: 5
END:VEVENT
BEGIN:VEVENT
UID:17072631@ezleagues.ezfacility.com
DTSTAMP:20260426T033438Z
CREATED:20260426T033438Z
DTSTART:20260321T021000Z
DTEND:20260321T030000Z
LOCATION:Eagles1 Main Field
CONTACT:
SUMMARY:Team 6 VS. Dimas
DESCRIPTION:League Name: Friday 3ra Men\nGame Type: Regular\nGame Status: C
 omplete\nHome Team: Team 6\nAway Team: Dimas\nHome Score: 8\nAway Score: 8
END:VEVENT
BEGIN:VEVENT
UID:17082533@ezleagues.ezfacility.com
DTSTAMP:20260426T033438Z
CREATED:20260426T033438Z
DTSTART:20260404T013000Z
DTEND:20260404T022000Z
LOCATION:Eagles1 Main Field
CONTACT:
SUMMARY:Dimas VS. XXX
DESCRIPTION:League Name: Friday 3ra Men\nGame Type: Regular\nGame Status: C
 omplete\nHome Team: Dimas\nAway Team: XXX\nHome Score: 2\nAway Score: 0
END:VEVENT
BEGIN:VEVENT
UID:17102169@ezleagues.ezfacility.com
DTSTAMP:20260426T033438Z
CREATED:20260426T033438Z
DTSTART:20260418T002000Z
DTEND:20260418T011000Z
LOCATION:Eagles1 Main Field
CONTACT:
SUMMARY:Dimas VS. Real Azteca
DESCRIPTION:League Name: Friday 3ra Men\nGame Type: Postseason\nGame Status
 : Complete\nHome Team: Dimas\nAway Team: Real Azteca\nHome Score: 4\nAway 
 Score: 6
END:VEVENT
END:VCALENDAR
