BEGIN:VCALENDAR
VERSION:2.0
PRODID:-//EZFacility.com, Inc.//EZL 2.5.5.28621
BEGIN:VEVENT
UID:16974442@ezleagues.ezfacility.com
DTSTAMP:20260426T033403Z
CREATED:20260426T033403Z
DTSTART:20260124T021000Z
DTEND:20260124T030000Z
LOCATION:Eagles1 Main Field
CONTACT:
SUMMARY:Real Azteca VS. Chivas
DESCRIPTION:League Name: Friday 3ra Men\nGame Type: Regular\nGame Status: C
 omplete\nHome Team: Real Azteca\nAway Team: Chivas\nHome Score: 2\nAway Sc
 ore: 10
END:VEVENT
BEGIN:VEVENT
UID:16974446@ezleagues.ezfacility.com
DTSTAMP:20260426T033403Z
CREATED:20260426T033403Z
DTSTART:20260131T012000Z
DTEND:20260131T021000Z
LOCATION:Eagles1 Main Field
CONTACT:
SUMMARY:Team 3 VS. Chivas
DESCRIPTION:League Name: Friday 3ra Men\nGame Type: Regular\nGame Status: C
 omplete\nHome Team: Team 3\nAway Team: Chivas\nHome Score: 4\nAway Score: 
 3
END:VEVENT
BEGIN:VEVENT
UID:16974450@ezleagues.ezfacility.com
DTSTAMP:20260426T033403Z
CREATED:20260426T033403Z
DTSTART:20260207T030000Z
DTEND:20260207T035000Z
LOCATION:Eagles1 Main Field
CONTACT:
SUMMARY:Chivas VS. American Trucks
DESCRIPTION:League Name: Friday 3ra Men\nGame Type: Regular\nGame Status: C
 omplete\nHome Team: Chivas\nAway Team: American Trucks\nHome Score: 4\nAwa
 y Score: 4
END:VEVENT
BEGIN:VEVENT
UID:16974456@ezleagues.ezfacility.com
DTSTAMP:20260426T033403Z
CREATED:20260426T033403Z
DTSTART:20260214T014000Z
DTEND:20260214T023000Z
LOCATION:Eagles1 Main Field
CONTACT:
SUMMARY:Chivas VS. Fronterizo FC
DESCRIPTION:League Name: Friday 3ra Men\nGame Type: Regular\nGame Status: C
 omplete\nHome Team: Chivas\nAway Team: Fronterizo FC\nHome Score: 5\nAway 
 Score: 8
END:VEVENT
BEGIN:VEVENT
UID:16974462@ezleagues.ezfacility.com
DTSTAMP:20260426T033403Z
CREATED:20260426T033403Z
DTSTART:20260221T003000Z
DTEND:20260221T012000Z
LOCATION:Eagles1 Main Field
CONTACT:
SUMMARY:Chivas VS. Team 6
DESCRIPTION:League Name: Friday 3ra Men\nGame Type: Regular\nGame Status: C
 omplete\nHome Team: Chivas\nAway Team: Team 6\nHome Score: 8\nAway Score: 
 3
END:VEVENT
BEGIN:VEVENT
UID:16974468@ezleagues.ezfacility.com
DTSTAMP:20260426T033403Z
CREATED:20260426T033403Z
DTSTART:20260228T030000Z
DTEND:20260228T035000Z
LOCATION:Eagles1 Main Field
CONTACT:
SUMMARY:Chivas VS. Brisas
DESCRIPTION:League Name: Friday 3ra Men\nGame Type: Regular\nGame Status: C
 omplete\nHome Team: Chivas\nAway Team: Brisas\nHome Score: 3\nAway Score: 
 4
END:VEVENT
BEGIN:VEVENT
UID:16974474@ezleagues.ezfacility.com
DTSTAMP:20260426T033403Z
CREATED:20260426T033403Z
DTSTART:20260307T003000Z
DTEND:20260307T012000Z
LOCATION:Eagles1 Main Field
CONTACT:
SUMMARY:Chivas VS. Dimas
DESCRIPTION:League Name: Friday 3ra Men\nGame Type: Regular\nGame Status: C
 omplete\nHome Team: Chivas\nAway Team: Dimas\nHome Score: 5\nAway Score: 3
END:VEVENT
BEGIN:VEVENT
UID:16974479@ezleagues.ezfacility.com
DTSTAMP:20260426T033403Z
CREATED:20260426T033403Z
DTSTART:20260314T025000Z
DTEND:20260314T034000Z
LOCATION:Eagles1 Main Field
CONTACT:
SUMMARY:Chile FC VS. Chivas
DESCRIPTION:League Name: Friday 3ra Men\nGame Type: Regular\nGame Status: C
 omplete\nHome Team: Chile FC\nAway Team: Chivas\nHome Score: 1\nAway Score
 : 4
END:VEVENT
BEGIN:VEVENT
UID:16974483@ezleagues.ezfacility.com
DTSTAMP:20260426T033403Z
CREATED:20260426T033403Z
DTSTART:20260321T011000Z
DTEND:20260321T020000Z
LOCATION:Eagles1 Main Field
CONTACT:
SUMMARY:Atletic UFC VS. Chivas
DESCRIPTION:League Name: Friday 3ra Men\nGame Type: Regular\nGame Status: C
 omplete\nHome Team: Atletic UFC\nAway Team: Chivas\nHome Score: 7\nAway Sc
 ore: 3
END:VEVENT
BEGIN:VEVENT
UID:17102170@ezleagues.ezfacility.com
DTSTAMP:20260426T033403Z
CREATED:20260426T033403Z
DTSTART:20260418T011000Z
DTEND:20260418T020000Z
LOCATION:Eagles1 Main Field
CONTACT:
SUMMARY:American Trucks VS. Chivas
DESCRIPTION:League Name: Friday 3ra Men\nGame Type: Postseason\nGame Status
 : Complete\nHome Team: American Trucks\nAway Team: Chivas\nHome Score: 6\n
 Away Score: 0
END:VEVENT
END:VCALENDAR
