BEGIN:VCALENDAR
VERSION:2.0
PRODID:-//EZFacility.com, Inc.//EZL 2.5.5.28621
BEGIN:VEVENT
UID:16974443@ezleagues.ezfacility.com
DTSTAMP:20260423T203337Z
CREATED:20260423T203337Z
DTSTART:20260124T030000Z
DTEND:20260124T035000Z
LOCATION:Eagles1 Main Field
CONTACT:
SUMMARY:Team 6 VS. Chile FC
DESCRIPTION:League Name: Friday 3ra Men\nGame Type: Regular\nGame Status: C
 omplete\nHome Team: Team 6\nAway Team: Chile FC\nHome Score: 2\nAway Score
 : 0
END:VEVENT
BEGIN:VEVENT
UID:16974447@ezleagues.ezfacility.com
DTSTAMP:20260423T203337Z
CREATED:20260423T203337Z
DTSTART:20260131T003000Z
DTEND:20260131T012000Z
LOCATION:Eagles1 Main Field
CONTACT:
SUMMARY:Brisas VS. Chile FC
DESCRIPTION:League Name: Friday 3ra Men\nGame Type: Regular\nGame Status: C
 omplete\nHome Team: Brisas\nAway Team: Chile FC\nHome Score: 3\nAway Score
 : 4
END:VEVENT
BEGIN:VEVENT
UID:16974451@ezleagues.ezfacility.com
DTSTAMP:20260423T203337Z
CREATED:20260423T203337Z
DTSTART:20260207T035000Z
DTEND:20260207T044000Z
LOCATION:Eagles1 Main Field
CONTACT:
SUMMARY:Dimas VS. Chile FC
DESCRIPTION:League Name: Friday 3ra Men\nGame Type: Regular\nGame Status: P
 ending\nHome Team: Dimas\nAway Team: Chile FC\n
END:VEVENT
BEGIN:VEVENT
UID:16974455@ezleagues.ezfacility.com
DTSTAMP:20260423T203337Z
CREATED:20260423T203337Z
DTSTART:20260214T012000Z
DTEND:20260214T021000Z
LOCATION:Eagles1 Main Field
CONTACT:
SUMMARY:Chile FC VS. American Trucks
DESCRIPTION:League Name: Friday 3ra Men\nGame Type: Regular\nGame Status: C
 omplete\nHome Team: Chile FC\nAway Team: American Trucks\nHome Score: 6\nA
 way Score: 9
END:VEVENT
BEGIN:VEVENT
UID:16974461@ezleagues.ezfacility.com
DTSTAMP:20260423T203337Z
CREATED:20260423T203337Z
DTSTART:20260221T021000Z
DTEND:20260221T030000Z
LOCATION:Eagles1 Main Field
CONTACT:
SUMMARY:Chile FC VS. Atletic UFC
DESCRIPTION:League Name: Friday 3ra Men\nGame Type: Regular\nGame Status: C
 omplete\nHome Team: Chile FC\nAway Team: Atletic UFC\nHome Score: 0\nAway 
 Score: 0
END:VEVENT
BEGIN:VEVENT
UID:16974467@ezleagues.ezfacility.com
DTSTAMP:20260423T203337Z
CREATED:20260423T203337Z
DTSTART:20260228T021000Z
DTEND:20260228T030000Z
LOCATION:Eagles1 Main Field
CONTACT:
SUMMARY:Chile FC VS. Real Azteca
DESCRIPTION:League Name: Friday 3ra Men\nGame Type: Regular\nGame Status: C
 omplete\nHome Team: Chile FC\nAway Team: Real Azteca\nHome Score: 11\nAway
  Score: 11
END:VEVENT
BEGIN:VEVENT
UID:16974473@ezleagues.ezfacility.com
DTSTAMP:20260423T203337Z
CREATED:20260423T203337Z
DTSTART:20260307T030000Z
DTEND:20260307T035000Z
LOCATION:Eagles1 Main Field
CONTACT:
SUMMARY:Chile FC VS. Team 3
DESCRIPTION:League Name: Friday 3ra Men\nGame Type: Regular\nGame Status: P
 ending\nHome Team: Chile FC\nAway Team: Team 3\n
END:VEVENT
BEGIN:VEVENT
UID:16974479@ezleagues.ezfacility.com
DTSTAMP:20260423T203337Z
CREATED:20260423T203337Z
DTSTART:20260314T025000Z
DTEND:20260314T034000Z
LOCATION:Eagles1 Main Field
CONTACT:
SUMMARY:Chile FC VS. Chivas
DESCRIPTION:League Name: Friday 3ra Men\nGame Type: Regular\nGame Status: C
 omplete\nHome Team: Chile FC\nAway Team: Chivas\nHome Score: 1\nAway Score
 : 4
END:VEVENT
BEGIN:VEVENT
UID:16974484@ezleagues.ezfacility.com
DTSTAMP:20260423T203337Z
CREATED:20260423T203337Z
DTSTART:20260321T025000Z
DTEND:20260321T034000Z
LOCATION:Eagles1 Main Field
CONTACT:
SUMMARY:Fronterizo FC VS. Chile FC
DESCRIPTION:League Name: Friday 3ra Men\nGame Type: Regular\nGame Status: C
 omplete\nHome Team: Fronterizo FC\nAway Team: Chile FC\nHome Score: 2\nAwa
 y Score: 0
END:VEVENT
BEGIN:VEVENT
UID:17082531@ezleagues.ezfacility.com
DTSTAMP:20260423T203337Z
CREATED:20260423T203337Z
DTSTART:20260403T230000Z
DTEND:20260403T235000Z
LOCATION:Eagles1 Main Field
CONTACT:
SUMMARY:Real Azteca VS. Chile FC
DESCRIPTION:League Name: Friday 3ra Men\nGame Type: Regular\nGame Status: C
 omplete\nHome Team: Real Azteca\nAway Team: Chile FC\nHome Score: 9\nAway 
 Score: 4
END:VEVENT
BEGIN:VEVENT
UID:17102168@ezleagues.ezfacility.com
DTSTAMP:20260423T203337Z
CREATED:20260423T203337Z
DTSTART:20260417T233000Z
DTEND:20260418T002000Z
LOCATION:Eagles1 Main Field
CONTACT:
SUMMARY:Brisas VS. Chile FC
DESCRIPTION:League Name: Friday 3ra Men\nGame Type: Postseason\nGame Status
 : Complete\nHome Team: Brisas\nAway Team: Chile FC\nHome Score: 9\nAway Sc
 ore: 3
END:VEVENT
END:VCALENDAR
