BEGIN:VCALENDAR
VERSION:2.0
PRODID:-//EZFacility.com, Inc.//EZL 2.5.5.28621
BEGIN:VEVENT
UID:16976039@ezleagues.ezfacility.com
DTSTAMP:20260424T000024Z
CREATED:20260424T000024Z
DTSTART:20260127T005500Z
DTEND:20260127T015500Z
LOCATION:PFFC Field House - A
CONTACT:
SUMMARY:Red Utd VS. CFC
DESCRIPTION:League Name: MSL Winter 2026 - COED First Games\nGame Type: Reg
 ular\nGame Status: Complete\nHome Team: Red Utd\nAway Team: CFC\nHome Scor
 e: 1\nAway Score: 3
END:VEVENT
BEGIN:VEVENT
UID:16987934@ezleagues.ezfacility.com
DTSTAMP:20260424T000024Z
CREATED:20260424T000024Z
DTSTART:20260203T034000Z
DTEND:20260203T044000Z
LOCATION:PFFC Field House - B
CONTACT:
SUMMARY:Sacks and Racks VS. Red Utd
DESCRIPTION:League Name: MSL Winter 2026 - COED First Games\nGame Type: Reg
 ular\nGame Status: Complete\nHome Team: Sacks and Racks\nAway Team: Red Ut
 d\nHome Score: 3\nAway Score: 4
END:VEVENT
BEGIN:VEVENT
UID:17001414@ezleagues.ezfacility.com
DTSTAMP:20260424T000024Z
CREATED:20260424T000024Z
DTSTART:20260210T000000Z
DTEND:20260210T010000Z
LOCATION:PFFC Field House - B
CONTACT:
SUMMARY:Take It Easy FC VS. Red Utd
DESCRIPTION:League Name: MSL Winter 2026 - COED First Games\nGame Type: Reg
 ular\nGame Status: Complete\nHome Team: Take It Easy FC\nAway Team: Red Ut
 d\nHome Score: 9\nAway Score: 0
END:VEVENT
END:VCALENDAR
