BEGIN:VCALENDAR
VERSION:2.0
PRODID:-//EZFacility.com, Inc.//EZL 2.5.5.28621
BEGIN:VEVENT
UID:16989119@ezleagues.ezfacility.com
DTSTAMP:20260421T213403Z
CREATED:20260421T213403Z
DTSTART:20260125T144500Z
DTEND:20260125T153000Z
LOCATION:Field 2
CONTACT:LOPEZ
SUMMARY:Bolton VS. El Pueblo - La Concha
DESCRIPTION:League Name: 2026 Winter Sunday Open Men's 2nd Session\nGame Ty
 pe: Regular\nGame Status: Complete\nHome Team: Bolton\nAway Team: El Puebl
 o - La Concha\nHome Score: 3\nAway Score: 0
END:VEVENT
BEGIN:VEVENT
UID:16989132@ezleagues.ezfacility.com
DTSTAMP:20260421T213403Z
CREATED:20260421T213403Z
DTSTART:20260201T153000Z
DTEND:20260201T161500Z
LOCATION:Field 2
CONTACT:Estrada
SUMMARY:Phoenix United  VS. El Pueblo - La Concha
DESCRIPTION:League Name: 2026 Winter Sunday Open Men's 2nd Session\nGame Ty
 pe: Regular\nGame Status: Complete\nHome Team: Phoenix United \nAway Team:
  El Pueblo - La Concha\nHome Score: 4\nAway Score: 6
END:VEVENT
BEGIN:VEVENT
UID:16989145@ezleagues.ezfacility.com
DTSTAMP:20260421T213403Z
CREATED:20260421T213403Z
DTSTART:20260208T191500Z
DTEND:20260208T200000Z
LOCATION:Field 2
CONTACT:LOPEZ
SUMMARY:Hidden FC VS. El Pueblo - La Concha
DESCRIPTION:League Name: 2026 Winter Sunday Open Men's 2nd Session\nGame Ty
 pe: Regular\nGame Status: Complete\nHome Team: Hidden FC\nAway Team: El Pu
 eblo - La Concha\nHome Score: 5\nAway Score: 2
END:VEVENT
BEGIN:VEVENT
UID:16989158@ezleagues.ezfacility.com
DTSTAMP:20260421T213403Z
CREATED:20260421T213403Z
DTSTART:20260215T170000Z
DTEND:20260215T174500Z
LOCATION:Field 1
CONTACT:Valle
SUMMARY:Puma Boys VS. El Pueblo - La Concha
DESCRIPTION:League Name: 2026 Winter Sunday Open Men's 2nd Session\nGame Ty
 pe: Regular\nGame Status: Complete\nHome Team: Puma Boys\nAway Team: El Pu
 eblo - La Concha\nHome Score: 3\nAway Score: 9
END:VEVENT
BEGIN:VEVENT
UID:16989171@ezleagues.ezfacility.com
DTSTAMP:20260421T213403Z
CREATED:20260421T213403Z
DTSTART:20260222T153000Z
DTEND:20260222T161500Z
LOCATION:Field 2
CONTACT:Talavera
SUMMARY:Vieja Escuela VS. El Pueblo - La Concha
DESCRIPTION:League Name: 2026 Winter Sunday Open Men's 2nd Session\nGame Ty
 pe: Regular\nGame Status: Complete\nHome Team: Vieja Escuela\nAway Team: E
 l Pueblo - La Concha\nHome Score: 8\nAway Score: 1
END:VEVENT
BEGIN:VEVENT
UID:16989184@ezleagues.ezfacility.com
DTSTAMP:20260421T213403Z
CREATED:20260421T213403Z
DTSTART:20260301T170000Z
DTEND:20260301T174500Z
LOCATION:Field 1
CONTACT:De La Paz
SUMMARY:El Pueblo - La Concha VS. Panda FC
DESCRIPTION:League Name: 2026 Winter Sunday Open Men's 2nd Session\nGame Ty
 pe: Regular\nGame Status: Complete\nHome Team: El Pueblo - La Concha\nAway
  Team: Panda FC\nHome Score: 6\nAway Score: 2
END:VEVENT
BEGIN:VEVENT
UID:16989206@ezleagues.ezfacility.com
DTSTAMP:20260421T213403Z
CREATED:20260421T213403Z
DTSTART:20260308T181500Z
DTEND:20260308T190000Z
LOCATION:Field 2
CONTACT:Estrada\, Ortega
SUMMARY:El Pueblo - La Concha VS. Monarcas A
DESCRIPTION:League Name: 2026 Winter Sunday Open Men's 2nd Session\nGame Ty
 pe: Regular\nGame Status: Complete\nHome Team: El Pueblo - La Concha\nAway
  Team: Monarcas A\nHome Score: 2\nAway Score: 8
END:VEVENT
BEGIN:VEVENT
UID:16989214@ezleagues.ezfacility.com
DTSTAMP:20260421T213403Z
CREATED:20260421T213403Z
DTSTART:20260315T181500Z
DTEND:20260315T190000Z
LOCATION:Field 2
CONTACT:Estrada\, LOPEZ
SUMMARY:El Pueblo - La Concha VS. Steeple FC
DESCRIPTION:League Name: 2026 Winter Sunday Open Men's 2nd Session\nGame Ty
 pe: Regular\nGame Status: Complete\nHome Team: El Pueblo - La Concha\nAway
  Team: Steeple FC\nHome Score: 7\nAway Score: 2
END:VEVENT
BEGIN:VEVENT
UID:16989226@ezleagues.ezfacility.com
DTSTAMP:20260421T213403Z
CREATED:20260421T213403Z
DTSTART:20260322T134500Z
DTEND:20260322T143000Z
LOCATION:Field 1
CONTACT:Estrada
SUMMARY:Chivas USA VS. El Pueblo - La Concha
DESCRIPTION:League Name: 2026 Winter Sunday Open Men's 2nd Session\nGame Ty
 pe: Regular\nGame Status: Complete\nHome Team: Chivas USA\nAway Team: El P
 ueblo - La Concha\nHome Score: 3\nAway Score: 6
END:VEVENT
BEGIN:VEVENT
UID:16989248@ezleagues.ezfacility.com
DTSTAMP:20260421T213403Z
CREATED:20260421T213403Z
DTSTART:20260329T143000Z
DTEND:20260329T151500Z
LOCATION:Field 2
CONTACT:Palikot
SUMMARY:La Banda VS. El Pueblo - La Concha
DESCRIPTION:League Name: 2026 Winter Sunday Open Men's 2nd Session\nGame Ty
 pe: Regular\nGame Status: Complete\nHome Team: La Banda\nAway Team: El Pue
 blo - La Concha\nHome Score: 6\nAway Score: 3
END:VEVENT
BEGIN:VEVENT
UID:17090753@ezleagues.ezfacility.com
DTSTAMP:20260421T213403Z
CREATED:20260421T213403Z
DTSTART:20260412T181500Z
DTEND:20260412T190000Z
LOCATION:Field 2
CONTACT:Estrada\, LOPEZ
SUMMARY:El Pueblo - La Concha VS. Fantasmas 
DESCRIPTION:League Name: 2026 Winter Sunday Open Men's 2nd Session\nGame Ty
 pe: Postseason\nGame Status: Complete\nHome Team: El Pueblo - La Concha\nA
 way Team: Fantasmas \nHome Score: 8\nAway Score: 7
END:VEVENT
BEGIN:VEVENT
UID:17098654@ezleagues.ezfacility.com
DTSTAMP:20260421T213403Z
CREATED:20260421T213403Z
DTSTART:20260419T150000Z
DTEND:20260419T154500Z
LOCATION:Field 2
CONTACT:LOPEZ\, Rangel
SUMMARY:Novatos VS. El Pueblo - La Concha
DESCRIPTION:League Name: 2026 Winter Sunday Open Men's 2nd Session\nGame Ty
 pe: Postseason\nGame Status: Complete\nHome Team: Novatos\nAway Team: El P
 ueblo - La Concha\nHome Score: 4\nAway Score: 5
END:VEVENT
END:VCALENDAR
