BEGIN:VCALENDAR
VERSION:2.0
PRODID:-//EZFacility.com, Inc.//EZL 2.5.5.28621
BEGIN:VEVENT
UID:16978053@ezleagues.ezfacility.com
DTSTAMP:20260424T041437Z
CREATED:20260424T041437Z
DTSTART:20260129T035000Z
DTEND:20260129T044000Z
LOCATION:Field 3
CONTACT:
SUMMARY:No Mames Gueys VS. Regulators
DESCRIPTION:League Name: Men's Softball Winter 26 (LOWER)\nGame Type: Regul
 ar\nGame Status: Complete\nHome Team: No Mames Gueys\nAway Team: Regulator
 s\nHome Score: 13\nAway Score: 17
END:VEVENT
BEGIN:VEVENT
UID:16978057@ezleagues.ezfacility.com
DTSTAMP:20260424T041437Z
CREATED:20260424T041437Z
DTSTART:20260205T024000Z
DTEND:20260205T033000Z
LOCATION:Field 3
CONTACT:
SUMMARY:Misfits VS. Regulators
DESCRIPTION:League Name: Men's Softball Winter 26 (LOWER)\nGame Type: Regul
 ar\nGame Status: Complete\nHome Team: Misfits\nAway Team: Regulators\nHome
  Score: 20\nAway Score: 21
END:VEVENT
BEGIN:VEVENT
UID:16978060@ezleagues.ezfacility.com
DTSTAMP:20260424T041437Z
CREATED:20260424T041437Z
DTSTART:20260212T050000Z
DTEND:20260212T055000Z
LOCATION:Field 3
CONTACT:
SUMMARY:Regulators VS. Silverback Sluggers
DESCRIPTION:League Name: Men's Softball Winter 26 (LOWER)\nGame Type: Regul
 ar\nGame Status: Complete\nHome Team: Regulators\nAway Team: Silverback Sl
 uggers\nHome Score: 20\nAway Score: 19
END:VEVENT
BEGIN:VEVENT
UID:16978062@ezleagues.ezfacility.com
DTSTAMP:20260424T041437Z
CREATED:20260424T041437Z
DTSTART:20260219T024000Z
DTEND:20260219T033000Z
LOCATION:Field 3
CONTACT:
SUMMARY:Regulators VS. Fallbrook Avocado Gobblers
DESCRIPTION:League Name: Men's Softball Winter 26 (LOWER)\nGame Type: Regul
 ar\nGame Status: Complete\nHome Team: Regulators\nAway Team: Fallbrook Avo
 cado Gobblers\nHome Score: 10\nAway Score: 22
END:VEVENT
BEGIN:VEVENT
UID:16978064@ezleagues.ezfacility.com
DTSTAMP:20260424T041437Z
CREATED:20260424T041437Z
DTSTART:20260226T035000Z
DTEND:20260226T044000Z
LOCATION:Field 2
CONTACT:
SUMMARY:Cantina Crushers VS. Regulators
DESCRIPTION:League Name: Men's Softball Winter 26 (LOWER)\nGame Type: Regul
 ar\nGame Status: Complete\nHome Team: Cantina Crushers\nAway Team: Regulat
 ors\nHome Score: 5\nAway Score: 11
END:VEVENT
BEGIN:VEVENT
UID:16978068@ezleagues.ezfacility.com
DTSTAMP:20260424T041437Z
CREATED:20260424T041437Z
DTSTART:20260305T050000Z
DTEND:20260305T055000Z
LOCATION:Field 2
CONTACT:
SUMMARY:Regulators VS. No Mames Gueys
DESCRIPTION:League Name: Men's Softball Winter 26 (LOWER)\nGame Type: Regul
 ar\nGame Status: Complete\nHome Team: Regulators\nAway Team: No Mames Guey
 s\nHome Score: 13\nAway Score: 9
END:VEVENT
BEGIN:VEVENT
UID:16978072@ezleagues.ezfacility.com
DTSTAMP:20260424T041437Z
CREATED:20260424T041437Z
DTSTART:20260312T040000Z
DTEND:20260312T045000Z
LOCATION:Field 3
CONTACT:
SUMMARY:Regulators VS. Misfits
DESCRIPTION:League Name: Men's Softball Winter 26 (LOWER)\nGame Type: Regul
 ar\nGame Status: Complete\nHome Team: Regulators\nAway Team: Misfits\nHome
  Score: 5\nAway Score: 17
END:VEVENT
BEGIN:VEVENT
UID:16978075@ezleagues.ezfacility.com
DTSTAMP:20260424T041437Z
CREATED:20260424T041437Z
DTSTART:20260319T025000Z
DTEND:20260319T034000Z
LOCATION:Field 2
CONTACT:
SUMMARY:Silverback Sluggers VS. Regulators
DESCRIPTION:League Name: Men's Softball Winter 26 (LOWER)\nGame Type: Regul
 ar\nGame Status: Complete\nHome Team: Silverback Sluggers\nAway Team: Regu
 lators\nHome Score: 16\nAway Score: 13
END:VEVENT
BEGIN:VEVENT
UID:16978077@ezleagues.ezfacility.com
DTSTAMP:20260424T041437Z
CREATED:20260424T041437Z
DTSTART:20260326T040000Z
DTEND:20260326T045000Z
LOCATION:Field 2
CONTACT:
SUMMARY:Fallbrook Avocado Gobblers VS. Regulators
DESCRIPTION:League Name: Men's Softball Winter 26 (LOWER)\nGame Type: Regul
 ar\nGame Status: Complete\nHome Team: Fallbrook Avocado Gobblers\nAway Tea
 m: Regulators\nHome Score: 20\nAway Score: 5
END:VEVENT
BEGIN:VEVENT
UID:16978079@ezleagues.ezfacility.com
DTSTAMP:20260424T041437Z
CREATED:20260424T041437Z
DTSTART:20260402T040000Z
DTEND:20260402T045000Z
LOCATION:Field 3
CONTACT:
SUMMARY:Regulators VS. Cantina Crushers
DESCRIPTION:League Name: Men's Softball Winter 26 (LOWER)\nGame Type: Regul
 ar\nGame Status: Complete\nHome Team: Regulators\nAway Team: Cantina Crush
 ers\nHome Score: 13\nAway Score: 7
END:VEVENT
BEGIN:VEVENT
UID:17080962@ezleagues.ezfacility.com
DTSTAMP:20260424T041437Z
CREATED:20260424T041437Z
DTSTART:20260409T025000Z
DTEND:20260409T034000Z
LOCATION:Field 2
CONTACT:
SUMMARY:Regulators VS. Silverback Sluggers
DESCRIPTION:League Name: Men's Softball Winter 26 (LOWER)\nGame Type: Posts
 eason\nGame Status: Complete\nHome Team: Regulators\nAway Team: Silverback
  Sluggers\nHome Score: 14\nAway Score: 13
END:VEVENT
BEGIN:VEVENT
UID:17082061@ezleagues.ezfacility.com
DTSTAMP:20260424T041437Z
CREATED:20260424T041437Z
DTSTART:20260409T040000Z
DTEND:20260409T045000Z
LOCATION:Field 2
CONTACT:
SUMMARY:No Mames Gueys VS. Regulators
DESCRIPTION:League Name: Men's Softball Winter 26 (LOWER)\nGame Type: Posts
 eason\nGame Status: Complete\nHome Team: No Mames Gueys\nAway Team: Regula
 tors\nHome Score: 23\nAway Score: 15
END:VEVENT
END:VCALENDAR
