BEGIN:VCALENDAR
VERSION:2.0
PRODID:-//EZFacility.com, Inc.//EZL 2.5.5.28621
BEGIN:VEVENT
UID:16982848@ezleagues.ezfacility.com
DTSTAMP:20260424T041408Z
CREATED:20260424T041408Z
DTSTART:20260208T035000Z
DTEND:20260208T045000Z
LOCATION:RCF East - Barcelona
CONTACT:
SUMMARY:Tornadoes VS. Techy Bosses
DESCRIPTION:League Name: RCF East Winter II AL 2026 - Coed D3 (S/S)\nGame T
 ype: Regular\nGame Status: Complete\nHome Team: Tornadoes\nAway Team: Tech
 y Bosses\nHome Score: 11\nAway Score: 3
END:VEVENT
BEGIN:VEVENT
UID:16982881@ezleagues.ezfacility.com
DTSTAMP:20260424T041408Z
CREATED:20260424T041408Z
DTSTART:20260216T031000Z
DTEND:20260216T041000Z
LOCATION:RCF East - Portland
CONTACT:
SUMMARY:Goal Goal Power Rangers VS. Tornadoes
DESCRIPTION:League Name: RCF East Winter II AL 2026 - Coed D3 (S/S)\nGame T
 ype: Regular\nGame Status: Complete\nHome Team: Goal Goal Power Rangers\nA
 way Team: Tornadoes\nHome Score: 9\nAway Score: 8
END:VEVENT
BEGIN:VEVENT
UID:16982914@ezleagues.ezfacility.com
DTSTAMP:20260424T041408Z
CREATED:20260424T041408Z
DTSTART:20260223T011000Z
DTEND:20260223T021000Z
LOCATION:RCF East - Portland
CONTACT:
SUMMARY:Tornadoes VS. Raging Dandelions
DESCRIPTION:League Name: RCF East Winter II AL 2026 - Coed D3 (S/S)\nGame T
 ype: Regular\nGame Status: Complete\nHome Team: Tornadoes\nAway Team: Ragi
 ng Dandelions\nHome Score: 7\nAway Score: 3
END:VEVENT
BEGIN:VEVENT
UID:16982947@ezleagues.ezfacility.com
DTSTAMP:20260424T041408Z
CREATED:20260424T041408Z
DTSTART:20260302T031000Z
DTEND:20260302T041000Z
LOCATION:RCF East - Portland
CONTACT:
SUMMARY:Tornadoes VS. Bomb Cyclones
DESCRIPTION:League Name: RCF East Winter II AL 2026 - Coed D3 (S/S)\nGame T
 ype: Regular\nGame Status: Complete\nHome Team: Tornadoes\nAway Team: Bomb
  Cyclones\nHome Score: 6\nAway Score: 5
END:VEVENT
BEGIN:VEVENT
UID:16982982@ezleagues.ezfacility.com
DTSTAMP:20260424T041408Z
CREATED:20260424T041408Z
DTSTART:20260309T005000Z
DTEND:20260309T015000Z
LOCATION:RCF East - Barcelona
CONTACT:
SUMMARY:Tornadoes VS. Olivia Rodrigoals
DESCRIPTION:League Name: RCF East Winter II AL 2026 - Coed D3 (S/S)\nGame T
 ype: Regular\nGame Status: Complete\nHome Team: Tornadoes\nAway Team: Oliv
 ia Rodrigoals\nHome Score: 8\nAway Score: 5
END:VEVENT
BEGIN:VEVENT
UID:16983017@ezleagues.ezfacility.com
DTSTAMP:20260424T041408Z
CREATED:20260424T041408Z
DTSTART:20260316T015000Z
DTEND:20260316T025000Z
LOCATION:RCF East - Barcelona
CONTACT:
SUMMARY:Oh My Gatos VS. Tornadoes
DESCRIPTION:League Name: RCF East Winter II AL 2026 - Coed D3 (S/S)\nGame T
 ype: Regular\nGame Status: Complete\nHome Team: Oh My Gatos\nAway Team: To
 rnadoes\nHome Score: 5\nAway Score: 7
END:VEVENT
BEGIN:VEVENT
UID:16983052@ezleagues.ezfacility.com
DTSTAMP:20260424T041408Z
CREATED:20260424T041408Z
DTSTART:20260323T005000Z
DTEND:20260323T015000Z
LOCATION:RCF East - Barcelona
CONTACT:
SUMMARY:Tornadoes VS. Therabandits
DESCRIPTION:League Name: RCF East Winter II AL 2026 - Coed D3 (S/S)\nGame T
 ype: Regular\nGame Status: Complete\nHome Team: Tornadoes\nAway Team: Ther
 abandits\nHome Score: 8\nAway Score: 8
END:VEVENT
BEGIN:VEVENT
UID:16983119@ezleagues.ezfacility.com
DTSTAMP:20260424T041408Z
CREATED:20260424T041408Z
DTSTART:20260406T001000Z
DTEND:20260406T011000Z
LOCATION:RCF East - Portland
CONTACT:
SUMMARY:Goal Goal Power Rangers VS. Tornadoes
DESCRIPTION:League Name: RCF East Winter II AL 2026 - Coed D3 (S/S)\nGame T
 ype: Regular\nGame Status: Complete\nHome Team: Goal Goal Power Rangers\nA
 way Team: Tornadoes\nHome Score: 6\nAway Score: 7
END:VEVENT
BEGIN:VEVENT
UID:16983152@ezleagues.ezfacility.com
DTSTAMP:20260424T041408Z
CREATED:20260424T041408Z
DTSTART:20260413T015000Z
DTEND:20260413T025000Z
LOCATION:RCF East - Barcelona
CONTACT:
SUMMARY:Raging Dandelions VS. Tornadoes
DESCRIPTION:League Name: RCF East Winter II AL 2026 - Coed D3 (S/S)\nGame T
 ype: Regular\nGame Status: Complete\nHome Team: Raging Dandelions\nAway Te
 am: Tornadoes\nHome Score: 3\nAway Score: 3
END:VEVENT
BEGIN:VEVENT
UID:16983086@ezleagues.ezfacility.com
DTSTAMP:20260424T041408Z
CREATED:20260424T041408Z
DTSTART:20260420T013000Z
DTEND:20260420T023000Z
LOCATION:RCF East - Rio
CONTACT:
SUMMARY:Techy Bosses VS. Tornadoes
DESCRIPTION:League Name: RCF East Winter II AL 2026 - Coed D3 (S/S)\nGame T
 ype: Regular\nGame Status: Complete\nHome Team: Techy Bosses\nAway Team: T
 ornadoes\nHome Score: 3\nAway Score: 1
END:VEVENT
END:VCALENDAR
