BEGIN:VCALENDAR
VERSION:2.0
PRODID:-//EZFacility.com, Inc.//EZL 2.5.5.28621
BEGIN:VEVENT
UID:16982836@ezleagues.ezfacility.com
DTSTAMP:20260424T041504Z
CREATED:20260424T041504Z
DTSTART:20260209T025000Z
DTEND:20260209T035000Z
LOCATION:RCF East - Barcelona
CONTACT:
SUMMARY:Ursa Major FC VS. Tannin Cannons
DESCRIPTION:League Name: RCF East Winter II AL 2026 - Coed D4 Silver (S/S)\
 nGame Type: Regular\nGame Status: Complete\nHome Team: Ursa Major FC\nAway
  Team: Tannin Cannons\nHome Score: 4\nAway Score: 8
END:VEVENT
BEGIN:VEVENT
UID:16982870@ezleagues.ezfacility.com
DTSTAMP:20260424T041504Z
CREATED:20260424T041504Z
DTSTART:20260215T041000Z
DTEND:20260215T051000Z
LOCATION:RCF East - Portland
CONTACT:
SUMMARY:Tannin Cannons VS. CT Depoe Bay 
DESCRIPTION:League Name: RCF East Winter II AL 2026 - Coed D4 Silver (S/S)\
 nGame Type: Regular\nGame Status: Complete\nHome Team: Tannin Cannons\nAwa
 y Team: CT Depoe Bay \nHome Score: 2\nAway Score: 9
END:VEVENT
BEGIN:VEVENT
UID:16982903@ezleagues.ezfacility.com
DTSTAMP:20260424T041504Z
CREATED:20260424T041504Z
DTSTART:20260222T055000Z
DTEND:20260222T065000Z
LOCATION:RCF East - Barcelona
CONTACT:
SUMMARY:Tannin Cannons VS. Thistle FC
DESCRIPTION:League Name: RCF East Winter II AL 2026 - Coed D4 Silver (S/S)\
 nGame Type: Regular\nGame Status: Complete\nHome Team: Tannin Cannons\nAwa
 y Team: Thistle FC\nHome Score: 1\nAway Score: 3
END:VEVENT
BEGIN:VEVENT
UID:16982936@ezleagues.ezfacility.com
DTSTAMP:20260424T041504Z
CREATED:20260424T041504Z
DTSTART:20260301T043000Z
DTEND:20260301T053000Z
LOCATION:RCF East - Rio
CONTACT:
SUMMARY:Chicken Thunder II VS. Tannin Cannons
DESCRIPTION:League Name: RCF East Winter II AL 2026 - Coed D4 Silver (S/S)\
 nGame Type: Regular\nGame Status: Complete\nHome Team: Chicken Thunder II\
 nAway Team: Tannin Cannons\nHome Score: 2\nAway Score: 8
END:VEVENT
BEGIN:VEVENT
UID:16982971@ezleagues.ezfacility.com
DTSTAMP:20260424T041504Z
CREATED:20260424T041504Z
DTSTART:20260309T013000Z
DTEND:20260309T023000Z
LOCATION:RCF East - Rio
CONTACT:
SUMMARY:Moo Deng FC VS. Tannin Cannons
DESCRIPTION:League Name: RCF East Winter II AL 2026 - Coed D4 Silver (S/S)\
 nGame Type: Regular\nGame Status: Complete\nHome Team: Moo Deng FC\nAway T
 eam: Tannin Cannons\nHome Score: 4\nAway Score: 2
END:VEVENT
BEGIN:VEVENT
UID:16983006@ezleagues.ezfacility.com
DTSTAMP:20260424T041504Z
CREATED:20260424T041504Z
DTSTART:20260316T025000Z
DTEND:20260316T035000Z
LOCATION:RCF East - Barcelona
CONTACT:
SUMMARY:Tannin Cannons VS. Ursa Major FC
DESCRIPTION:League Name: RCF East Winter II AL 2026 - Coed D4 Silver (S/S)\
 nGame Type: Regular\nGame Status: Complete\nHome Team: Tannin Cannons\nAwa
 y Team: Ursa Major FC\nHome Score: 6\nAway Score: 0
END:VEVENT
BEGIN:VEVENT
UID:16983040@ezleagues.ezfacility.com
DTSTAMP:20260424T041504Z
CREATED:20260424T041504Z
DTSTART:20260323T035000Z
DTEND:20260323T045000Z
LOCATION:RCF East - Barcelona
CONTACT:
SUMMARY:CT Depoe Bay  VS. Tannin Cannons
DESCRIPTION:League Name: RCF East Winter II AL 2026 - Coed D4 Silver (S/S)\
 nGame Type: Regular\nGame Status: Complete\nHome Team: CT Depoe Bay \nAway
  Team: Tannin Cannons\nHome Score: 4\nAway Score: 7
END:VEVENT
BEGIN:VEVENT
UID:16983106@ezleagues.ezfacility.com
DTSTAMP:20260424T041504Z
CREATED:20260424T041504Z
DTSTART:20260405T011000Z
DTEND:20260405T021000Z
LOCATION:RCF East - Portland
CONTACT:
SUMMARY:Tannin Cannons VS. Chicken Thunder II
DESCRIPTION:League Name: RCF East Winter II AL 2026 - Coed D4 Silver (S/S)\
 nGame Type: Regular\nGame Status: Complete\nHome Team: Tannin Cannons\nAwa
 y Team: Chicken Thunder II\nHome Score: 7\nAway Score: 4
END:VEVENT
BEGIN:VEVENT
UID:16983141@ezleagues.ezfacility.com
DTSTAMP:20260424T041504Z
CREATED:20260424T041504Z
DTSTART:20260411T231000Z
DTEND:20260412T001000Z
LOCATION:RCF East - Portland
CONTACT:
SUMMARY:Tannin Cannons VS. Moo Deng FC
DESCRIPTION:League Name: RCF East Winter II AL 2026 - Coed D4 Silver (S/S)\
 nGame Type: Regular\nGame Status: Complete\nHome Team: Tannin Cannons\nAwa
 y Team: Moo Deng FC\nHome Score: 6\nAway Score: 4
END:VEVENT
BEGIN:VEVENT
UID:16983073@ezleagues.ezfacility.com
DTSTAMP:20260424T041504Z
CREATED:20260424T041504Z
DTSTART:20260418T233000Z
DTEND:20260419T003000Z
LOCATION:RCF East - Rio
CONTACT:
SUMMARY:Thistle FC VS. Tannin Cannons
DESCRIPTION:League Name: RCF East Winter II AL 2026 - Coed D4 Silver (S/S)\
 nGame Type: Regular\nGame Status: Complete\nHome Team: Thistle FC\nAway Te
 am: Tannin Cannons\nHome Score: 6\nAway Score: 4
END:VEVENT
END:VCALENDAR
