BEGIN:VCALENDAR
VERSION:2.0
PRODID:-//EZFacility.com, Inc.//EZL 2.5.5.28621
BEGIN:VEVENT
UID:16982818@ezleagues.ezfacility.com
DTSTAMP:20260426T035105Z
CREATED:20260426T035105Z
DTSTART:20260208T043000Z
DTEND:20260208T053000Z
LOCATION:RCF East - Rio
CONTACT:
SUMMARY:Twinkle Toes FC VS. Five Guys
DESCRIPTION:League Name: RCF East Winter II AL 2026 - Men's D4 (S/S)\nGame 
 Type: Regular\nGame Status: Complete\nHome Team: Twinkle Toes FC\nAway Tea
 m: Five Guys\nHome Score: 9\nAway Score: 4
END:VEVENT
BEGIN:VEVENT
UID:16982851@ezleagues.ezfacility.com
DTSTAMP:20260426T035105Z
CREATED:20260426T035105Z
DTSTART:20260216T051000Z
DTEND:20260216T061000Z
LOCATION:RCF East - Portland
CONTACT:
SUMMARY:B Boys FC  VS. Twinkle Toes FC
DESCRIPTION:League Name: RCF East Winter II AL 2026 - Men's D4 (S/S)\nGame 
 Type: Regular\nGame Status: Complete\nHome Team: B Boys FC \nAway Team: Tw
 inkle Toes FC\nHome Score: 1\nAway Score: 8
END:VEVENT
BEGIN:VEVENT
UID:16982884@ezleagues.ezfacility.com
DTSTAMP:20260426T035105Z
CREATED:20260426T035105Z
DTSTART:20260223T015000Z
DTEND:20260223T025000Z
LOCATION:RCF East - Barcelona
CONTACT:
SUMMARY:Twinkle Toes FC VS. CT Twin Harbors
DESCRIPTION:League Name: RCF East Winter II AL 2026 - Men's D4 (S/S)\nGame 
 Type: Regular\nGame Status: Complete\nHome Team: Twinkle Toes FC\nAway Tea
 m: CT Twin Harbors\nHome Score: 7\nAway Score: 0
END:VEVENT
BEGIN:VEVENT
UID:16982917@ezleagues.ezfacility.com
DTSTAMP:20260426T035105Z
CREATED:20260426T035105Z
DTSTART:20260301T051000Z
DTEND:20260301T061000Z
LOCATION:RCF East - Portland
CONTACT:
SUMMARY:Twinkle Toes FC VS. Awful Ibis 
DESCRIPTION:League Name: RCF East Winter II AL 2026 - Men's D4 (S/S)\nGame 
 Type: Regular\nGame Status: Complete\nHome Team: Twinkle Toes FC\nAway Tea
 m: Awful Ibis \nHome Score: 9\nAway Score: 2
END:VEVENT
BEGIN:VEVENT
UID:16982952@ezleagues.ezfacility.com
DTSTAMP:20260426T035105Z
CREATED:20260426T035105Z
DTSTART:20260309T003000Z
DTEND:20260309T013000Z
LOCATION:RCF East - Rio
CONTACT:
SUMMARY:Twinkle Toes FC VS. City Boys
DESCRIPTION:League Name: RCF East Winter II AL 2026 - Men's D4 (S/S)\nGame 
 Type: Regular\nGame Status: Pending\nHome Team: Twinkle Toes FC\nAway Team
 : City Boys\n
END:VEVENT
BEGIN:VEVENT
UID:16982987@ezleagues.ezfacility.com
DTSTAMP:20260426T035105Z
CREATED:20260426T035105Z
DTSTART:20260316T045000Z
DTEND:20260316T055000Z
LOCATION:RCF East - Barcelona
CONTACT:
SUMMARY:Ballerz VS. Twinkle Toes FC
DESCRIPTION:League Name: RCF East Winter II AL 2026 - Men's D4 (S/S)\nGame 
 Type: Regular\nGame Status: Complete\nHome Team: Ballerz\nAway Team: Twink
 le Toes FC\nHome Score: 6\nAway Score: 5
END:VEVENT
BEGIN:VEVENT
UID:16983022@ezleagues.ezfacility.com
DTSTAMP:20260426T035105Z
CREATED:20260426T035105Z
DTSTART:20260322T033000Z
DTEND:20260322T043000Z
LOCATION:RCF East - Rio
CONTACT:
SUMMARY:Twinkle Toes FC VS. Montavillains FC
DESCRIPTION:League Name: RCF East Winter II AL 2026 - Men's D4 (S/S)\nGame 
 Type: Regular\nGame Status: Complete\nHome Team: Twinkle Toes FC\nAway Tea
 m: Montavillains FC\nHome Score: 12\nAway Score: 6
END:VEVENT
BEGIN:VEVENT
UID:16983089@ezleagues.ezfacility.com
DTSTAMP:20260426T035105Z
CREATED:20260426T035105Z
DTSTART:20260404T233000Z
DTEND:20260405T003000Z
LOCATION:RCF East - Rio
CONTACT:
SUMMARY:B Boys FC  VS. Twinkle Toes FC
DESCRIPTION:League Name: RCF East Winter II AL 2026 - Men's D4 (S/S)\nGame 
 Type: Regular\nGame Status: Complete\nHome Team: B Boys FC \nAway Team: Tw
 inkle Toes FC\nHome Score: 7\nAway Score: 6
END:VEVENT
BEGIN:VEVENT
UID:16983122@ezleagues.ezfacility.com
DTSTAMP:20260426T035105Z
CREATED:20260426T035105Z
DTSTART:20260412T231000Z
DTEND:20260413T001000Z
LOCATION:RCF East - Portland
CONTACT:
SUMMARY:CT Twin Harbors VS. Twinkle Toes FC
DESCRIPTION:League Name: RCF East Winter II AL 2026 - Men's D4 (S/S)\nGame 
 Type: Regular\nGame Status: Complete\nHome Team: CT Twin Harbors\nAway Tea
 m: Twinkle Toes FC\nHome Score: 5\nAway Score: 7
END:VEVENT
BEGIN:VEVENT
UID:16983056@ezleagues.ezfacility.com
DTSTAMP:20260426T035105Z
CREATED:20260426T035105Z
DTSTART:20260420T021000Z
DTEND:20260420T031000Z
LOCATION:RCF East - Portland
CONTACT:
SUMMARY:Five Guys VS. Twinkle Toes FC
DESCRIPTION:League Name: RCF East Winter II AL 2026 - Men's D4 (S/S)\nGame 
 Type: Regular\nGame Status: Complete\nHome Team: Five Guys\nAway Team: Twi
 nkle Toes FC\nHome Score: 4\nAway Score: 9
END:VEVENT
END:VCALENDAR
