BEGIN:VCALENDAR
VERSION:2.0
PRODID:-//EZFacility.com, Inc.//EZL 2.5.5.28621
BEGIN:VEVENT
UID:16977638@ezleagues.ezfacility.com
DTSTAMP:20260426T034055Z
CREATED:20260426T034055Z
DTSTART:20260128T055500Z
DTEND:20260128T064300Z
LOCATION:Field 2
CONTACT:
SUMMARY:Las Palmas VS. Barca
DESCRIPTION:League Name: Men's Over 35 League 2\nGame Type: Regular\nGame S
 tatus: Complete\nHome Team: Las Palmas\nAway Team: Barca\nHome Score: 4\nA
 way Score: 2
END:VEVENT
BEGIN:VEVENT
UID:16977643@ezleagues.ezfacility.com
DTSTAMP:20260426T034055Z
CREATED:20260426T034055Z
DTSTART:20260204T055500Z
DTEND:20260204T064300Z
LOCATION:Field 1
CONTACT:
SUMMARY:Los Pandas VS. Las Palmas
DESCRIPTION:League Name: Men's Over 35 League 2\nGame Type: Regular\nGame S
 tatus: Complete\nHome Team: Los Pandas\nAway Team: Las Palmas\nHome Score:
  7\nAway Score: 3
END:VEVENT
BEGIN:VEVENT
UID:16977647@ezleagues.ezfacility.com
DTSTAMP:20260426T034055Z
CREATED:20260426T034055Z
DTSTART:20260211T020000Z
DTEND:20260211T024800Z
LOCATION:Field 2
CONTACT:
SUMMARY:Barrios VS. Las Palmas
DESCRIPTION:League Name: Men's Over 35 League 2\nGame Type: Regular\nGame S
 tatus: Complete\nHome Team: Barrios\nAway Team: Las Palmas\nHome Score: 5\
 nAway Score: 1
END:VEVENT
BEGIN:VEVENT
UID:16977651@ezleagues.ezfacility.com
DTSTAMP:20260426T034055Z
CREATED:20260426T034055Z
DTSTART:20260218T050000Z
DTEND:20260218T054800Z
LOCATION:Field 1
CONTACT:
SUMMARY:Los Tigres VS. Las Palmas
DESCRIPTION:League Name: Men's Over 35 League 2\nGame Type: Regular\nGame S
 tatus: Complete\nHome Team: Los Tigres\nAway Team: Las Palmas\nHome Score:
  2\nAway Score: 4
END:VEVENT
BEGIN:VEVENT
UID:16977655@ezleagues.ezfacility.com
DTSTAMP:20260426T034055Z
CREATED:20260426T034055Z
DTSTART:20260225T040000Z
DTEND:20260225T044800Z
LOCATION:Field 2
CONTACT:
SUMMARY:Cotija DDU VS. Las Palmas
DESCRIPTION:League Name: Men's Over 35 League 2\nGame Type: Regular\nGame S
 tatus: Complete\nHome Team: Cotija DDU\nAway Team: Las Palmas\nHome Score:
  7\nAway Score: 0
END:VEVENT
BEGIN:VEVENT
UID:16977659@ezleagues.ezfacility.com
DTSTAMP:20260426T034055Z
CREATED:20260426T034055Z
DTSTART:20260304T020000Z
DTEND:20260304T024800Z
LOCATION:Field 2
CONTACT:
SUMMARY:Las Palmas VS. Artilleros
DESCRIPTION:League Name: Men's Over 35 League 2\nGame Type: Regular\nGame S
 tatus: Complete\nHome Team: Las Palmas\nAway Team: Artilleros\nHome Score:
  3\nAway Score: 3
END:VEVENT
BEGIN:VEVENT
UID:16977665@ezleagues.ezfacility.com
DTSTAMP:20260426T034055Z
CREATED:20260426T034055Z
DTSTART:20260311T020000Z
DTEND:20260311T024800Z
LOCATION:Field 2
CONTACT:
SUMMARY:Las Palmas VS. Benfica
DESCRIPTION:League Name: Men's Over 35 League 2\nGame Type: Regular\nGame S
 tatus: Complete\nHome Team: Las Palmas\nAway Team: Benfica\nHome Score: 6\
 nAway Score: 4
END:VEVENT
BEGIN:VEVENT
UID:16977671@ezleagues.ezfacility.com
DTSTAMP:20260426T034055Z
CREATED:20260426T034055Z
DTSTART:20260318T020000Z
DTEND:20260318T024800Z
LOCATION:Field 2
CONTACT:
SUMMARY:Las Palmas VS. A and S Auto
DESCRIPTION:League Name: Men's Over 35 League 2\nGame Type: Regular\nGame S
 tatus: Complete\nHome Team: Las Palmas\nAway Team: A and S Auto\nHome Scor
 e: 4\nAway Score: 7
END:VEVENT
END:VCALENDAR
