BEGIN:VCALENDAR
VERSION:2.0
PRODID:-//EZFacility.com, Inc.//EZL 2.5.5.28621
BEGIN:VEVENT
UID:16978112@ezleagues.ezfacility.com
DTSTAMP:20260426T033558Z
CREATED:20260426T033558Z
DTSTART:20260129T020500Z
DTEND:20260129T030500Z
LOCATION:PFFC Dome - 2
CONTACT:
SUMMARY:Spartans FC VS. FM FC
DESCRIPTION:League Name: MSL Winter 2026 - Wed/Thurs Men's First Games\nGam
 e Type: Regular\nGame Status: Complete\nHome Team: Spartans FC\nAway Team:
  FM FC\nHome Score: 5\nAway Score: 10
END:VEVENT
BEGIN:VEVENT
UID:16999175@ezleagues.ezfacility.com
DTSTAMP:20260426T033558Z
CREATED:20260426T033558Z
DTSTART:20260206T030000Z
DTEND:20260206T040000Z
LOCATION:PFFC Field House - C
CONTACT:
SUMMARY:The Bacalhau Boys  VS. FM FC
DESCRIPTION:League Name: MSL Winter 2026 - Wed/Thurs Men's First Games\nGam
 e Type: Regular\nGame Status: Complete\nHome Team: The Bacalhau Boys \nAw
 ay Team: FM FC\nHome Score: 3\nAway Score: 3
END:VEVENT
END:VCALENDAR
