BEGIN:VCALENDAR
VERSION:2.0
PRODID:-//EZFacility.com, Inc.//EZL 2.5.5.28621
BEGIN:VEVENT
UID:16983169@ezleagues.ezfacility.com
DTSTAMP:20260424T041439Z
CREATED:20260424T041439Z
DTSTART:20260211T035000Z
DTEND:20260211T045000Z
LOCATION:RCF West - Tigard
CONTACT:
SUMMARY:CT Cape Kiwanda VS. Gripsholm Lions 
DESCRIPTION:League Name: RCF West Winter II AL 2026 - Coed D5 (T/F)\nGame T
 ype: Regular\nGame Status: Complete\nHome Team: CT Cape Kiwanda\nAway Team
 : Gripsholm Lions \nHome Score: 4\nAway Score: 3
END:VEVENT
BEGIN:VEVENT
UID:16983183@ezleagues.ezfacility.com
DTSTAMP:20260424T041439Z
CREATED:20260424T041439Z
DTSTART:20260218T035000Z
DTEND:20260218T045000Z
LOCATION:RCF West - Tigard
CONTACT:
SUMMARY:CT Cape Kiwanda VS. Qi Ballers
DESCRIPTION:League Name: RCF West Winter II AL 2026 - Coed D5 (T/F)\nGame T
 ype: Regular\nGame Status: Complete\nHome Team: CT Cape Kiwanda\nAway Team
 : Qi Ballers\nHome Score: 3\nAway Score: 7
END:VEVENT
BEGIN:VEVENT
UID:16983197@ezleagues.ezfacility.com
DTSTAMP:20260424T041439Z
CREATED:20260424T041439Z
DTSTART:20260225T053000Z
DTEND:20260225T063000Z
LOCATION:RCF West - Montevideo
CONTACT:
SUMMARY:CT Cape Kiwanda VS. Fumbuzzles
DESCRIPTION:League Name: RCF West Winter II AL 2026 - Coed D5 (T/F)\nGame T
 ype: Regular\nGame Status: Complete\nHome Team: CT Cape Kiwanda\nAway Team
 : Fumbuzzles\nHome Score: 1\nAway Score: 8
END:VEVENT
BEGIN:VEVENT
UID:16983196@ezleagues.ezfacility.com
DTSTAMP:20260424T041439Z
CREATED:20260424T041439Z
DTSTART:20260228T035000Z
DTEND:20260228T045000Z
LOCATION:RCF West - Tigard
CONTACT:
SUMMARY:CT Cape Kiwanda VS. Pints  Pass FC
DESCRIPTION:League Name: RCF West Winter II AL 2026 - Coed D5 (T/F)\nGame T
 ype: Regular\nGame Status: Complete\nHome Team: CT Cape Kiwanda\nAway Team
 : Pints  Pass FC\nHome Score: 1\nAway Score: 5
END:VEVENT
BEGIN:VEVENT
UID:16983211@ezleagues.ezfacility.com
DTSTAMP:20260424T041439Z
CREATED:20260424T041439Z
DTSTART:20260304T035000Z
DTEND:20260304T045000Z
LOCATION:RCF West - Tigard
CONTACT:
SUMMARY:CT Cape Kiwanda VS. Creaky Knees FC
DESCRIPTION:League Name: RCF West Winter II AL 2026 - Coed D5 (T/F)\nGame T
 ype: Regular\nGame Status: Complete\nHome Team: CT Cape Kiwanda\nAway Team
 : Creaky Knees FC\nHome Score: 2\nAway Score: 4
END:VEVENT
BEGIN:VEVENT
UID:16983224@ezleagues.ezfacility.com
DTSTAMP:20260424T041439Z
CREATED:20260424T041439Z
DTSTART:20260314T043000Z
DTEND:20260314T053000Z
LOCATION:RCF West - Montevideo
CONTACT:
SUMMARY:CT La Push  VS. CT Cape Kiwanda
DESCRIPTION:League Name: RCF West Winter II AL 2026 - Coed D5 (T/F)\nGame T
 ype: Regular\nGame Status: Complete\nHome Team: CT La Push \nAway Team: CT
  Cape Kiwanda\nHome Score: 10\nAway Score: 6
END:VEVENT
BEGIN:VEVENT
UID:16983236@ezleagues.ezfacility.com
DTSTAMP:20260424T041439Z
CREATED:20260424T041439Z
DTSTART:20260318T035000Z
DTEND:20260318T045000Z
LOCATION:RCF West - Tigard
CONTACT:
SUMMARY:Plethora of Pinatas VS. CT Cape Kiwanda
DESCRIPTION:League Name: RCF West Winter II AL 2026 - Coed D5 (T/F)\nGame T
 ype: Regular\nGame Status: Complete\nHome Team: Plethora of Pinatas\nAway 
 Team: CT Cape Kiwanda\nHome Score: 9\nAway Score: 3
END:VEVENT
BEGIN:VEVENT
UID:16983260@ezleagues.ezfacility.com
DTSTAMP:20260424T041439Z
CREATED:20260424T041439Z
DTSTART:20260401T041000Z
DTEND:20260401T051000Z
LOCATION:RCF West - Buenos Aires
CONTACT:
SUMMARY:CT La Push  VS. CT Cape Kiwanda
DESCRIPTION:League Name: RCF West Winter II AL 2026 - Coed D5 (T/F)\nGame T
 ype: Regular\nGame Status: Complete\nHome Team: CT La Push \nAway Team: CT
  Cape Kiwanda\nHome Score: 10\nAway Score: 3
END:VEVENT
BEGIN:VEVENT
UID:16983272@ezleagues.ezfacility.com
DTSTAMP:20260424T041439Z
CREATED:20260424T041439Z
DTSTART:20260408T031000Z
DTEND:20260408T041000Z
LOCATION:RCF West - Buenos Aires
CONTACT:
SUMMARY:CT Cape Kiwanda VS. Bumfuzzles
DESCRIPTION:League Name: RCF West Winter II AL 2026 - Coed D5 (T/F)\nGame T
 ype: Regular\nGame Status: Complete\nHome Team: CT Cape Kiwanda\nAway Team
 : Bumfuzzles\nHome Score: 4\nAway Score: 6
END:VEVENT
BEGIN:VEVENT
UID:16983248@ezleagues.ezfacility.com
DTSTAMP:20260424T041439Z
CREATED:20260424T041439Z
DTSTART:20260415T023000Z
DTEND:20260415T033000Z
LOCATION:RCF West - Montevideo
CONTACT:
SUMMARY:Pints  Pass FC VS. CT Cape Kiwanda
DESCRIPTION:League Name: RCF West Winter II AL 2026 - Coed D5 (T/F)\nGame T
 ype: Regular\nGame Status: Complete\nHome Team: Pints  Pass FC\nAway Team:
  CT Cape Kiwanda\nHome Score: 10\nAway Score: 4
END:VEVENT
END:VCALENDAR
