BEGIN:VCALENDAR
VERSION:2.0
PRODID:-//EZFacility.com, Inc.//EZL 2.5.5.28621
BEGIN:VEVENT
UID:16979300@ezleagues.ezfacility.com
DTSTAMP:20260426T033637Z
CREATED:20260426T033637Z
DTSTART:20260126T001500Z
DTEND:20260126T010000Z
LOCATION:Field 4
CONTACT:
SUMMARY:Yurrira VS. Nemesis 
DESCRIPTION:League Name: 2026 GSA YISL 2014 2nd Session\nGame Type: Regular
 \nGame Status: Complete\nHome Team: Yurrira\nAway Team: Nemesis \nHome Sco
 re: 4\nAway Score: 2
END:VEVENT
BEGIN:VEVENT
UID:16988775@ezleagues.ezfacility.com
DTSTAMP:20260426T033637Z
CREATED:20260426T033637Z
DTSTART:20260201T211500Z
DTEND:20260201T220000Z
LOCATION:Field 4
CONTACT:
SUMMARY:GFCM White VS. Nemesis 
DESCRIPTION:League Name: 2026 GSA YISL 2014 2nd Session\nGame Type: Regular
 \nGame Status: Complete\nHome Team: GFCM White\nAway Team: Nemesis \nHome 
 Score: 3\nAway Score: 1
END:VEVENT
BEGIN:VEVENT
UID:17001440@ezleagues.ezfacility.com
DTSTAMP:20260426T033637Z
CREATED:20260426T033637Z
DTSTART:20260208T181500Z
DTEND:20260208T190000Z
LOCATION:Field 4
CONTACT:
SUMMARY:Real Cerezo  VS. Nemesis 
DESCRIPTION:League Name: 2026 GSA YISL 2014 2nd Session\nGame Type: Regular
 \nGame Status: Complete\nHome Team: Real Cerezo \nAway Team: Nemesis \nHom
 e Score: 3\nAway Score: 5
END:VEVENT
BEGIN:VEVENT
UID:17017000@ezleagues.ezfacility.com
DTSTAMP:20260426T033637Z
CREATED:20260426T033637Z
DTSTART:20260215T220000Z
DTEND:20260215T224500Z
LOCATION:Field 4
CONTACT:
SUMMARY:Union FC VS. Nemesis 
DESCRIPTION:League Name: 2026 GSA YISL 2014 2nd Session\nGame Type: Regular
 \nGame Status: Complete\nHome Team: Union FC\nAway Team: Nemesis \nHome Sc
 ore: 0\nAway Score: 6
END:VEVENT
BEGIN:VEVENT
UID:17025837@ezleagues.ezfacility.com
DTSTAMP:20260426T033637Z
CREATED:20260426T033637Z
DTSTART:20260222T211500Z
DTEND:20260222T220000Z
LOCATION:Field 4
CONTACT:
SUMMARY:GFC Atomo  VS. Nemesis 
DESCRIPTION:League Name: 2026 GSA YISL 2014 2nd Session\nGame Type: Regular
 \nGame Status: Complete\nHome Team: GFC Atomo \nAway Team: Nemesis \nHome 
 Score: 5\nAway Score: 2
END:VEVENT
BEGIN:VEVENT
UID:17035189@ezleagues.ezfacility.com
DTSTAMP:20260426T033637Z
CREATED:20260426T033637Z
DTSTART:20260301T181500Z
DTEND:20260301T190000Z
LOCATION:Field 4
CONTACT:
SUMMARY:GFCM White VS. Nemesis 
DESCRIPTION:League Name: 2026 GSA YISL 2014 2nd Session\nGame Type: Regular
 \nGame Status: Complete\nHome Team: GFCM White\nAway Team: Nemesis \nHome 
 Score: 3\nAway Score: 6
END:VEVENT
BEGIN:VEVENT
UID:17044657@ezleagues.ezfacility.com
DTSTAMP:20260426T033637Z
CREATED:20260426T033637Z
DTSTART:20260308T184500Z
DTEND:20260308T193000Z
LOCATION:Field 4
CONTACT:
SUMMARY:Real Cerezo  VS. Nemesis 
DESCRIPTION:League Name: 2026 GSA YISL 2014 2nd Session\nGame Type: Regular
 \nGame Status: Complete\nHome Team: Real Cerezo \nAway Team: Nemesis \nHom
 e Score: 5\nAway Score: 2
END:VEVENT
BEGIN:VEVENT
UID:17052159@ezleagues.ezfacility.com
DTSTAMP:20260426T033637Z
CREATED:20260426T033637Z
DTSTART:20260315T163000Z
DTEND:20260315T171500Z
LOCATION:Field 4
CONTACT:
SUMMARY:Union FC VS. Nemesis 
DESCRIPTION:League Name: 2026 GSA YISL 2014 2nd Session\nGame Type: Regular
 \nGame Status: Complete\nHome Team: Union FC\nAway Team: Nemesis \nHome Sc
 ore: 3\nAway Score: 7
END:VEVENT
BEGIN:VEVENT
UID:17071960@ezleagues.ezfacility.com
DTSTAMP:20260426T033637Z
CREATED:20260426T033637Z
DTSTART:20260329T180000Z
DTEND:20260329T184500Z
LOCATION:Field 4
CONTACT:
SUMMARY:GFC Atomo  VS. Nemesis 
DESCRIPTION:League Name: 2026 GSA YISL 2014 2nd Session\nGame Type: Postsea
 son\nGame Status: Complete\nHome Team: GFC Atomo \nAway Team: Nemesis \nHo
 me Score: 12\nAway Score: 1
END:VEVENT
END:VCALENDAR
