BEGIN:VCALENDAR
VERSION:2.0
PRODID:-//EZFacility.com, Inc.//EZL 2.5.5.28621
BEGIN:VEVENT
UID:16980065@ezleagues.ezfacility.com
DTSTAMP:20260426T033542Z
CREATED:20260426T033542Z
DTSTART:20260208T231000Z
DTEND:20260209T000000Z
LOCATION:Eagles1 Second Field
CONTACT:
SUMMARY:Fifa VS. Juve
DESCRIPTION:League Name: Sunday Coed \nGame Type: Regular\nGame Status: Com
 plete\nHome Team: Fifa\nAway Team: Juve\nHome Score: 3\nAway Score: 11
END:VEVENT
BEGIN:VEVENT
UID:16980070@ezleagues.ezfacility.com
DTSTAMP:20260426T033542Z
CREATED:20260426T033542Z
DTSTART:20260216T000000Z
DTEND:20260216T005000Z
LOCATION:Eagles1 Second Field
CONTACT:
SUMMARY:Fifa VS. TikTokeras
DESCRIPTION:League Name: Sunday Coed \nGame Type: Regular\nGame Status: Com
 plete\nHome Team: Fifa\nAway Team: TikTokeras\nHome Score: 2\nAway Score: 
 3
END:VEVENT
BEGIN:VEVENT
UID:16980074@ezleagues.ezfacility.com
DTSTAMP:20260426T033542Z
CREATED:20260426T033542Z
DTSTART:20260222T222000Z
DTEND:20260222T231000Z
LOCATION:Eagles1 Second Field
CONTACT:
SUMMARY:Spartanos VS. Fifa
DESCRIPTION:League Name: Sunday Coed \nGame Type: Regular\nGame Status: Com
 plete\nHome Team: Spartanos\nAway Team: Fifa\nHome Score: 5\nAway Score: 2
END:VEVENT
BEGIN:VEVENT
UID:16980077@ezleagues.ezfacility.com
DTSTAMP:20260426T033542Z
CREATED:20260426T033542Z
DTSTART:20260302T000000Z
DTEND:20260302T005000Z
LOCATION:Eagles1 Second Field
CONTACT:
SUMMARY:Galaxy VS. Fifa
DESCRIPTION:League Name: Sunday Coed \nGame Type: Regular\nGame Status: Com
 plete\nHome Team: Galaxy\nAway Team: Fifa\nHome Score: 3\nAway Score: 2
END:VEVENT
BEGIN:VEVENT
UID:16980080@ezleagues.ezfacility.com
DTSTAMP:20260426T033542Z
CREATED:20260426T033542Z
DTSTART:20260308T221000Z
DTEND:20260308T230000Z
LOCATION:Eagles1 Second Field
CONTACT:
SUMMARY:Lupita VS. Fifa
DESCRIPTION:League Name: Sunday Coed \nGame Type: Regular\nGame Status: Com
 plete\nHome Team: Lupita\nAway Team: Fifa\nHome Score: 1\nAway Score: 1
END:VEVENT
BEGIN:VEVENT
UID:17049928@ezleagues.ezfacility.com
DTSTAMP:20260426T033542Z
CREATED:20260426T033542Z
DTSTART:20260308T233000Z
DTEND:20260309T002000Z
LOCATION:Eagles1 Main Field
CONTACT:
SUMMARY:Fifa VS. TikTokeras
DESCRIPTION:League Name: Sunday Coed \nGame Type: Regular\nGame Status: Com
 plete\nHome Team: Fifa\nAway Team: TikTokeras\nHome Score: 0\nAway Score: 
 2
END:VEVENT
BEGIN:VEVENT
UID:17060578@ezleagues.ezfacility.com
DTSTAMP:20260426T033542Z
CREATED:20260426T033542Z
DTSTART:20260316T002000Z
DTEND:20260316T011000Z
LOCATION:Eagles1 Main Field
CONTACT:
SUMMARY:Fifa VS. TikTokeras
DESCRIPTION:League Name: Sunday Coed \nGame Type: Regular\nGame Status: Com
 plete\nHome Team: Fifa\nAway Team: TikTokeras\nHome Score: 2\nAway Score: 
 3
END:VEVENT
BEGIN:VEVENT
UID:17069669@ezleagues.ezfacility.com
DTSTAMP:20260426T033542Z
CREATED:20260426T033542Z
DTSTART:20260323T021000Z
DTEND:20260323T030000Z
LOCATION:Eagles1 Main Field
CONTACT:
SUMMARY:Fifa VS. Galaxy
DESCRIPTION:League Name: Sunday Coed \nGame Type: Regular\nGame Status: Com
 plete\nHome Team: Fifa\nAway Team: Galaxy\nHome Score: 1\nAway Score: 3
END:VEVENT
BEGIN:VEVENT
UID:17077181@ezleagues.ezfacility.com
DTSTAMP:20260426T033542Z
CREATED:20260426T033542Z
DTSTART:20260330T002000Z
DTEND:20260330T011000Z
LOCATION:Eagles1 Main Field
CONTACT:
SUMMARY:Juve VS. Fifa
DESCRIPTION:League Name: Sunday Coed \nGame Type: Regular\nGame Status: Com
 plete\nHome Team: Juve\nAway Team: Fifa\nHome Score: 4\nAway Score: 2
END:VEVENT
BEGIN:VEVENT
UID:17085225@ezleagues.ezfacility.com
DTSTAMP:20260426T033542Z
CREATED:20260426T033542Z
DTSTART:20260405T233000Z
DTEND:20260406T002000Z
LOCATION:Eagles1 Main Field
CONTACT:
SUMMARY:Fifa VS. Sara
DESCRIPTION:League Name: Sunday Coed \nGame Type: Regular\nGame Status: Com
 plete\nHome Team: Fifa\nAway Team: Sara\nHome Score: 2\nAway Score: 4
END:VEVENT
BEGIN:VEVENT
UID:17096777@ezleagues.ezfacility.com
DTSTAMP:20260426T033542Z
CREATED:20260426T033542Z
DTSTART:20260413T011000Z
DTEND:20260413T020000Z
LOCATION:Eagles1 Main Field
CONTACT:
SUMMARY:Fifa VS. Galaxy
DESCRIPTION:League Name: Sunday Coed \nGame Type: Regular\nGame Status: Com
 plete\nHome Team: Fifa\nAway Team: Galaxy\nHome Score: 1\nAway Score: 5
END:VEVENT
END:VCALENDAR
