BEGIN:VCALENDAR
VERSION:2.0
PRODID:-//EZFacility.com, Inc.//EZL 2.5.5.28621
BEGIN:VEVENT
UID:17079266@ezleagues.ezfacility.com
DTSTAMP:20260426T033756Z
CREATED:20260426T033756Z
DTSTART:20260408T003000Z
DTEND:20260408T013000Z
LOCATION:SA Indoor Field
CONTACT:
SUMMARY:DIABLOS B.B.Q FC VS. SAN LUIS FC
DESCRIPTION:League Name: Martes Tuesday 3ra Division\nGame Type: Postseason
 \nGame Status: Complete\nHome Team: DIABLOS B.B.Q FC\nAway Team: SAN LUIS 
 FC\nHome Score: 4\nAway Score: 2
END:VEVENT
BEGIN:VEVENT
UID:17097307@ezleagues.ezfacility.com
DTSTAMP:20260426T033756Z
CREATED:20260426T033756Z
DTSTART:20260422T003000Z
DTEND:20260422T013000Z
LOCATION:SA Indoor Field
CONTACT:
SUMMARY:DIABLOS B.B.Q FC VS. Aguilas FC
DESCRIPTION:League Name: Martes Tuesday 3ra Division\nGame Type: Postseason
 \nGame Status: Complete\nHome Team: DIABLOS B.B.Q FC\nAway Team: Aguilas F
 C\nHome Score: 6\nAway Score: 4
END:VEVENT
BEGIN:VEVENT
UID:17105204@ezleagues.ezfacility.com
DTSTAMP:20260426T033756Z
CREATED:20260426T033756Z
DTSTART:20260429T003000Z
DTEND:20260429T013000Z
LOCATION:SA Indoor Field
CONTACT:
SUMMARY:DIABLOS B.B.Q FC VS. ATLANTA FC 
DESCRIPTION:League Name: Martes Tuesday 3ra Division\nGame Type: Regular\nG
 ame Status: Pending\nHome Team: DIABLOS B.B.Q FC\nAway Team: ATLANTA FC \n
END:VEVENT
END:VCALENDAR
